BEGIN:VCALENDAR
VERSION:2.0
PRODID:-//Ludwig van Toronto - ECPv5.9.1//NONSGML v1.0//EN
CALSCALE:GREGORIAN
METHOD:PUBLISH
X-WR-CALNAME:Ludwig van Toronto
X-ORIGINAL-URL:https://www.ludwig-van.com/toronto
X-WR-CALDESC:Events for Ludwig van Toronto
BEGIN:VTIMEZONE
TZID:America/Toronto
BEGIN:DAYLIGHT
TZOFFSETFROM:-0500
TZOFFSETTO:-0400
TZNAME:EDT
DTSTART:20200308T070000
END:DAYLIGHT
BEGIN:STANDARD
TZOFFSETFROM:-0400
TZOFFSETTO:-0500
TZNAME:EST
DTSTART:20201101T060000
END:STANDARD
END:VTIMEZONE
BEGIN:VEVENT
DTSTART;TZID=America/Toronto:20200222T110000
DTEND;TZID=America/Toronto:20200222T120000
DTSTAMP:20260419T150831
CREATED:20200217T142206Z
LAST-MODIFIED:20200217T142206Z
UID:66598-1582369200-1582372800@www.ludwig-van.com
SUMMARY:Toronto Symphony Orchestra | Relaxed Performance: The Composer Is Dead
DESCRIPTION:Calling all sneaky sleuths and would-be detectives! Who snuffed out the composer? Was it the shifty string section\, or maybe the treacherous trombones? Every instrument in the Orchestra is a suspect! With music by Nathaniel Stookey and text by Lemony Snicket\, The Composer Is Dead is a hilarious whodunit for the whole family. \nThis performance is designed for people living with autism spectrum disorders\, sensory and communication disorders\, or learning disabilities\, or anyone who wants a more casual concert experience.
URL:https://www.ludwig-van.com/toronto/event/toronto-symphony-orchestra-relaxed-performance-composer-dead/2020-02-22/
LOCATION:Roy Thomson Hall\, 60 Simcoe St\, Toronto\, Ontario\, M5J 2H5\, Canada
CATEGORIES:Kids,Orchestra
ATTACH;FMTTYPE=image/jpeg:https://www.ludwig-van.com/toronto/wp-content/uploads/sites/2/2020/02/Toronto-Symphony-Orchestra-Relaxed-Performance-The-Composer-Is-Dead.jpg
END:VEVENT
BEGIN:VEVENT
DTSTART;TZID=America/Toronto:20200222T193000
DTEND;TZID=America/Toronto:20200222T213000
DTSTAMP:20260419T150831
CREATED:20200217T143454Z
LAST-MODIFIED:20200217T143454Z
UID:66605-1582399800-1582407000@www.ludwig-van.com
SUMMARY:Echo Chamber Toronto | Zingara
DESCRIPTION:Echo Chamber Toronto presents ‘Zingara’\, a show of unbridled passion and virtuosity in an intimate historic Toronto venue. \nCorigliano; ‘The Red Violin Caprices’ \nKodaly; Serenade for Two Violins and Viola\, opus 12 \nIntermission \nEnescu; String Octet\, opus 7
URL:https://www.ludwig-van.com/toronto/event/echo-chamber-toronto-zingara/2020-02-22/
LOCATION:Enoch Turner Schoolhouse\, 106 Trinity St.\, Toronto\, Ontario\, M5A 3C6\, Canada
CATEGORIES:Chamber music
ATTACH;FMTTYPE=image/jpeg:https://www.ludwig-van.com/toronto/wp-content/uploads/sites/2/2020/02/https___cdn.evbuc_.com_images_86277123_183582936523_1_original.jpeg
GEO:43.6529466;-79.3612857
X-APPLE-STRUCTURED-LOCATION;VALUE=URI;X-ADDRESS=Enoch Turner Schoolhouse 106 Trinity St. Toronto Ontario M5A 3C6 Canada;X-APPLE-RADIUS=500;X-TITLE=106 Trinity St.:geo:-79.3612857,43.6529466
END:VEVENT
BEGIN:VEVENT
DTSTART;TZID=America/Toronto:20200222T200000
DTEND;TZID=America/Toronto:20200222T213000
DTSTAMP:20260419T150831
CREATED:20200217T143748Z
LAST-MODIFIED:20200217T143748Z
UID:66611-1582401600-1582407000@www.ludwig-van.com
SUMMARY:Sinfonia Toronto | Komitas
DESCRIPTION:SINFONIA TORONTO / NURHAN ARMAN Conductor\nNUNE MELIK Violinist /  BESTE KALENDER Mezzo-soprano \nCHOBANIAN Komitas\, the Tortured Soul Canadian premiere\nKOMITAS Two Songs for mezzo-soprano and strings\nINCIRCI Two Songs for mezzo-soprano and strings  world premiere\nSHARAFYAN Concerto Serenata Canadian premiere\nMIRZOYAN Elegy ‘Shushanik’\nSKALKOTTAS Five Greek Dances\nBARTOK Romanian Dances\nKOMITAS Armenian Folk Songs \n1 hour and 15 minutes plus an intermission
URL:https://www.ludwig-van.com/toronto/event/sinfonia-toronto-komitas/
LOCATION:Meridian Hall (formerly Sony Centre)\, 1 Front Street East\, Toronto\, M5E 1B2\, Canada
CATEGORIES:Orchestra
ATTACH;FMTTYPE=image/jpeg:https://www.ludwig-van.com/toronto/wp-content/uploads/sites/2/2014/12/114203_750.jpg
GEO:43.6464823;-79.376082
X-APPLE-STRUCTURED-LOCATION;VALUE=URI;X-ADDRESS=Meridian Hall (formerly Sony Centre) 1 Front Street East Toronto M5E 1B2 Canada;X-APPLE-RADIUS=500;X-TITLE=1 Front Street East:geo:-79.376082,43.6464823
END:VEVENT
END:VCALENDAR