BEGIN:VCALENDAR
VERSION:2.0
PRODID:-//Ludwig van Toronto - ECPv5.9.1//NONSGML v1.0//EN
CALSCALE:GREGORIAN
METHOD:PUBLISH
X-WR-CALNAME:Ludwig van Toronto
X-ORIGINAL-URL:https://www.ludwig-van.com/toronto
X-WR-CALDESC:Events for Ludwig van Toronto
BEGIN:VTIMEZONE
TZID:America/Toronto
BEGIN:DAYLIGHT
TZOFFSETFROM:-0500
TZOFFSETTO:-0400
TZNAME:EDT
DTSTART:20200308T070000
END:DAYLIGHT
BEGIN:STANDARD
TZOFFSETFROM:-0400
TZOFFSETTO:-0500
TZNAME:EST
DTSTART:20201101T060000
END:STANDARD
END:VTIMEZONE
BEGIN:VEVENT
DTSTART;TZID=America/Toronto:20200221T080000
DTEND;TZID=America/Toronto:20200221T170000
DTSTAMP:20260419T132028
CREATED:20200217T141434Z
LAST-MODIFIED:20200217T141434Z
UID:66594-1582272000-1582304400@www.ludwig-van.com
SUMMARY:Royal Conservatory of Music | Daniil Trifonov
DESCRIPTION:Grammy Award-winning Russian pianist Daniil Trifonov – who made his Koerner Hall debut in 2013 – has made a spectacular ascent of the classical music world as a solo artist\, champion of the concerto repertoire\, chamber and vocal collaborator\, and composer. Combining consummate technique with rare sensitivity and depth\, his performances are a perpetual source of awe. “He has everything and more … tenderness and also the demonic element. I never heard anything like that\,” marveled pianist Martha Argerich. Trifonov recently added a first Grammy Award to his already considerable string of honours\, winning Best Instrumental Solo Album of 2018 with Transcendental\, a double album of Liszt’s works that marks his third title as an exclusive Deutsche Grammophon artist. As The Times of London notes\, he is “without question the most astounding pianist of our age.” \nThis concert is part of The Royal Conservatory’s two-season Beethoven 250 Festival. \nProgram:\nAlexander Scriabin: Étude in C-sharp minor\, op. 2\, No. 1\nAlexander Scriabin: 2 Poèmes\, op. 32\nAlexander Scriabin: 8 Etudes\, op. 42\nAlexander Scriabin: Poème Tragique\, op. 34\nAlexander Scriabin: Etude in D-sharp minor\, Op. 8\, No. 12 Alexander Scriabin: Piano Sonata No. 9 in F Major\, op. 68 (“Black Mass”)\nLudwig van Beethoven: Piano Sonata No. 31 in A-flat Major\, op. 110\nAlexander Borodin: selections from Petite Suite\nSergei Prokofiev: Sonata No.8 in B-flat Major\, op. 84
URL:https://www.ludwig-van.com/toronto/event/royal-conservatory-music-daniil-trifonov/
LOCATION:Koerner Hall\, 273 Bloor St W\, \, Toronto\, ON\, M5S 1V6\, Canada
CATEGORIES:Chamber music,piano
ATTACH;FMTTYPE=image/jpeg:https://www.ludwig-van.com/toronto/wp-content/uploads/sites/2/2017/03/Daniil-Trifonov_0321_credit-Dario-Acosta-Deutsche-Grammophon.jpg
ORGANIZER;CN="Royal%20Conservatory":MAILTO:tickets@rcmusic.ca
GEO:43.6679641;-79.3966795
X-APPLE-STRUCTURED-LOCATION;VALUE=URI;X-ADDRESS=Koerner Hall 273 Bloor St W  Toronto ON M5S 1V6 Canada;X-APPLE-RADIUS=500;X-TITLE=273 Bloor St W\,:geo:-79.3966795,43.6679641
END:VEVENT
END:VCALENDAR