BEGIN:VCALENDAR
VERSION:2.0
PRODID:-//Ludwig van Toronto - ECPv5.9.1//NONSGML v1.0//EN
CALSCALE:GREGORIAN
METHOD:PUBLISH
X-WR-CALNAME:Ludwig van Toronto
X-ORIGINAL-URL:https://www.ludwig-van.com/toronto
X-WR-CALDESC:Events for Ludwig van Toronto
BEGIN:VTIMEZONE
TZID:America/Toronto
BEGIN:DAYLIGHT
TZOFFSETFROM:-0500
TZOFFSETTO:-0400
TZNAME:EDT
DTSTART:20200308T070000
END:DAYLIGHT
BEGIN:STANDARD
TZOFFSETFROM:-0400
TZOFFSETTO:-0500
TZNAME:EST
DTSTART:20201101T060000
END:STANDARD
END:VTIMEZONE
BEGIN:VEVENT
DTSTART;TZID=America/Toronto:20200219T080000
DTEND;TZID=America/Toronto:20200219T170000
DTSTAMP:20260419T095054
CREATED:20200217T135517Z
LAST-MODIFIED:20200217T135517Z
UID:66573-1582099200-1582131600@www.ludwig-van.com
SUMMARY:Tapestry Opera | Jacqueline
DESCRIPTION:Libretto by Royce Vavrek | Music by Luna Pearl Woolf | Dramaturgy and Direction by Michael Hidetoshi Mori \n\nFebruary 19 – 23\, 2020
URL:https://www.ludwig-van.com/toronto/event/tapestry-opera-jacqueline/2020-02-19/
LOCATION:Betty Oliphant Theatre at Canada’s National Ballet School\, 404 Jarvis Street\, Toronto\, ON\, M4Y 2G6\, Canada
CATEGORIES:opera
ATTACH;FMTTYPE=image/jpeg:https://www.ludwig-van.com/toronto/wp-content/uploads/sites/2/2020/02/Tapestry-Opera-Jacqueline.jpg
GEO:43.664354;-79.3778411
X-APPLE-STRUCTURED-LOCATION;VALUE=URI;X-ADDRESS=Betty Oliphant Theatre at Canada’s National Ballet School 404 Jarvis Street Toronto ON M4Y 2G6 Canada;X-APPLE-RADIUS=500;X-TITLE=404 Jarvis Street:geo:-79.3778411,43.664354
END:VEVENT
BEGIN:VEVENT
DTSTART;TZID=America/Toronto:20200219T200000
DTEND;TZID=America/Toronto:20200219T220000
DTSTAMP:20260419T095054
CREATED:20200217T134712Z
LAST-MODIFIED:20200217T134712Z
UID:66569-1582142400-1582149600@www.ludwig-van.com
SUMMARY:Toronto Symphony Orchestra | Beethoven Pastoral with OSM
DESCRIPTION:Program\nBerlioz: “Royal Hunt and Storm” from Les Troyens [10′]\nPascal Dusapin: Waves\, Duo for Organ and Orchestra (OSM Commission)\nIntermission [20′]\nBeethoven: Symphony No. 6 “Pastoral” [40′] \nKent Nagano\, conductor\nOlivier Latry\, organ\nOrchestre symphonique de Montréal\, guest orchestra
URL:https://www.ludwig-van.com/toronto/event/toronto-symphony-orchestra-beethoven-pastoral-osm/
LOCATION:Roy Thomson Hall\, 60 Simcoe St\, Toronto\, Ontario\, M5J 2H5\, Canada
CATEGORIES:Orchestra
ATTACH;FMTTYPE=image/jpeg:https://www.ludwig-van.com/toronto/wp-content/uploads/sites/2/2015/09/MSO-USTour.jpg
END:VEVENT
END:VCALENDAR