BEGIN:VCALENDAR
VERSION:2.0
PRODID:-//Ludwig van Toronto - ECPv5.9.1//NONSGML v1.0//EN
CALSCALE:GREGORIAN
METHOD:PUBLISH
X-WR-CALNAME:Ludwig van Toronto
X-ORIGINAL-URL:https://www.ludwig-van.com/toronto
X-WR-CALDESC:Events for Ludwig van Toronto
BEGIN:VTIMEZONE
TZID:America/Toronto
BEGIN:DAYLIGHT
TZOFFSETFROM:-0500
TZOFFSETTO:-0400
TZNAME:EDT
DTSTART:20190310T070000
END:DAYLIGHT
BEGIN:STANDARD
TZOFFSETFROM:-0400
TZOFFSETTO:-0500
TZNAME:EST
DTSTART:20191103T060000
END:STANDARD
END:VTIMEZONE
BEGIN:VEVENT
DTSTART;TZID=America/Toronto:20191129T200000
DTEND;TZID=America/Toronto:20191129T220000
DTSTAMP:20260419T221216
CREATED:20191022T211013Z
LAST-MODIFIED:20191022T211013Z
UID:64077-1575057600-1575064800@www.ludwig-van.com
SUMMARY:Royal Conservatory | Blind Boys of Alabama Christmas Show
DESCRIPTION:“Gospel titans” (Rolling Stone)\, the Blind Boys of Alabama have risen to fame with their thrilling vocal harmonies and roof-raising live show. This concert brings you songs from the Talkin’ Christmas! album\, the band’s Grammy Award-winning Christmas recording\, Go\, Tell it on the Mountain\, and other Gospel classics. \nTickets\, here.
URL:https://www.ludwig-van.com/toronto/event/royal-conservatory-blind-boys-alabama-christmas-show/
LOCATION:Koerner Hall\, 273 Bloor St W\, \, Toronto\, ON\, M5S 1V6\, Canada
CATEGORIES:Holiday,Popular Music,Vocal
ATTACH;FMTTYPE=image/jpeg:https://www.ludwig-van.com/toronto/wp-content/uploads/sites/2/2019/10/blind.jpg
ORGANIZER;CN="Royal%20Conservatory":MAILTO:tickets@rcmusic.ca
GEO:43.6679641;-79.3966795
X-APPLE-STRUCTURED-LOCATION;VALUE=URI;X-ADDRESS=Koerner Hall 273 Bloor St W  Toronto ON M5S 1V6 Canada;X-APPLE-RADIUS=500;X-TITLE=273 Bloor St W\,:geo:-79.3966795,43.6679641
END:VEVENT
END:VCALENDAR