BEGIN:VCALENDAR
VERSION:2.0
PRODID:-//Ludwig van Toronto - ECPv5.9.1//NONSGML v1.0//EN
CALSCALE:GREGORIAN
METHOD:PUBLISH
X-WR-CALNAME:Ludwig van Toronto
X-ORIGINAL-URL:https://www.ludwig-van.com/toronto
X-WR-CALDESC:Events for Ludwig van Toronto
BEGIN:VTIMEZONE
TZID:America/Toronto
BEGIN:DAYLIGHT
TZOFFSETFROM:-0500
TZOFFSETTO:-0400
TZNAME:EDT
DTSTART:20190310T070000
END:DAYLIGHT
BEGIN:STANDARD
TZOFFSETFROM:-0400
TZOFFSETTO:-0500
TZNAME:EST
DTSTART:20191103T060000
END:STANDARD
END:VTIMEZONE
BEGIN:VEVENT
DTSTART;TZID=America/Toronto:20191126T200000
DTEND;TZID=America/Toronto:20191126T220000
DTSTAMP:20260420T031005
CREATED:20191125T132805Z
LAST-MODIFIED:20191125T132805Z
UID:65030-1574798400-1574805600@www.ludwig-van.com
SUMMARY:Confluence Concerts | An Evening with Marion Newman
DESCRIPTION:The celebrated Kwagiulth and Stó:lo First Nations\, English\, Irish and Scottish mezzo-soprano curates a special program asking the question\, “What is classical Indigenous music?”\n\n\n\n\nWith mezzo-soprano Marion Newman\, mezzo-soprano Rebecca Cuddy\, baritone Evan Korbut\, pianist Gordon Gerrard and composer Ian Cusson. \nPre-concert talk at 7:15 p.m.
URL:https://www.ludwig-van.com/toronto/event/confluence-concerts-evening-marion-newman/
LOCATION:Heliconian Hall\, 35 Hazelton Avenue\, Toronto\, ON\, M5R 2E3\, Canada
CATEGORIES:Chamber music,Vocal
ATTACH;FMTTYPE=image/jpeg:https://www.ludwig-van.com/toronto/wp-content/uploads/sites/2/2019/11/Confluence_ConcertImage_Marion-06-copy.jpg
END:VEVENT
END:VCALENDAR