BEGIN:VCALENDAR
VERSION:2.0
PRODID:-//Ludwig van Toronto - ECPv5.9.1//NONSGML v1.0//EN
CALSCALE:GREGORIAN
METHOD:PUBLISH
X-WR-CALNAME:Ludwig van Toronto
X-ORIGINAL-URL:https://www.ludwig-van.com/toronto
X-WR-CALDESC:Events for Ludwig van Toronto
BEGIN:VTIMEZONE
TZID:America/Toronto
BEGIN:DAYLIGHT
TZOFFSETFROM:-0500
TZOFFSETTO:-0400
TZNAME:EDT
DTSTART:20190310T070000
END:DAYLIGHT
BEGIN:STANDARD
TZOFFSETFROM:-0400
TZOFFSETTO:-0500
TZNAME:EST
DTSTART:20191103T060000
END:STANDARD
END:VTIMEZONE
BEGIN:VEVENT
DTSTART;TZID=America/Toronto:20191125T193000
DTEND;TZID=America/Toronto:20191125T220000
DTSTAMP:20260420T044625
CREATED:20191125T125308Z
LAST-MODIFIED:20191125T125308Z
UID:65020-1574710200-1574719200@www.ludwig-van.com
SUMMARY:Opera 5 | Elizabeth Krehm Memorial Concert
DESCRIPTION:Elizabeth Krehm passed away on November 17\, 2012 in the ICU at St Michael’s Hospital. Every year since her passing\, her family has held a memorial concert as a fundraiser for St Michael’s ICU. Over $100\,000 has been raised through these concerts. Elizabeth’s family will be forever grateful for the wonderful care received by the doctors\, nurses\, and social workers at St Mike’s. \nJoin us for an evening of music in celebration of Elizabeth Krehm’s life and in support of St Michael’s Hospital ICU. Over the past 7 years there has come to be a dedicated group of musicians and audience members who join us to remember Liz. Along with Liz\, we honour the lost friends and family of all involved in making the concert happen\, and we look to present the night as a healing experience through the power of music as well as support St Michael’s Hospital ICU. \nEvan Mitchell\, conductor\nMichel Strauss\, cello\nRachel Krehm\, soprano\nCanzona Chamber Players Orchestra \nProgram: \nKol Nidrei – Max Bruch\nFour Last Songs – Richard Strauss\nSymphony no. 5 – Dmitri Shostakovich
URL:https://www.ludwig-van.com/toronto/event/opera-5-elizabeth-krehm-memorial-concert/
LOCATION:Christ Church Deer Park\, 1570 Yonge Street\, Toronto\, Ontario\, M4T 1Z8\, Canada
CATEGORIES:Chamber music
ATTACH;FMTTYPE=image/jpeg:https://www.ludwig-van.com/toronto/wp-content/uploads/sites/2/2019/11/Elizabeth-Krehm-Memorial-Concert.jpg
GEO:43.6903107;-79.395257
X-APPLE-STRUCTURED-LOCATION;VALUE=URI;X-ADDRESS=Christ Church Deer Park 1570 Yonge Street Toronto Ontario M4T 1Z8 Canada;X-APPLE-RADIUS=500;X-TITLE=1570 Yonge Street:geo:-79.395257,43.6903107
END:VEVENT
END:VCALENDAR