BEGIN:VCALENDAR
VERSION:2.0
PRODID:-//Ludwig van Toronto - ECPv5.9.1//NONSGML v1.0//EN
CALSCALE:GREGORIAN
METHOD:PUBLISH
X-WR-CALNAME:Ludwig van Toronto
X-ORIGINAL-URL:https://www.ludwig-van.com/toronto
X-WR-CALDESC:Events for Ludwig van Toronto
BEGIN:VTIMEZONE
TZID:America/Toronto
BEGIN:DAYLIGHT
TZOFFSETFROM:-0500
TZOFFSETTO:-0400
TZNAME:EDT
DTSTART:20190310T070000
END:DAYLIGHT
BEGIN:STANDARD
TZOFFSETFROM:-0400
TZOFFSETTO:-0500
TZNAME:EST
DTSTART:20191103T060000
END:STANDARD
END:VTIMEZONE
BEGIN:VEVENT
DTSTART;TZID=America/Toronto:20191120T200000
DTEND;TZID=America/Toronto:20191120T220000
DTSTAMP:20260420T124257
CREATED:20191117T161916Z
LAST-MODIFIED:20191117T161916Z
UID:64848-1574280000-1574287200@www.ludwig-van.com
SUMMARY:Tapestry Opera | TAP:EX Augmented Opera
DESCRIPTION:TAP:EX Augmented Opera\, delves into the world of analog and digital storytelling augmentation\, challenging our notion of what is real. TAP:EX Augmented Opera invites us to submerge ourselves in a night of experiential and experimental opera.
URL:https://www.ludwig-van.com/toronto/event/tapestry-opera-tapex-augmented-opera/2019-11-20/
LOCATION:Sidewalk Labs\, 307 Lake Shore Blvd. E.\, Toronto\, Ontario\, M5A 1C1\, Canada
CATEGORIES:Contemporary Music,opera
ATTACH;FMTTYPE=image/jpeg:https://www.ludwig-van.com/toronto/wp-content/uploads/sites/2/2019/11/TAP-EX-Augmented-Opera.jpg
END:VEVENT
END:VCALENDAR