BEGIN:VCALENDAR
VERSION:2.0
PRODID:-//Ludwig van Toronto - ECPv5.9.1//NONSGML v1.0//EN
CALSCALE:GREGORIAN
METHOD:PUBLISH
X-WR-CALNAME:Ludwig van Toronto
X-ORIGINAL-URL:https://www.ludwig-van.com/toronto
X-WR-CALDESC:Events for Ludwig van Toronto
BEGIN:VTIMEZONE
TZID:America/Toronto
BEGIN:DAYLIGHT
TZOFFSETFROM:-0500
TZOFFSETTO:-0400
TZNAME:EDT
DTSTART:20190310T070000
END:DAYLIGHT
BEGIN:STANDARD
TZOFFSETFROM:-0400
TZOFFSETTO:-0500
TZNAME:EST
DTSTART:20191103T060000
END:STANDARD
END:VTIMEZONE
BEGIN:VEVENT
DTSTART;TZID=America/Toronto:20191119T120000
DTEND;TZID=America/Toronto:20191119T130000
DTSTAMP:20260420T141757
CREATED:20191117T162717Z
LAST-MODIFIED:20191117T162717Z
UID:64855-1574164800-1574168400@www.ludwig-van.com
SUMMARY:Canadian Opera Company | Moving Mirrors: Etudes for Piano
DESCRIPTION:Nicolas Namoradze\, piano\n\nPIANO VIRTUOSO SERIES\nPrize Laureate of the 2018 Honens International Piano Competition in Calgary\, Nicolas Namoradze showcases his talents as both a formidable pianist and composer in a program that features the Études Op. 42 by Scriabin as well as his own Études I – VI.
URL:https://www.ludwig-van.com/toronto/event/canadian-opera-company-moving-mirrors-etudes-piano/
LOCATION:Richard Bradshaw Amphitheatre\, Four Seasons Centre for the Performing Arts\, 145 Queen St. W.\, Toronto\, M5V 2A9
CATEGORIES:Chamber music,Free,piano
ATTACH;FMTTYPE=image/png:https://www.ludwig-van.com/toronto/wp-content/uploads/sites/2/2014/03/Canadian_Opera_Company_2011.png
END:VEVENT
BEGIN:VEVENT
DTSTART;TZID=America/Toronto:20191119T193000
DTEND;TZID=America/Toronto:20191119T213000
DTSTAMP:20260420T141757
CREATED:20191117T163021Z
LAST-MODIFIED:20191117T163021Z
UID:64857-1574191800-1574199000@www.ludwig-van.com
SUMMARY:University of Toronto Faculty of Music | Early Music Concerts: King Arthur
DESCRIPTION:Purcell’s semi-opera based on Dryden’s text draws the eye and ear with richly textured choral movements and beautiful songwriting. Hear Purcell’s famous ‘Fairest Isle’ and ‘Cold Genius’ as the versatile young harpsichordist/conductor Christopher Bagan leads the Collegium Musicum and Schola Cantorum. Through a new staging by director Erik Thor\, the audience is asked to consider our national identity and the conflict of ideologies of our own time. \nErik Thor\, stage director\nChristopher Bagan\, conductor
URL:https://www.ludwig-van.com/toronto/event/university-toronto-faculty-music-early-music-concerts-king-arthur/
LOCATION:Trinity St-Paul’s Centre\, 427 Bloor Street West\, Toronto\, ON\, M5S 1X7\, Canada
CATEGORIES:Period ensemble
ATTACH;FMTTYPE=image/jpeg:https://www.ludwig-van.com/toronto/wp-content/uploads/sites/2/2016/03/uoftlogo2_3.jpg
GEO:43.6661974;-79.4056008
X-APPLE-STRUCTURED-LOCATION;VALUE=URI;X-ADDRESS=Trinity St-Paul’s Centre 427 Bloor Street West Toronto ON M5S 1X7 Canada;X-APPLE-RADIUS=500;X-TITLE=427 Bloor Street West:geo:-79.4056008,43.6661974
END:VEVENT
END:VCALENDAR