BEGIN:VCALENDAR
VERSION:2.0
PRODID:-//Ludwig van Toronto - ECPv5.9.1//NONSGML v1.0//EN
CALSCALE:GREGORIAN
METHOD:PUBLISH
X-WR-CALNAME:Ludwig van Toronto
X-ORIGINAL-URL:https://www.ludwig-van.com/toronto
X-WR-CALDESC:Events for Ludwig van Toronto
BEGIN:VTIMEZONE
TZID:America/Toronto
BEGIN:DAYLIGHT
TZOFFSETFROM:-0500
TZOFFSETTO:-0400
TZNAME:EDT
DTSTART:20190310T070000
END:DAYLIGHT
BEGIN:STANDARD
TZOFFSETFROM:-0400
TZOFFSETTO:-0500
TZNAME:EST
DTSTART:20191103T060000
END:STANDARD
END:VTIMEZONE
BEGIN:VEVENT
DTSTART;TZID=America/Toronto:20191113T200000
DTEND;TZID=America/Toronto:20191113T220000
DTSTAMP:20260421T003200
CREATED:20190909T155430Z
LAST-MODIFIED:20190911T141108Z
UID:62247-1573675200-1573682400@www.ludwig-van.com
SUMMARY:Soundstreams | Two Odysseys: Pimooteewin / Gállábártnit
DESCRIPTION:In this double-bill\, discover the world’s first music drama works sung and narrated in the Indigenous languages Cree and Sámi\, and rooted in those traditional legends from Canada and the Nordic countries. These cross-cultural odysseys examine how we live on earth\, how we pass to the land of the dead\, and the consequences of love and sacrifice. \nFEATURED ARTISTS\nMichael Greyeyes\, Cole Alvis\, co-directors\nMelissa Hui\, Britta Byström\, composers\nTomson Highway\, Rawdna Carita Eira\, librettists\nDavid Fallis\, musical director\nYolanda Bonnell\, Heli Huovinen\, narrators\nMelody Courage\, Asitha Tennekoon\, Bud Roach\, vocal soloists\nChoir 21\nChamber Orchestra \nTickets\, here.
URL:https://www.ludwig-van.com/toronto/event/soundstreams-two-odysseys-pimooteewin-gallabartnit/2019-11-13/
LOCATION:Daniels Spectrum\, 585 Dundas St E\, Toronto\, Ontario\, M5A 2B7\, Canada
CATEGORIES:Chamber music,Contemporary Music,opera
ATTACH;FMTTYPE=image/jpeg:https://www.ludwig-van.com/toronto/wp-content/uploads/sites/2/2019/09/TWO-ODYSSEYS-PIMOOTEEWIN-soundstreams.jpg
GEO:43.6598545;-79.3622938
X-APPLE-STRUCTURED-LOCATION;VALUE=URI;X-ADDRESS=Daniels Spectrum 585 Dundas St E Toronto Ontario M5A 2B7 Canada;X-APPLE-RADIUS=500;X-TITLE=585 Dundas St E:geo:-79.3622938,43.6598545
END:VEVENT
BEGIN:VEVENT
DTSTART;TZID=America/Toronto:20191113T200000
DTEND;TZID=America/Toronto:20191113T220000
DTSTAMP:20260421T003200
CREATED:20191014T172741Z
LAST-MODIFIED:20191014T172741Z
UID:63906-1573675200-1573682400@www.ludwig-van.com
SUMMARY:Toronto Symphpny Orchestra | Davis Conducts Russian Masters
DESCRIPTION:Sir Andrew Davis conducts Shostakovich’s triumphant Tenth Symphony\, fittingly completed in the wake of Stalin’s death. And the masterful Karen Gomyo performs Prokofiev’s blazing First Violin Concerto. (Pictured: Sir Andrew Davis\, TSO Interim Artistic Director) \nThe performance is roughly two hours long\, including a 20-minute intermission. \nProgram:\nEmilie LeBel: unsheltered (TSO Commission/World Première) [10′]\nProkofiev: Violin Concerto No. 1 [22′] \nIntermission [20′] \nShostakovich: Symphony No. 10 [57′] \nPerformers:\nSir Andrew Davis\, conductor\nKaren Gomyo\, violin \nTickets\, here.
URL:https://www.ludwig-van.com/toronto/event/toronto-symphpny-orchestra-davis-conducts-russian-masters/
LOCATION:Roy Thomson Hall\, 60 Simcoe St\, Toronto\, Ontario\, M5J 2H5\, Canada
CATEGORIES:Orchestra
ATTACH;FMTTYPE=image/jpeg:https://www.ludwig-van.com/toronto/wp-content/uploads/sites/2/2016/05/Sir_Andrew_Davis_TSO_5_Malcolm_Cook_photo.jpg.jpg
END:VEVENT
END:VCALENDAR