BEGIN:VCALENDAR
VERSION:2.0
PRODID:-//Ludwig van Toronto - ECPv5.9.1//NONSGML v1.0//EN
CALSCALE:GREGORIAN
METHOD:PUBLISH
X-WR-CALNAME:Ludwig van Toronto
X-ORIGINAL-URL:https://www.ludwig-van.com/toronto
X-WR-CALDESC:Events for Ludwig van Toronto
BEGIN:VTIMEZONE
TZID:America/Toronto
BEGIN:DAYLIGHT
TZOFFSETFROM:-0500
TZOFFSETTO:-0400
TZNAME:EDT
DTSTART:20190310T070000
END:DAYLIGHT
BEGIN:STANDARD
TZOFFSETFROM:-0400
TZOFFSETTO:-0500
TZNAME:EST
DTSTART:20191103T060000
END:STANDARD
END:VTIMEZONE
BEGIN:VEVENT
DTSTART;TZID=America/Toronto:20191111T193000
DTEND;TZID=America/Toronto:20191111T213000
DTSTAMP:20260421T034206
CREATED:20191111T123625Z
LAST-MODIFIED:20191111T123625Z
UID:64736-1573500600-1573507800@www.ludwig-van.com
SUMMARY:University of Toronto Faculty of Music | Of War and Peace
DESCRIPTION:Monica Whicher\, soprano and Steven Philcox\, piano\, with Marie Bérard\, violin \nSoprano Monica Whicher and pianist Steven Philcox\, joined by Marie Bérard\, concertmaster of the Canadian Opera Company Orchestra\, present a program of remembrance represented by centuries of song – from Handel to Sting. \n7:30 pm in Walter Hall\, 80 Queen’s Park \n$40\, $25 senior\, $10 student\nU of T students admitted free with a valid TCard\, space permitting.
URL:https://www.ludwig-van.com/toronto/event/university-toronto-faculty-music-war-peace/
LOCATION:Walter Hall\, 80 Queens Park\, Toronto\, ON\, M5S 2C5\, Canada
CATEGORIES:Chamber music
ATTACH;FMTTYPE=image/jpeg:https://www.ludwig-van.com/toronto/wp-content/uploads/sites/2/2016/03/uoftlogo2_3.jpg
GEO:43.666508;-79.3944708
X-APPLE-STRUCTURED-LOCATION;VALUE=URI;X-ADDRESS=Walter Hall 80 Queens Park Toronto ON M5S 2C5 Canada;X-APPLE-RADIUS=500;X-TITLE=80 Queens Park:geo:-79.3944708,43.666508
END:VEVENT
END:VCALENDAR