BEGIN:VCALENDAR
VERSION:2.0
PRODID:-//Ludwig van Toronto - ECPv5.9.1//NONSGML v1.0//EN
CALSCALE:GREGORIAN
METHOD:PUBLISH
X-WR-CALNAME:Ludwig van Toronto
X-ORIGINAL-URL:https://www.ludwig-van.com/toronto
X-WR-CALDESC:Events for Ludwig van Toronto
BEGIN:VTIMEZONE
TZID:America/Toronto
BEGIN:DAYLIGHT
TZOFFSETFROM:-0500
TZOFFSETTO:-0400
TZNAME:EDT
DTSTART:20190310T070000
END:DAYLIGHT
BEGIN:STANDARD
TZOFFSETFROM:-0400
TZOFFSETTO:-0500
TZNAME:EST
DTSTART:20191103T060000
END:STANDARD
END:VTIMEZONE
BEGIN:VEVENT
DTSTART;TZID=America/Toronto:20191108T200000
DTEND;TZID=America/Toronto:20191108T220000
DTSTAMP:20260421T083512
CREATED:20191022T200430Z
LAST-MODIFIED:20191022T200430Z
UID:64020-1573243200-1573250400@www.ludwig-van.com
SUMMARY:Royal Conservatory | Ray Chen with Julio Elizalde
DESCRIPTION:“Colors dance\, moods swing\, and Chen’s artistry blazes.” (The Times) As The Washington Post raved: “Ray Chen can do pretty much anything he wants on the violin.” Born in Taiwan and raised in Australia\, Chen was accepted to the Curtis Institute of Music at age 15 and captured the world’s attention as First Prize winner of both the Yehudi Menuhin and Queen Elizabeth Competitions. Profiled as “one to watch” by The Strad and Gramophone magazines\, his profile has grown to be featured in the Forbes list of 30 most influential Asians under 30\, and appearances in the TV series Mozart in the Jungle. He plays the 1715 “Joachim” Stradivarius violin\, once owned by the famed Hungarian violinist\, Joseph Joachim. \nPraised as a musician of “compelling artistry and power” by the Seattle Times\, the gifted American pianist Julio Elizalde has appeared with many of the leading artists of our time. He tours internationally with world-renowned violinists Sarah Chang and Ray Chen\, and has performed alongside conductors Itzhak Perlman\, Teddy Abrams\, and Anne Manson. He has collaborated with artists such as violinist Pamela Frank\, composers Osvaldo Golijov and Stephen Hough\, baritone William Sharp\, and members of the Juilliard\, Cleveland\, Kronos\, and Brentano string quartets. He is also Artistic Director of the Olympic Music Festival near Seattle\, Washington. \nProgram: \nEdvard Grieg: Violin Sonata No. 2 in G Major\, op. 13 \nCamille Saint-Saëns: Violin Sonata No. 1 in D Minor\, op. 75 \nJohann Sebastian Bach: Chaconne from Partita No. 2 in D Minor for Solo Violin\, BWV 1004 \nClaude Debussy: Clair de lune\, L. 32 (arr. Roelens) \nMaurice Ravel: Tzigane \nTickets\, here.
URL:https://www.ludwig-van.com/toronto/event/royal-conservatory-ray-chen-julio-elizalde/
LOCATION:Koerner Hall\, 273 Bloor St W\, \, Toronto\, ON\, M5S 1V6\, Canada
CATEGORIES:Chamber music
ATTACH;FMTTYPE=image/jpeg:https://www.ludwig-van.com/toronto/wp-content/uploads/sites/2/2019/10/ray_chen_website.jpg
ORGANIZER;CN="Royal%20Conservatory":MAILTO:tickets@rcmusic.ca
GEO:43.6679641;-79.3966795
X-APPLE-STRUCTURED-LOCATION;VALUE=URI;X-ADDRESS=Koerner Hall 273 Bloor St W  Toronto ON M5S 1V6 Canada;X-APPLE-RADIUS=500;X-TITLE=273 Bloor St W\,:geo:-79.3966795,43.6679641
END:VEVENT
BEGIN:VEVENT
DTSTART;TZID=America/Toronto:20191108T200000
DTEND;TZID=America/Toronto:20191108T220000
DTSTAMP:20260421T083512
CREATED:20191104T012944Z
LAST-MODIFIED:20191104T012944Z
UID:64372-1573243200-1573250400@www.ludwig-van.com
SUMMARY:Tongue in Cheek Productions/Opera 5 | Eight Singers Drinking
DESCRIPTION:On Friday\, November 8\, 2019 Tongue in Cheek Productions will join forces with Opera 5 to present Eight Singers Drinking at Gallery 345. In this concert\, singers will each sing a set of songs inspired by a cocktail. These drinks will be freshly prepared by the skilled mixologists of Opera 5 and Tongue in Cheek Productions\, and each of the “drinking singers” will be required to finish their drinks by the end of their sets. The audience will have the opportunity to enjoy their choice of the presented cocktail(s) before curtain\, during the intermission\, and after the show. The concert will feature an eclectic mix of music from different cultures and by various composers including Montsalvatge\, Porter\, Handel\, Berlioz\, Vaughan Williams\, Viardot\, and more to be performed by some of Toronto’s favourite interpreters of classical vocal music. The program consists of eight singers and one pianist\, including Opera 5’s founding member and general director\, soprano Rachel Krehm. She will be joined by mezzo-soprano Catherine Daniel\, soprano Sonya Harper Nyby\, tenors Ryan Downey and River Guard\, and members of the Tongue in Cheek team: baritones Michael Nyby and Aaron Durand and mezzo-soprano Beste Kalender. All will be led by one-man-orchestra Trevor Chartrand at the piano.
URL:https://www.ludwig-van.com/toronto/event/tongue-in-cheek-productionsopera-5-eight-singers-drinking/
LOCATION:Gallery 345\, 345 Sorauren Avenue\, Toronto\, ON\, M6R 2G5\, Canada
CATEGORIES:opera
ATTACH;FMTTYPE=image/jpeg:https://www.ludwig-van.com/toronto/wp-content/uploads/sites/2/2019/11/Tongue-in-Cheek-770x330-copy.jpg
GEO:43.6493451;-79.4444903
X-APPLE-STRUCTURED-LOCATION;VALUE=URI;X-ADDRESS=Gallery 345 345 Sorauren Avenue Toronto ON M6R 2G5 Canada;X-APPLE-RADIUS=500;X-TITLE=345 Sorauren Avenue:geo:-79.4444903,43.6493451
END:VEVENT
BEGIN:VEVENT
DTSTART;TZID=America/Toronto:20191108T200000
DTEND;TZID=America/Toronto:20191108T220000
DTSTAMP:20260421T083512
CREATED:20191104T014401Z
LAST-MODIFIED:20191104T014401Z
UID:64384-1573243200-1573250400@www.ludwig-van.com
SUMMARY:Sinfonia Toronto | Mozart and Tchaikovsky
DESCRIPTION:SINFONIA TORONTO\nNURHAN ARMAN Conductor\nMARC DJOKIC Violinist\nCHRISTINA PETROWSKA QUILICO Pianist \nThe Program\nMOZART Salzburg Symphony K 138\nICHMOURATOV Letter from an Unknown Woman  North American premiere\nKUZMENKO “Skartaris” Duo Concerto world premiere\nTCHAIKOVSKY Serenade \n1 hour and 25 minutes plus an intermission \nWhat’s interesting about this concert\n~ Tchaikovsky’s own favourite composition\n~ Two premieres by Canadian two composers! Imagine being at the first-ever performance of a Mozart work – he used to be a contemporary composer too:)\n~ Not one but two great soloists!
URL:https://www.ludwig-van.com/toronto/event/sinfonia-toronto-mozart-tchaikovsky/
LOCATION:CBC Glenn Gould Studio\, Glenn Gould Studio is located on the main floor of the Canadian Broadcasting Centre at 250 Front St. West\, Toronto\, ON\, Canada
CATEGORIES:Orchestra
ATTACH;FMTTYPE=image/jpeg:https://www.ludwig-van.com/toronto/wp-content/uploads/sites/2/2014/12/114203_750.jpg
GEO:43.6443255;-79.3876873
X-APPLE-STRUCTURED-LOCATION;VALUE=URI;X-ADDRESS=CBC Glenn Gould Studio Glenn Gould Studio is located on the main floor of the Canadian Broadcasting Centre at 250 Front St. West Toronto ON Canada;X-APPLE-RADIUS=500;X-TITLE=Glenn Gould Studio is located on the main floor of the Canadian Broadcasting Centre at 250 Front St. West:geo:-79.3876873,43.6443255
END:VEVENT
END:VCALENDAR