BEGIN:VCALENDAR
VERSION:2.0
PRODID:-//Ludwig van Toronto - ECPv5.9.1//NONSGML v1.0//EN
CALSCALE:GREGORIAN
METHOD:PUBLISH
X-WR-CALNAME:Ludwig van Toronto
X-ORIGINAL-URL:https://www.ludwig-van.com/toronto
X-WR-CALDESC:Events for Ludwig van Toronto
BEGIN:VTIMEZONE
TZID:America/Toronto
BEGIN:DAYLIGHT
TZOFFSETFROM:-0500
TZOFFSETTO:-0400
TZNAME:EDT
DTSTART:20190310T070000
END:DAYLIGHT
BEGIN:STANDARD
TZOFFSETFROM:-0400
TZOFFSETTO:-0500
TZNAME:EST
DTSTART:20191103T060000
END:STANDARD
END:VTIMEZONE
BEGIN:VEVENT
DTSTART;TZID=America/Toronto:20191107T200000
DTEND;TZID=America/Toronto:20191107T220000
DTSTAMP:20260421T102907
CREATED:20191014T172317Z
LAST-MODIFIED:20191014T172317Z
UID:63902-1573156800-1573164000@www.ludwig-van.com
SUMMARY:Toronto Symphpny Orchestra | Thaïs Grand Opera In Concert
DESCRIPTION:Temptation. Obsession. Redemption. Sir Andrew Davis conducts Jules Massenet’s seductive Thaïs—a French operatic masterwork—in concert\, featuring renowned Canadian soprano Erin Wall in the title role of the doomed courtesan. \nPerformances are roughly three hours long\, including a 20-minute intermission. \nProgram \nMassenet: Thaïs (opera-in-concert in French with English surtitles) \nPerformers \nSir Andrew Davis\, conductor \nErin Wall\, soprano (Thaïs) \nJoshua Hopkins\, baritone (Athanaël) \nAndrew Staples\, tenor (Nicias) \nNathan Berg\, bass-baritone (Palémon) \nLiv Redpath\, soprano (Crobyle) \nAndrea Ludwig\, mezzo-soprano (Myrtale) \nEmilia Boteva\, mezzo-soprano (Albine) \nStacey Tappan\, soprano (La charmeuse) \nToronto Mendelssohn Choir \nTickets\, here.
URL:https://www.ludwig-van.com/toronto/event/toronto-symphpny-orchestra-thais-grand-opera-concert/2019-11-07/
LOCATION:Roy Thomson Hall\, 60 Simcoe St\, Toronto\, Ontario\, M5J 2H5\, Canada
CATEGORIES:Orchestra
ATTACH;FMTTYPE=image/jpeg:https://www.ludwig-van.com/toronto/wp-content/uploads/sites/2/2019/10/THAÏS-GRAND-OPERA-IN-CONCERT-TSO.jpg
END:VEVENT
BEGIN:VEVENT
DTSTART;TZID=America/Toronto:20191107T200000
DTEND;TZID=America/Toronto:20191107T220000
DTSTAMP:20260421T102907
CREATED:20191104T014044Z
LAST-MODIFIED:20191104T014044Z
UID:64381-1573156800-1573164000@www.ludwig-van.com
SUMMARY:Music Toronto | Vision String Quartet
DESCRIPTION:Founded in 2012 and based in Berlin\, these four young musicians are unusual in performing all their concerts completely from memory\, and standing. The quartet has studied in Berlin under the Artemis Quartet and Günter Pichler of the Alban Berg Quartet in Madrid. 2016 was a year of remarkable achievement for the quartet when they won not only first prize in two major competitions but all the audience and special prizes too\, the Felix Mendelssohn Bartholdy Competition in Berlin and the International Concours de Génève. \nBacewicz\nQuartet No. 4 (1951)\nHaydn\nQuartet in G\, Op. 77 No.1 (Hob. III:81)\n– – – \nSchumann\nQuartet in A Major\, Op. 41\, No.3
URL:https://www.ludwig-van.com/toronto/event/music-toronto-vision-string-quartet/
LOCATION:Jane Mallet Theatre\, 27 Front St. East\, Toronto\, ON\, M5E\, Canada
CATEGORIES:Chamber music
ATTACH;FMTTYPE=image/jpeg:https://www.ludwig-van.com/toronto/wp-content/uploads/sites/2/2019/11/Vision__1.jpg
GEO:43.6472494;-79.3763834
X-APPLE-STRUCTURED-LOCATION;VALUE=URI;X-ADDRESS=Jane Mallet Theatre 27 Front St. East Toronto ON M5E Canada;X-APPLE-RADIUS=500;X-TITLE=27 Front St. East:geo:-79.3763834,43.6472494
END:VEVENT
BEGIN:VEVENT
DTSTART;TZID=America/Toronto:20191107T200000
DTEND;TZID=America/Toronto:20191107T220000
DTSTAMP:20260421T102907
CREATED:20191107T194329Z
LAST-MODIFIED:20191107T194329Z
UID:64588-1573156800-1573164000@www.ludwig-van.com
SUMMARY:Mirvish | Come From Away
DESCRIPTION:It’s been called the “edge of the world.” The weather is wild\, but the locals never lack for warmth. And it’s here\, in Newfoundland\, where a remote town became the epicentre of a remarkable true story filled with unusual characters\, unexpected camaraderie and uncommon generosity. \nCome From Away is the breathtaking new musical that Toronto has embraced with open arms and has audiences leaving the theatre night after night claiming they are “proud to be Canadian!”
URL:https://www.ludwig-van.com/toronto/event/mirvish-come-away-3/2019-11-07/
LOCATION:Elgin Theatre\, 189 Yonge St\,\, Toronto\, M5B 1M4
CATEGORIES:Musical Theatre,Theatre
ATTACH;FMTTYPE=image/jpeg:https://www.ludwig-van.com/toronto/wp-content/uploads/sites/2/2019/11/hero_slide_CFA_CANADA_S_0279.jpg
GEO:43.6529461;-79.3793151
X-APPLE-STRUCTURED-LOCATION;VALUE=URI;X-ADDRESS=Elgin Theatre 189 Yonge St Toronto M5B 1M4;X-APPLE-RADIUS=500;X-TITLE=189 Yonge St\,:geo:-79.3793151,43.6529461
END:VEVENT
END:VCALENDAR