BEGIN:VCALENDAR
VERSION:2.0
PRODID:-//Ludwig van Toronto - ECPv5.9.1//NONSGML v1.0//EN
CALSCALE:GREGORIAN
METHOD:PUBLISH
X-WR-CALNAME:Ludwig van Toronto
X-ORIGINAL-URL:https://www.ludwig-van.com/toronto
X-WR-CALDESC:Events for Ludwig van Toronto
BEGIN:VTIMEZONE
TZID:America/Toronto
BEGIN:DAYLIGHT
TZOFFSETFROM:-0500
TZOFFSETTO:-0400
TZNAME:EDT
DTSTART:20190310T070000
END:DAYLIGHT
BEGIN:STANDARD
TZOFFSETFROM:-0400
TZOFFSETTO:-0500
TZNAME:EST
DTSTART:20191103T060000
END:STANDARD
END:VTIMEZONE
BEGIN:VEVENT
DTSTART;TZID=America/Toronto:20191103T190000
DTEND;TZID=America/Toronto:20191103T210000
DTSTAMP:20260421T180307
CREATED:20191028T133115Z
LAST-MODIFIED:20191028T133115Z
UID:64249-1572807600-1572814800@www.ludwig-van.com
SUMMARY:Show One Productions | Hibla Gerzmava
DESCRIPTION:Koerner Hall Recital Debut \nAbkhazian soprano Hibla Gerzmava stunned Toronto critics and the audience when\, in 2017\, she made her first Canadian appearance with the Moscow Virtuosi and Maestro Vladimir Spivakov. \nHighly acclaimed for such leading roles as Leonora in La forza del destino\, Desdemona in Otello\, Liù in Turandot\, and the title roles of Anna Bolena and Aida\, she regularly appears at La Scala\, Covent Garden\, the Mariinsky Theatre\, Opéra national de Paris\, the Metropolitan Opera\, and opera houses in Vienna\, Rome and Madrid\, among others. \nHibla Gerzmava appears as part of her world recital tour\, in which Toronto is the only Canadian stop — immediately following Carnegie Hall. \n“Dark-hued spinto\, beautiful\, smooth and rich … and her stage presence is larger than life … The audience absolutely adored her.” (Joseph So\, Musical Toronto) \n“… Power\, dexterity and dramatic fervour … Her voice floated over the top A flat with the poetic splendour of a nightingale.”  (David Richards\, Toronto Concert Reviews) \nFor her Toronto recital debut\, Ms. Gerzmava serenades her audience with Russian romances\, arias from Anna Bolena\, La forza del destino and Norma\, and more.
URL:https://www.ludwig-van.com/toronto/event/show-one-productions-hibla-gerzmava/
LOCATION:Koerner Hall\, 273 Bloor St W\, \, Toronto\, ON\, M5S 1V6\, Canada
CATEGORIES:Vocal
ATTACH;FMTTYPE=image/jpeg:https://www.ludwig-van.com/toronto/wp-content/uploads/sites/2/2019/10/hibla_image_main_2.jpg
GEO:43.6679641;-79.3966795
X-APPLE-STRUCTURED-LOCATION;VALUE=URI;X-ADDRESS=Koerner Hall 273 Bloor St W  Toronto ON M5S 1V6 Canada;X-APPLE-RADIUS=500;X-TITLE=273 Bloor St W\,:geo:-79.3966795,43.6679641
END:VEVENT
END:VCALENDAR