BEGIN:VCALENDAR
VERSION:2.0
PRODID:-//Ludwig van Toronto - ECPv5.9.1//NONSGML v1.0//EN
CALSCALE:GREGORIAN
METHOD:PUBLISH
X-WR-CALNAME:Ludwig van Toronto
X-ORIGINAL-URL:https://www.ludwig-van.com/toronto
X-WR-CALDESC:Events for Ludwig van Toronto
BEGIN:VTIMEZONE
TZID:America/Toronto
BEGIN:DAYLIGHT
TZOFFSETFROM:-0500
TZOFFSETTO:-0400
TZNAME:EDT
DTSTART:20190310T070000
END:DAYLIGHT
BEGIN:STANDARD
TZOFFSETFROM:-0400
TZOFFSETTO:-0500
TZNAME:EST
DTSTART:20191103T060000
END:STANDARD
END:VTIMEZONE
BEGIN:VEVENT
DTSTART;TZID=America/Toronto:20191101T193000
DTEND;TZID=America/Toronto:20191101T213000
DTSTAMP:20260421T215514
CREATED:20190921T032308Z
LAST-MODIFIED:20190921T032308Z
UID:62597-1572636600-1572643800@www.ludwig-van.com
SUMMARY:Royal Conservatory | The Glenn Gould School Fall Opera: Jonathan Dove's Siren Song
DESCRIPTION:Students from The Glenn Gould School’s vocal program present Jonathan Dove’s Siren Song\, with libretto by Nick Dear\, led by Music Director Peter Tiefenbach. The 70-minute work for five singers\, an actor\, and an orchestra of 10 players is a bizarre\, true story of a young sailor who exchanges letters with a beautiful and successful model. Over time a romantic and passionate relationship develops\, but a meeting proves increasingly difficult to arrange. \nThis performance contains strong language and adult situations and may not be appropriate for all audiences.
URL:https://www.ludwig-van.com/toronto/event/royal-conservatory-glenn-gould-school-fall-opera-jonathan-doves-siren-song/
LOCATION:Mazzoleni Concert Hall\, 273 Bloor St West\, Toronto\, Ontario\, M5S 1W2\, Canada
CATEGORIES:opera
ATTACH;FMTTYPE=image/jpeg:https://www.ludwig-van.com/toronto/wp-content/uploads/sites/2/2019/09/fall-opera.jpg
ORGANIZER;CN="Royal%20Conservatory":MAILTO:tickets@rcmusic.ca
END:VEVENT
BEGIN:VEVENT
DTSTART;TZID=America/Toronto:20191101T193000
DTEND;TZID=America/Toronto:20191101T213000
DTSTAMP:20260421T215514
CREATED:20191022T213000Z
LAST-MODIFIED:20191022T213000Z
UID:64100-1572636600-1572643800@www.ludwig-van.com
SUMMARY:Trio Arkel | Après un Rêve
DESCRIPTION:Ravel – Duo for Violin and Cello\nBoulanger\nVieuxtemps\nFauré – Quartet for Piano in C Minor \nSpecial Guests:\nFrancine Kay\, Piano\nVictor Fournelle-Blain\, Viola
URL:https://www.ludwig-van.com/toronto/event/trio-arkel-apres-un-reve/
LOCATION:Trinity St-Paul’s Centre\, 427 Bloor Street West\, Toronto\, ON\, M5S 1X7\, Canada
CATEGORIES:Chamber music
ATTACH;FMTTYPE=image/jpeg:https://www.ludwig-van.com/toronto/wp-content/uploads/sites/2/2019/10/letter-reve-2-01.jpg
GEO:43.6661974;-79.4056008
X-APPLE-STRUCTURED-LOCATION;VALUE=URI;X-ADDRESS=Trinity St-Paul’s Centre 427 Bloor Street West Toronto ON M5S 1X7 Canada;X-APPLE-RADIUS=500;X-TITLE=427 Bloor Street West:geo:-79.4056008,43.6661974
END:VEVENT
BEGIN:VEVENT
DTSTART;TZID=America/Toronto:20191101T193000
DTEND;TZID=America/Toronto:20191101T213000
DTSTAMP:20260421T215514
CREATED:20191028T134517Z
LAST-MODIFIED:20191028T134517Z
UID:64260-1572636600-1572643800@www.ludwig-van.com
SUMMARY:Opera York | La Traviata
DESCRIPTION:Cast List \nVioletta Valéry\, a courtesan\nNatalya Gennadi\nAlfredo Germont\, a young bourgeois\nKijong Wi\nGiorgio Germont\, Alfredo’s father\nDiego Catala
URL:https://www.ludwig-van.com/toronto/event/opera-york-la-traviata/2019-11-01/
LOCATION:Richmond Hill Centre for the Performing Arts\, 10268 Yonge St\, Richmond Hill\, Ontario\, L4C 3B7\, Canada
CATEGORIES:opera
ATTACH;FMTTYPE=image/jpeg:https://www.ludwig-van.com/toronto/wp-content/uploads/sites/2/2019/10/Opera-York-La-Traviata.jpg
ORGANIZER;CN="Opera%20York":MAILTO:info@operayork.com
GEO:43.8774669;-79.4388848
X-APPLE-STRUCTURED-LOCATION;VALUE=URI;X-ADDRESS=Richmond Hill Centre for the Performing Arts 10268 Yonge St Richmond Hill Ontario L4C 3B7 Canada;X-APPLE-RADIUS=500;X-TITLE=10268 Yonge St:geo:-79.4388848,43.8774669
END:VEVENT
BEGIN:VEVENT
DTSTART;TZID=America/Toronto:20191101T200000
DTEND;TZID=America/Toronto:20191101T220000
DTSTAMP:20260421T215514
CREATED:20191022T203330Z
LAST-MODIFIED:20191022T203330Z
UID:64038-1572638400-1572645600@www.ludwig-van.com
SUMMARY:Royal Conservatory | Karina Gauvin with the Pacific Baroque Orchestra
DESCRIPTION:One of the world’s reigning sopranos in Baroque and Classical repertoire\, Karina Gauvin\, and Vancouver’s exciting and innovative specialists in performing “early music for modern ears\,” bring you a concert entitled “Russian White Nights: Opera arias from 18th century St. Petersburg.” \nAt the turn of the 18th century\, Peter the Great began to drag Russia\, often kicking and screaming\, toward the rest of Europe. His new capital\, St. Petersburg\, was to be a window to the West\, and to that end\, Peter imported Germans\, Czechs\, Italians\, and other nationalities in his quest to modernize his native land. He and his successors\, especially Anna Ivanovna\, Elizabeth\, and Catherine the Great\, saw the opera house as an opportunity to show off their cultural wealth as a modern European nation. \n“Karina Gauvin has proved herself one of the most delightful of Baroque sopranos. Her pellucid tone is now flecked with deeper\, richer colourings\, and precise\, nimble coloratura.” (Gramophone) \nKarina Gauvin\, soprano\nAlexander Weimann\, Music Director\nPacific Baroque Orchestra \nProgram: \nYevstigney Ipat’yevich Fomin: Overture (Allegro) from The Coachmen at the Relay Station \nDmitri Stepanovich Bortniansky: from Alcide\n“Mi sorprende”\n“In qual mar”\n“Dei clementi” \nDomenico Dall’Oglio: Sinfonia Cossaca \nI.     Allegro\nII.    Andante\nIII.   Allegro \nJohann Adolph Hasse: Sinfonia from La clemenza di Tito \nMaxim Sozontovich Berezovsky: from Demofoonte\n“Misero pargoletto”\nViolin Sonata in C Major (Grave)\n“Mentre il cor” \nINTERMISSION \nDmitri Stepanovich Bortniansky: from Le Faucon\nOuverture (Allegro spiritoso)\nAir d’Elvire: “Ne parlez pas” \nGiovanni Paisiello: Divertimento\nVI.     Largo\nIV.     Amabile\nV.      Allegretto \nChristoph Willibald Gluck: from Armide\n“Enfin\, il est en ma puissance”\n“Ah! Si la liberté”\n“O ciel! Quelle horrible menace”\n“Gratioso”\n“Le perfid Renaud me fuit” \nTickets\, here.
URL:https://www.ludwig-van.com/toronto/event/royal-conservatory-karina-gauvin-pacific-baroque-orchestra/
LOCATION:Koerner Hall\, 273 Bloor St W\, \, Toronto\, ON\, M5S 1V6\, Canada
CATEGORIES:Vocal
ATTACH;FMTTYPE=image/jpeg:https://www.ludwig-van.com/toronto/wp-content/uploads/sites/2/2017/03/Karina_Gauvin.jpg
ORGANIZER;CN="Royal%20Conservatory":MAILTO:tickets@rcmusic.ca
GEO:43.6679641;-79.3966795
X-APPLE-STRUCTURED-LOCATION;VALUE=URI;X-ADDRESS=Koerner Hall 273 Bloor St W  Toronto ON M5S 1V6 Canada;X-APPLE-RADIUS=500;X-TITLE=273 Bloor St W\,:geo:-79.3966795,43.6679641
END:VEVENT
END:VCALENDAR