BEGIN:VCALENDAR
VERSION:2.0
PRODID:-//Ludwig van Toronto - ECPv5.9.1//NONSGML v1.0//EN
CALSCALE:GREGORIAN
METHOD:PUBLISH
X-WR-CALNAME:Ludwig van Toronto
X-ORIGINAL-URL:https://www.ludwig-van.com/toronto
X-WR-CALDESC:Events for Ludwig van Toronto
BEGIN:VTIMEZONE
TZID:America/Toronto
BEGIN:DAYLIGHT
TZOFFSETFROM:-0500
TZOFFSETTO:-0400
TZNAME:EDT
DTSTART:20190310T070000
END:DAYLIGHT
BEGIN:STANDARD
TZOFFSETFROM:-0400
TZOFFSETTO:-0500
TZNAME:EST
DTSTART:20191103T060000
END:STANDARD
END:VTIMEZONE
BEGIN:VEVENT
DTSTART;TZID=America/Toronto:20191030T173000
DTEND;TZID=America/Toronto:20191030T223000
DTSTAMP:20260422T015051
CREATED:20191008T213248Z
LAST-MODIFIED:20191008T213248Z
UID:63022-1572456600-1572474600@www.ludwig-van.com
SUMMARY:Canadian Opera Company | Centre Stage: Ensemble Studio Competition
DESCRIPTION:Celebrate\, support\, and mingle with emerging opera stars and notable COC artists at the glittering Four Seasons Centre for the Performing Arts. Guests have the rare opportunity to dine on the stage of R. Fraser Elliott Hall. All proceeds from Centre Stage go towards the COC’s Ensemble Studio\, Canada’s premier training program for the next generation of opera talent.
URL:https://www.ludwig-van.com/toronto/event/canadian-opera-company-centre-stage-ensemble-studio-competition/2019-10-30/
LOCATION:R. Fraser Elliott Hall\, 145 Queen Street West\, Toronto\, Ontario\, M5H 4G1\, Canada
CATEGORIES:competition,Vocal
ATTACH;FMTTYPE=image/jpeg:https://www.ludwig-van.com/toronto/wp-content/uploads/sites/2/2019/10/COC-Ensemble-Studio-Competition.jpg
END:VEVENT
END:VCALENDAR