BEGIN:VCALENDAR
VERSION:2.0
PRODID:-//Ludwig van Toronto - ECPv5.9.1//NONSGML v1.0//EN
CALSCALE:GREGORIAN
METHOD:PUBLISH
X-WR-CALNAME:Ludwig van Toronto
X-ORIGINAL-URL:https://www.ludwig-van.com/toronto
X-WR-CALDESC:Events for Ludwig van Toronto
BEGIN:VTIMEZONE
TZID:America/Toronto
BEGIN:DAYLIGHT
TZOFFSETFROM:-0500
TZOFFSETTO:-0400
TZNAME:EDT
DTSTART:20190310T070000
END:DAYLIGHT
BEGIN:STANDARD
TZOFFSETFROM:-0400
TZOFFSETTO:-0500
TZNAME:EST
DTSTART:20191103T060000
END:STANDARD
END:VTIMEZONE
BEGIN:VEVENT
DTSTART;TZID=America/Toronto:20191029T120000
DTEND;TZID=America/Toronto:20191029T130000
DTSTAMP:20260422T034627
CREATED:20190921T030841Z
LAST-MODIFIED:20190921T030841Z
UID:62581-1572350400-1572354000@www.ludwig-van.com
SUMMARY:Canadian Opera Company | Free Concert Series: Old Songs\, New Songs
DESCRIPTION:VOCAL SERIES \nEnsemble Studio member Matthew Cairns made waves last year when we won First Prize at the COC’s annual Ensemble Studio Competition\, in addition to the CBC Music Young Artist Development Prize. He presents a preview of the assorted collection of songs set to be recorded by the CBC for future broadcast\, which ranges from composers like Duparc and Handel to Bernstein and Somers.
URL:https://www.ludwig-van.com/toronto/event/canadian-opera-company-free-concert-series-old-songs-new-songs/
LOCATION:Richard Bradshaw Amphitheatre\, Four Seasons Centre for the Performing Arts\, 145 Queen St. W.\, Toronto\, M5V 2A9
CATEGORIES:Free,Vocal
ATTACH;FMTTYPE=image/png:https://www.ludwig-van.com/toronto/wp-content/uploads/sites/2/2014/03/Canadian_Opera_Company_2011.png
END:VEVENT
END:VCALENDAR