BEGIN:VCALENDAR
VERSION:2.0
PRODID:-//Ludwig van Toronto - ECPv5.9.1//NONSGML v1.0//EN
CALSCALE:GREGORIAN
METHOD:PUBLISH
X-WR-CALNAME:Ludwig van Toronto
X-ORIGINAL-URL:https://www.ludwig-van.com/toronto
X-WR-CALDESC:Events for Ludwig van Toronto
BEGIN:VTIMEZONE
TZID:America/Toronto
BEGIN:DAYLIGHT
TZOFFSETFROM:-0500
TZOFFSETTO:-0400
TZNAME:EDT
DTSTART:20190310T070000
END:DAYLIGHT
BEGIN:STANDARD
TZOFFSETFROM:-0400
TZOFFSETTO:-0500
TZNAME:EST
DTSTART:20191103T060000
END:STANDARD
END:VTIMEZONE
BEGIN:VEVENT
DTSTART;TZID=America/Toronto:20191027T140000
DTEND;TZID=America/Toronto:20191027T150000
DTSTAMP:20260422T071422
CREATED:20191014T171717Z
LAST-MODIFIED:20191014T171717Z
UID:63898-1572184800-1572188400@www.ludwig-van.com
SUMMARY:Toronto Symphpny Orchestra | Symphony Spooktacular
DESCRIPTION:This Halloween\, trick-or-treat your boys and ghouls to a concert of hair-raising\, spine-tingling classical music\, as the TSO conjures up a variety of frightening favourites to haunt Roy Thomson Hall. Be sure to come dressed in costume to help the Orchestra get into the spirit of All Hallows’ Eve! \nYoung People’s Concerts are roughly one hour in length\, with no intermission. \nCome early to see an electrifying lobby performance by the Joy of Dance! \nProgram\n\n\nGrieg: “In the Hall of the Mountain King” from Peer Gynt\n\n\nStravinsky: “Infernal Dance of King Katschei” from The Firebird\n\n\nMaxime Goulet: “Metamorphosis of the Werewolf” from On Halloween Night\n\n\nMozart: “Der Hölle Rache” from Die Zauberflöte\n\n\nGounod: Funeral March of a Marionette\n\n\nJohn Williams: The Shark Theme from Jaws\n\n\nWeber: Excerpt from Overture to Der Freischutz\n\n\nJohn Williams: Imperial March from Star Wars: Episode V—The Empire Strikes Back\n\n\nBurke/arr. Daniel Bartholomew-Poyser: “Tiptoe through the Tulips”\n\n\nMaxime Goulet: “Attack of the Skeletons” from On Halloween Night\n\n\nWagner: “The Ride of the Valkyries” from Die Walküre\n\n\nPerformers\n\n\nDaniel Bartholomew-Poyser\, conductor\n\n\nTeiya Kasahara\, soprano\nJoy of Dance Centre\n\n\n\nTickets\, here.
URL:https://www.ludwig-van.com/toronto/event/toronto-symphpny-orchestra-symphony-spooktacular/2019-10-27/
LOCATION:Roy Thomson Hall\, 60 Simcoe St\, Toronto\, Ontario\, M5J 2H5\, Canada
CATEGORIES:Kids,Orchestra
ATTACH;FMTTYPE=image/jpeg:https://www.ludwig-van.com/toronto/wp-content/uploads/sites/2/2019/10/TSO-SYMPHONY-SPOOKTACULAR.jpg
END:VEVENT
BEGIN:VEVENT
DTSTART;TZID=America/Toronto:20191027T150000
DTEND;TZID=America/Toronto:20191027T170000
DTSTAMP:20260422T071422
CREATED:20190923T200839Z
LAST-MODIFIED:20190923T200839Z
UID:62694-1572188400-1572195600@www.ludwig-van.com
SUMMARY:Orchestra Toronto | Freude! 30 Years After the Fall of the Berlin Wall
DESCRIPTION:Wolfgang Amadeus Mozart – Piano Concerto No. 23 in A-minor\nLudwig van Beethoven – Symphony No. 9 in D-minor \nFEATURING\nMichael Newnham – Conductor\nElijah Orlenko – Piano\nLesley Bouza – Soprano\nAndrea Ludwig – Mezzo soprano\nAndrew Walker – Tenor\nBradley Christensen – Baritone\nThe Toronto Mendelssohn Choir \nLink for tickets\, see here.
URL:https://www.ludwig-van.com/toronto/event/orchestra-toronto-freude-30-years-after-the-fall-of-the-berlin-wall/
LOCATION:George Weston Recital Hall\, 5040 Yonge Street\, Toronto\, ON\, M2N 6R8\, Canada
CATEGORIES:Orchestra
ATTACH;FMTTYPE=image/jpeg:https://www.ludwig-van.com/toronto/wp-content/uploads/sites/2/2018/11/concert-1-slider-copy.jpg
GEO:43.7660095;-79.4144326
X-APPLE-STRUCTURED-LOCATION;VALUE=URI;X-ADDRESS=George Weston Recital Hall 5040 Yonge Street Toronto ON M2N 6R8 Canada;X-APPLE-RADIUS=500;X-TITLE=5040 Yonge Street:geo:-79.4144326,43.7660095
END:VEVENT
END:VCALENDAR