BEGIN:VCALENDAR
VERSION:2.0
PRODID:-//Ludwig van Toronto - ECPv5.9.1//NONSGML v1.0//EN
CALSCALE:GREGORIAN
METHOD:PUBLISH
X-WR-CALNAME:Ludwig van Toronto
X-ORIGINAL-URL:https://www.ludwig-van.com/toronto
X-WR-CALDESC:Events for Ludwig van Toronto
BEGIN:VTIMEZONE
TZID:America/Toronto
BEGIN:DAYLIGHT
TZOFFSETFROM:-0500
TZOFFSETTO:-0400
TZNAME:EDT
DTSTART:20190310T070000
END:DAYLIGHT
BEGIN:STANDARD
TZOFFSETFROM:-0400
TZOFFSETTO:-0500
TZNAME:EST
DTSTART:20191103T060000
END:STANDARD
END:VTIMEZONE
BEGIN:VEVENT
DTSTART;TZID=America/Toronto:20191026T125500
DTEND;TZID=America/Toronto:20191026T160000
DTSTAMP:20260422T085441
CREATED:20190921T123544Z
LAST-MODIFIED:20190921T123544Z
UID:62614-1572094500-1572105600@www.ludwig-van.com
SUMMARY:The Met: Live in HD | Manon (Massenet) French w/e.s.t.
DESCRIPTION:SYNOPSIS\nManon’s story—from innocent country girl to celebrated courtesan to destitute prisoner—is one of the great tragic tales in literature and music. Lisette Oropesa stars as the irresistible title character\, the tragic beauty who yearns for the finer things in life\, in Laurent Pelly’s revealing production. Michael Fabiano is the besotted Chevalier des Grieux\, whose desperate love for Manon proves their undoing. Maurizio Benini conducts Massenet’s sensual score. \nLIVE\n\nSaturday\, October 26\, 2019\n\nENCORES\n\nSaturday\, December 14\, 2019\nMonday\, January 13\, 2020\nWednesday\, January 15\, 2020\nSunday\, January 19\, 2020\n\nLocations and showtimes vary. See website for details.
URL:https://www.ludwig-van.com/toronto/event/met-live-hd-manon-massenet-french-s-t/2019-10-26/
LOCATION:Scotiabank Theatre Toronto\, 259 Richmond St W\, Toronto\, Ontario\, M5V 3M6\, Canada
CATEGORIES:Film,opera
ATTACH;FMTTYPE=image/jpeg:https://www.ludwig-van.com/toronto/wp-content/uploads/sites/2/2019/09/The-Met-Live-in-HD-2019-20.jpg
END:VEVENT
BEGIN:VEVENT
DTSTART;TZID=America/Toronto:20191026T200000
DTEND;TZID=America/Toronto:20191026T220000
DTSTAMP:20260422T085441
CREATED:20190921T032045Z
LAST-MODIFIED:20190921T032045Z
UID:62594-1572120000-1572127200@www.ludwig-van.com
SUMMARY:Royal Conservatory | Sir András Schiff
DESCRIPTION:Awarded Knighthood by Her Majesty Queen Elizabeth II in 2014\, Hungarian-born Sir András Schiff is world-renowned and critically acclaimed as a pianist\, conductor\, pedagogue\, and lecturer. His book\, Musik kommt aus der Stille\, essays and conversations with Martin Meyer\, was published in March 2017. His piano performances continually awe and inspire: “He found song where others find formula; he conveyed song where others play scales\,” The Los Angeles Times raves. The San Jose Mercury declared that “Among current piano titans\, András Schiff is the Zen master. He is both utterly relaxed and absolutely awake; taken together\, those qualities add up to an unbreakable focus. He is tireless and seemingly infallible\, and his playing is window-clear. Listening to Schiff play is like looking into a running stream and seeing all the colorful\, round pebbles beneath the water.” And we love this: “…the critic can only throw up his hands\, wish you had been there\, and quote Ira Gershwin’s endearing tombstone inscription: ‘Words Fail Me.’” (The New York Times) \nThis concert is part of The Royal Conservatory’s two-season Beethoven 250 Festival. \nProgram:\nLudwig van Beethoven: Piano Sonata No. 12 in A flat Major\, op. 26\nRobert Schumann: Piano Sonata No. 1 in F sharp Minor\, op. 11\nRobert Schumann: Fantasy in C Major\, op. 17\nLudwig van Beethoven: Piano Sonata No. 21 in C Major\, op. 53 (“Waldstein”) \nPlease join us at 7pm for a Prelude Recital with students from The Glenn Gould School. \nPLUS!\nSir András Schiff will lead a free public Master Class on Friday\, October 25\, 2-5pm in Mazzoleni Concert Hall. You are welcome to watch\, listen\, and learn as the master musician instructs three students from The Glenn Gould School.
URL:https://www.ludwig-van.com/toronto/event/royal-conservatory-sir-andras-schiff/
LOCATION:Koerner Hall\, 273 Bloor St W\, \, Toronto\, ON\, M5S 1V6\, Canada
CATEGORIES:Orchestra
ATTACH;FMTTYPE=image/jpeg:https://www.ludwig-van.com/toronto/wp-content/uploads/sites/2/2019/09/sir_andrás_schiff_2_website.jpg
ORGANIZER;CN="Royal%20Conservatory":MAILTO:tickets@rcmusic.ca
GEO:43.6679641;-79.3966795
X-APPLE-STRUCTURED-LOCATION;VALUE=URI;X-ADDRESS=Koerner Hall 273 Bloor St W  Toronto ON M5S 1V6 Canada;X-APPLE-RADIUS=500;X-TITLE=273 Bloor St W\,:geo:-79.3966795,43.6679641
END:VEVENT
END:VCALENDAR