BEGIN:VCALENDAR
VERSION:2.0
PRODID:-//Ludwig van Toronto - ECPv5.9.1//NONSGML v1.0//EN
CALSCALE:GREGORIAN
METHOD:PUBLISH
X-WR-CALNAME:Ludwig van Toronto
X-ORIGINAL-URL:https://www.ludwig-van.com/toronto
X-WR-CALDESC:Events for Ludwig van Toronto
BEGIN:VTIMEZONE
TZID:America/Toronto
BEGIN:DAYLIGHT
TZOFFSETFROM:-0500
TZOFFSETTO:-0400
TZNAME:EDT
DTSTART:20190310T070000
END:DAYLIGHT
BEGIN:STANDARD
TZOFFSETFROM:-0400
TZOFFSETTO:-0500
TZNAME:EST
DTSTART:20191103T060000
END:STANDARD
END:VTIMEZONE
BEGIN:VEVENT
DTSTART;TZID=America/Toronto:20191024T120000
DTEND;TZID=America/Toronto:20191024T130000
DTSTAMP:20260422T121904
CREATED:20190921T030704Z
LAST-MODIFIED:20190921T030704Z
UID:62579-1571918400-1571922000@www.ludwig-van.com
SUMMARY:Canadian Opera Company | Free Concert Series: Cultural Crossroads
DESCRIPTION:WORLD MUSIC SERIES \nThe Korean Traditional Music Association of Canada (KTMAC) brings the richness of Korean traditional music to the Richard Bradshaw Amphitheatre in a performance that features a variety of string\, wind and percussion instruments. By blending traditional and contemporary music\, they are able to transport ancient sounds into a modern context.
URL:https://www.ludwig-van.com/toronto/event/canadian-opera-company-free-concert-series-cultural-crossroads/
LOCATION:Richard Bradshaw Amphitheatre\, Four Seasons Centre for the Performing Arts\, 145 Queen St. W.\, Toronto\, M5V 2A9
CATEGORIES:Free,World Music
ATTACH;FMTTYPE=image/png:https://www.ludwig-van.com/toronto/wp-content/uploads/sites/2/2014/03/Canadian_Opera_Company_2011.png
END:VEVENT
END:VCALENDAR