BEGIN:VCALENDAR
VERSION:2.0
PRODID:-//Ludwig van Toronto - ECPv5.9.1//NONSGML v1.0//EN
CALSCALE:GREGORIAN
METHOD:PUBLISH
X-WR-CALNAME:Ludwig van Toronto
X-ORIGINAL-URL:https://www.ludwig-van.com/toronto
X-WR-CALDESC:Events for Ludwig van Toronto
BEGIN:VTIMEZONE
TZID:America/Toronto
BEGIN:DAYLIGHT
TZOFFSETFROM:-0500
TZOFFSETTO:-0400
TZNAME:EDT
DTSTART:20190310T070000
END:DAYLIGHT
BEGIN:STANDARD
TZOFFSETFROM:-0400
TZOFFSETTO:-0500
TZNAME:EST
DTSTART:20191103T060000
END:STANDARD
END:VTIMEZONE
BEGIN:VEVENT
DTSTART;TZID=America/Toronto:20191021T193000
DTEND;TZID=America/Toronto:20191021T213000
DTSTAMP:20260422T174137
CREATED:20191021T122203Z
LAST-MODIFIED:20191021T122203Z
UID:64005-1571686200-1571693400@www.ludwig-van.com
SUMMARY:University of Toronto Faculty of Music | Jonathan Crow and Joseph Johnson
DESCRIPTION:The Toronto Symphony Orchestra’s concertmaster Jonathan Crow and principal cellist Joseph Johnson team up for an unforgettable evening. \nGLIÈRE 8 Pieces\, Op. 39\, No. 1 a) Prelude b) Gavotte c) Etude and d) Scherzo\nHONG The Current and Those Who Ride It\nRAVEL Sonata for Violin and Cello\nKODÁLY Duo for Violin and Cello \n7:30 pm in Walter Hall\, 80 Queen’s Park \n$40\, $25 senior\, $10 student\nU of T students admitted free with a valid TCard\, space permitting. \nTickets\, here.
URL:https://www.ludwig-van.com/toronto/event/university-toronto-faculty-music-jonathan-crow-joseph-johnson/
LOCATION:Walter Hall – University of Toronto\, 80 Queens Park\, Toronto\, ON\, M5S 2C5\, Canada
CATEGORIES:Chamber music
ATTACH;FMTTYPE=image/jpeg:https://www.ludwig-van.com/toronto/wp-content/uploads/sites/2/2014/10/Jonathan-Crow-photo-Sian-Richards.jpg
GEO:43.666508;-79.3944708
X-APPLE-STRUCTURED-LOCATION;VALUE=URI;X-ADDRESS=Walter Hall – University of Toronto 80 Queens Park Toronto ON M5S 2C5 Canada;X-APPLE-RADIUS=500;X-TITLE=80 Queens Park:geo:-79.3944708,43.666508
END:VEVENT
END:VCALENDAR