BEGIN:VCALENDAR
VERSION:2.0
PRODID:-//Ludwig van Toronto - ECPv5.9.1//NONSGML v1.0//EN
CALSCALE:GREGORIAN
METHOD:PUBLISH
X-WR-CALNAME:Ludwig van Toronto
X-ORIGINAL-URL:https://www.ludwig-van.com/toronto
X-WR-CALDESC:Events for Ludwig van Toronto
BEGIN:VTIMEZONE
TZID:America/Toronto
BEGIN:DAYLIGHT
TZOFFSETFROM:-0500
TZOFFSETTO:-0400
TZNAME:EDT
DTSTART:20190310T070000
END:DAYLIGHT
BEGIN:STANDARD
TZOFFSETFROM:-0400
TZOFFSETTO:-0500
TZNAME:EST
DTSTART:20191103T060000
END:STANDARD
END:VTIMEZONE
BEGIN:VEVENT
DTSTART;TZID=America/Toronto:20191020T140000
DTEND;TZID=America/Toronto:20191020T160000
DTSTAMP:20260422T193120
CREATED:20190921T031642Z
LAST-MODIFIED:20190921T031642Z
UID:62588-1571580000-1571587200@www.ludwig-van.com
SUMMARY:Royal Conservatory | A Hungarian Trilogy
DESCRIPTION:Violinist Erika Raum\, known for her “individuality and warm\, communicative tone” (Muzsika\, Budapest)\, is joined by violist Barry Shiffman and cellist Tom Wiebe\, to perform monumental works by three of Hungary’s most beloved composers: Béla Bartók\, Zoltán Kodály\, and Ernő Dohnányi. \nProgram:\nBéla Bartók: Sonata for Solo Violin\, Sz. 117\, BB 124\nZoltán Kodály: Duo for Violin and Cello\, op. 7\nErnő Dohnányi: Serenade\, op. 10
URL:https://www.ludwig-van.com/toronto/event/royal-conservatory-hungarian-trilogy/
LOCATION:Mazzoleni Concert Hall\, 273 Bloor St West\, Toronto\, Ontario\, M5S 1W2\, Canada
CATEGORIES:Chamber music
ATTACH;FMTTYPE=image/jpeg:https://www.ludwig-van.com/toronto/wp-content/uploads/sites/2/2019/09/hungarian-trilogy.jpg
ORGANIZER;CN="Royal%20Conservatory":MAILTO:tickets@rcmusic.ca
END:VEVENT
BEGIN:VEVENT
DTSTART;TZID=America/Toronto:20191020T143000
DTEND;TZID=America/Toronto:20191020T173000
DTSTAMP:20260422T193120
CREATED:20191014T144653Z
LAST-MODIFIED:20191014T144653Z
UID:63880-1571581800-1571592600@www.ludwig-van.com
SUMMARY:Voicebox/Opera In Concert | L'enfant et les sortilèges & L'heure espagnole
DESCRIPTION:Alluring and magical\, an enchanted world leads a young child to a vision of our shared humanity\, while defective grandfather clocks teach their own lessons reflecting the comedic frustrations of life. \nFeaturing\nSuzy Smith\, Music Director and Pianist\nRobert Cooper\, Chorus Director \nDanlie Rae Acebuque\nHolly Chaplin\nJoshua Clemenger\nDiana Di Mauro\nAnika-France Forget\nEdward Larocque\nKyle Merrithew\nMeghan Symon
URL:https://www.ludwig-van.com/toronto/event/voiceboxopera-concert-lenfant-et-les-sortileges-lheure-espagnole/
LOCATION:Jane Mallet Theatre\, 27 Front St. East\, Toronto\, ON\, M5E\, Canada
CATEGORIES:opera
ATTACH;FMTTYPE=image/jpeg:https://www.ludwig-van.com/toronto/wp-content/uploads/sites/2/2019/10/Enfantand-Espagnole_web.jpg
GEO:43.6472494;-79.3763834
X-APPLE-STRUCTURED-LOCATION;VALUE=URI;X-ADDRESS=Jane Mallet Theatre 27 Front St. East Toronto ON M5E Canada;X-APPLE-RADIUS=500;X-TITLE=27 Front St. East:geo:-79.3763834,43.6472494
END:VEVENT
BEGIN:VEVENT
DTSTART;TZID=America/Toronto:20191020T151500
DTEND;TZID=America/Toronto:20191020T170000
DTSTAMP:20260422T193120
CREATED:20191002T130749Z
LAST-MODIFIED:20191002T130830Z
UID:62872-1571584500-1571590800@www.ludwig-van.com
SUMMARY:Mooredale Concerts | Bennewitz Quartet
DESCRIPTION:Formed in 1998\, the Bennewitz Quartet is amongst the top international chamber ensembles today. The Frankfurter Allgemeine Zeitung 2006 review: “… the music was remarkable not just for its clarity of structure\, but for the beautiful tonal palette and purity of intonation in its execution. Only very rarely does one experience such skillfully crafted and powerful harmonies… Great art.” In 2019\, the ensemble won the Classic Prague Award for Best Chamber Music Performance of the year. \nThe Czech-based group has performed at Wigmore Hall\, Musikverein\, Konzerthaus\, Théâtre des Champs-Elysées\, The Frick Collection\, Seoul Art Center\, and at significant festivals including Salzburg\, Lucerne\, Rheingau\, Kammermusikfest\, and Lockenhaus. \nThey have collaborated with esteemed artists such Jean-Yves Thibaudet\, Alexander Melnikov\, Vadim Gluzman\, and Jiří Bělohlávek/Czech Philharmonic Orchestra. This year\, they will present Absolute Jest by John Adams with the Prague Symphony Orchestra. \nThe ensemble will perform J.S. Bach’s The Art of the Fugue (selections)\, Mendelssohn’s String Quartet in A minor\, Op. 13\, and Beethoven’s String Quartet in A minor\, Op. 132. \nTickets\, here.
URL:https://www.ludwig-van.com/toronto/event/mooredale-concerts-bennewitz-quartet/
LOCATION:Walter Hall\, 80 Queens Park\, Toronto\, ON\, M5S 2C5\, Canada
CATEGORIES:Chamber music
ATTACH;FMTTYPE=image/jpeg:https://www.ludwig-van.com/toronto/wp-content/uploads/sites/2/2019/10/2019Bennewitz-bridgestanding.jpg
GEO:43.666508;-79.3944708
X-APPLE-STRUCTURED-LOCATION;VALUE=URI;X-ADDRESS=Walter Hall 80 Queens Park Toronto ON M5S 2C5 Canada;X-APPLE-RADIUS=500;X-TITLE=80 Queens Park:geo:-79.3944708,43.666508
END:VEVENT
BEGIN:VEVENT
DTSTART;TZID=America/Toronto:20191020T153000
DTEND;TZID=America/Toronto:20191020T173000
DTSTAMP:20260422T193120
CREATED:20191014T145056Z
LAST-MODIFIED:20191014T145056Z
UID:63883-1571585400-1571592600@www.ludwig-van.com
SUMMARY:Toronto Mendelssohn Choir | Singing Through Centuries: 125th Anniversary Gala Concert
DESCRIPTION:The concert will musically span the TMC’s 125-year history\, moving from the founding year of 1894 into the future with an anniversary composition by acclaimed Cree composer Andrew Balfour. \nThe concert will open with two glorious acappella works by Mendelssohn (of whom we are the namesake)\, followed by a stellar choral-orchestral work from each century during which the Choir has sung. \nFelix Mendelssohn: Denn er hat seinen Engeln befohlen über dir (1844) \nFelix Mendelssohn: Psalm 43: Richte mich\, Gott (1844) \nIgor Stravinsky: Symphony of Psalms (1930) \nAndrew Balfour: Mamachimowin [the act of singing praises] (2019\, a TMC commission) \nGabriel Fauré: Requiem (re-orchestration by the composer first performed in 1894)
URL:https://www.ludwig-van.com/toronto/event/toronto-mendelssohn-choir-singing-centuries-125th-anniversary-gala-concert/
LOCATION:Koerner Hall\, 273 Bloor St W\, \, Toronto\, ON\, M5S 1V6\, Canada
CATEGORIES:Vocal
ATTACH;FMTTYPE=image/jpeg:https://www.ludwig-van.com/toronto/wp-content/uploads/sites/2/2019/10/TMChoir_concert_680x452-revised.jpg
GEO:43.6679641;-79.3966795
X-APPLE-STRUCTURED-LOCATION;VALUE=URI;X-ADDRESS=Koerner Hall 273 Bloor St W  Toronto ON M5S 1V6 Canada;X-APPLE-RADIUS=500;X-TITLE=273 Bloor St W\,:geo:-79.3966795,43.6679641
END:VEVENT
END:VCALENDAR