BEGIN:VCALENDAR
VERSION:2.0
PRODID:-//Ludwig van Toronto - ECPv5.9.1//NONSGML v1.0//EN
CALSCALE:GREGORIAN
METHOD:PUBLISH
X-WR-CALNAME:Ludwig van Toronto
X-ORIGINAL-URL:https://www.ludwig-van.com/toronto
X-WR-CALDESC:Events for Ludwig van Toronto
BEGIN:VTIMEZONE
TZID:America/Toronto
BEGIN:DAYLIGHT
TZOFFSETFROM:-0500
TZOFFSETTO:-0400
TZNAME:EDT
DTSTART:20190310T070000
END:DAYLIGHT
BEGIN:STANDARD
TZOFFSETFROM:-0400
TZOFFSETTO:-0500
TZNAME:EST
DTSTART:20191103T060000
END:STANDARD
END:VTIMEZONE
BEGIN:VEVENT
DTSTART;TZID=America/Toronto:20191019T140000
DTEND;TZID=America/Toronto:20191019T170000
DTSTAMP:20260422T210908
CREATED:20191014T144141Z
LAST-MODIFIED:20191014T144141Z
UID:63877-1571493600-1571504400@www.ludwig-van.com
SUMMARY:University of Toronto Faculty of Music | Acis and Galatea
DESCRIPTION:A story of the tragic impermanence of love as seen through the eyes of a nymph and shepherd\, Acis and Galatea is the most famous of Handel’s dramatic works. The brilliant tenor Isaiah Bell\, a graduate from the Historical Performance area\, stage directs with the esteemed violinist and educator Larry Beckwith leading musicians from the Collegium Musicum and Schola Cantorum. \nIsaiah Bell\, stage director\nLarry Beckwith\, conductor
URL:https://www.ludwig-van.com/toronto/event/university-toronto-faculty-music-acis-galatea/
LOCATION:Heliconian Hall\, 35 Hazelton Avenue\, Toronto\, ON\, M5R 2E3\, Canada
CATEGORIES:opera
ATTACH;FMTTYPE=image/jpeg:https://www.ludwig-van.com/toronto/wp-content/uploads/sites/2/2016/03/uoftlogo2_3.jpg
END:VEVENT
BEGIN:VEVENT
DTSTART;TZID=America/Toronto:20191019T153000
DTEND;TZID=America/Toronto:20191019T163000
DTSTAMP:20260422T210908
CREATED:20191016T174845Z
LAST-MODIFIED:20191016T174845Z
UID:63955-1571499000-1571502600@www.ludwig-van.com
SUMMARY:Amadeus Choir I Threnody: Remembrance\, rest\, homecoming I
DESCRIPTION:Kathleen Allan’s debut concert as Artistic Director and Conductor of the Amadeus Choir features works for choir and strings and begins with a world premiere by celebrated Canadian composer Rita Ueda. Centering around themes of reflection and remembrance\, the program includes works by Beethoven\, Britten\, Mendelssohn\, and Rheinberger\, and culminates in Tarik O’Regan’s explosive three-movement work\, Triptych. With its “relentless urban rhythms” and texts from vastly diverse sources\, the piece deals with the pain of war and looks forward with elated optimism to a time of peace. \n\nTickets\, here.
URL:https://www.ludwig-van.com/toronto/event/amadeus-choir-i-threnody-remembrance-rest-homecoming-i/
LOCATION:St. John’s York Mills Church\, 19 Don Ridge Drive\, North York\, Ontario\, M2P 1H3\, Canada
CATEGORIES:Vocal
ATTACH;FMTTYPE=image/jpeg:https://www.ludwig-van.com/toronto/wp-content/uploads/sites/2/2019/09/Amadeus-Choir-cover.jpg
END:VEVENT
BEGIN:VEVENT
DTSTART;TZID=America/Toronto:20191019T163000
DTEND;TZID=America/Toronto:20191019T183000
DTSTAMP:20260422T210908
CREATED:20190921T031418Z
LAST-MODIFIED:20190921T031418Z
UID:62585-1571502600-1571509800@www.ludwig-van.com
SUMMARY:Royal Conservatory | Taylor Academy Showcase Concert
DESCRIPTION:The Phil and Eli Taylor Performance Academy for Young Artists presents this concert by the leading young classical musicians in Canada. Hear the stars of tomorrow!
URL:https://www.ludwig-van.com/toronto/event/royal-conservatory-taylor-academy-showcase-concert/
LOCATION:Mazzoleni Concert Hall\, 273 Bloor St West\, Toronto\, Ontario\, M5S 1W2\, Canada
CATEGORIES:Chamber music,Free
ATTACH;FMTTYPE=image/jpeg:https://www.ludwig-van.com/toronto/wp-content/uploads/sites/2/2019/09/tasc.jpg
ORGANIZER;CN="Royal%20Conservatory":MAILTO:tickets@rcmusic.ca
END:VEVENT
BEGIN:VEVENT
DTSTART;TZID=America/Toronto:20191019T190000
DTEND;TZID=America/Toronto:20191019T200000
DTSTAMP:20260422T210908
CREATED:20191016T175109Z
LAST-MODIFIED:20191016T175109Z
UID:63958-1571511600-1571515200@www.ludwig-van.com
SUMMARY:Amadeus Choir I Threnody: Remembrance\, rest\, homecoming II
DESCRIPTION:Kathleen Allan’s debut concert as Artistic Director and Conductor of the Amadeus Choir features works for choir and strings and begins with a world premiere by celebrated Canadian composer Rita Ueda. Centering around themes of reflection and remembrance\, the program includes works by Beethoven\, Britten\, Mendelssohn\, and Rheinberger\, and culminates in Tarik O’Regan’s explosive three-movement work\, Triptych. With its “relentless urban rhythms” and texts from vastly diverse sources\, the piece deals with the pain of war and looks forward with elated optimism to a time of peace. \n\nTickets\, here
URL:https://www.ludwig-van.com/toronto/event/amadeus-choir-threnody-remembrance-rest-homecoming-ii/
LOCATION:St. John’s York Mills Church\, 19 Don Ridge Drive\, North York\, Ontario\, M2P 1H3\, Canada
CATEGORIES:Vocal
ATTACH;FMTTYPE=image/jpeg:https://www.ludwig-van.com/toronto/wp-content/uploads/sites/2/2019/09/Amadeus-Choir-cover.jpg
END:VEVENT
END:VCALENDAR