BEGIN:VCALENDAR
VERSION:2.0
PRODID:-//Ludwig van Toronto - ECPv5.9.1//NONSGML v1.0//EN
CALSCALE:GREGORIAN
METHOD:PUBLISH
X-WR-CALNAME:Ludwig van Toronto
X-ORIGINAL-URL:https://www.ludwig-van.com/toronto
X-WR-CALDESC:Events for Ludwig van Toronto
BEGIN:VTIMEZONE
TZID:America/Toronto
BEGIN:DAYLIGHT
TZOFFSETFROM:-0500
TZOFFSETTO:-0400
TZNAME:EDT
DTSTART:20190310T070000
END:DAYLIGHT
BEGIN:STANDARD
TZOFFSETFROM:-0400
TZOFFSETTO:-0500
TZNAME:EST
DTSTART:20191103T060000
END:STANDARD
END:VTIMEZONE
BEGIN:VEVENT
DTSTART;TZID=America/Toronto:20191017T193000
DTEND;TZID=America/Toronto:20191017T213000
DTSTAMP:20260423T115109
CREATED:20191014T142845Z
LAST-MODIFIED:20191014T142845Z
UID:63867-1571340600-1571347800@www.ludwig-van.com
SUMMARY:University of Toronto Faculty of Music | U of T Symphony Orchestra
DESCRIPTION:Uri Mayer\, conductor\nwith Michelle Lin\, piano\, one of the winners of the 2018-19 UTSO Concerto Competition \nMOZART Symphony No. 41\, K. 551 in C major (Jupiter)\nRAVEL Rapsodie espagnole\nKULESHA Non-Destructive Classical Music\nTCHAIKOVSKY Piano Concerto No. 1\, Op. 23 in B-flat minor \n*Join us at 7 pm in Room 130\, 80 Queen’s Park\, for Symphony Talk\, a pre-performance talk with Gary Kulesha\, Associate Professor\, Composition. \n$30\, $20 senior\, $10 student\nU of T students admitted free with a valid TCard\, space permitting.
URL:https://www.ludwig-van.com/toronto/event/university-toronto-faculty-music-u-t-symphony-orchestra-6/
LOCATION:MacMillan Theatre\, 80 Queens Park\, Toronto\, Ontario\, M5S 2C5\, Canada
CATEGORIES:Orchestra
ATTACH;FMTTYPE=image/jpeg:https://www.ludwig-van.com/toronto/wp-content/uploads/sites/2/2016/03/uoftlogo2_3.jpg
GEO:43.666508;-79.3944708
X-APPLE-STRUCTURED-LOCATION;VALUE=URI;X-ADDRESS=MacMillan Theatre 80 Queens Park Toronto Ontario M5S 2C5 Canada;X-APPLE-RADIUS=500;X-TITLE=80 Queens Park:geo:-79.3944708,43.666508
END:VEVENT
BEGIN:VEVENT
DTSTART;TZID=America/Toronto:20191017T200000
DTEND;TZID=America/Toronto:20191017T220000
DTSTAMP:20260423T115109
CREATED:20191014T143256Z
LAST-MODIFIED:20191014T143256Z
UID:63870-1571342400-1571349600@www.ludwig-van.com
SUMMARY:Music Toronto | Quartetto di Cremona
DESCRIPTION:Since its formation in 2000\, the Quartetto di Cremona has established a reputation as one of the most exciting chamber ensembles on the international stage. Unanimously considered the true heir of the great Quartetto Italiano\, 2018 brought the release of their recording of the complete Beethoven string quartets (Audite). Of special interest is that the Nippon Music Foundation has entrusted them with the Stradivarius “Paganini Quartet” of instruments\, well known to us from the final years of the Tokyo Quartet. \nBoccherini\, String Quartet in C Major\, Op. 2\, No. 6\nVerdi\, Quartet in E Minor \nPuccini\, I Crisantemi\nRespighi\, Quartet in D Major
URL:https://www.ludwig-van.com/toronto/event/music-toronto-quartetto-di-cremona/
LOCATION:Jane Mallett Theatre\, 27 Front St. E. \, Toronto\, Ontario\, M5E 1B4\, Canada
CATEGORIES:Chamber music
ATTACH;FMTTYPE=image/jpeg:https://www.ludwig-van.com/toronto/wp-content/uploads/sites/2/2019/10/cremona.jpg
GEO:43.6473468;-79.3750764
X-APPLE-STRUCTURED-LOCATION;VALUE=URI;X-ADDRESS=Jane Mallett Theatre 27 Front St. E.  Toronto Ontario M5E 1B4 Canada;X-APPLE-RADIUS=500;X-TITLE=27 Front St. E.:geo:-79.3750764,43.6473468
END:VEVENT
BEGIN:VEVENT
DTSTART;TZID=America/Toronto:20191017T200000
DTEND;TZID=America/Toronto:20191017T230000
DTSTAMP:20260423T115109
CREATED:20191014T143754Z
LAST-MODIFIED:20191014T143754Z
UID:63874-1571342400-1571353200@www.ludwig-van.com
SUMMARY:Show One Productions | Denis Matsuev
DESCRIPTION:Since his triumph at the 11th International Tchaikovsky Competition in 1998\, Denis Matsuev has become a virtuoso in the grandest of Russian pianistic traditions. Denis Matsuev is highly demanded worldwide as a recitalist and a soloist playing with all the major Orchestras in the most prestigious venues around the globe.
URL:https://www.ludwig-van.com/toronto/event/show-one-productions-denis-matsuev/
LOCATION:Koerner Hall\, 273 Bloor St W\, \, Toronto\, ON\, M5S 1V6\, Canada
CATEGORIES:Chamber music,piano
ATTACH;FMTTYPE=image/jpeg:https://www.ludwig-van.com/toronto/wp-content/uploads/sites/2/2019/10/Gergiev-Mariinsky-Matsuev02.jpg
GEO:43.6679641;-79.3966795
X-APPLE-STRUCTURED-LOCATION;VALUE=URI;X-ADDRESS=Koerner Hall 273 Bloor St W  Toronto ON M5S 1V6 Canada;X-APPLE-RADIUS=500;X-TITLE=273 Bloor St W\,:geo:-79.3966795,43.6679641
END:VEVENT
END:VCALENDAR