BEGIN:VCALENDAR
VERSION:2.0
PRODID:-//Ludwig van Toronto - ECPv5.9.1//NONSGML v1.0//EN
CALSCALE:GREGORIAN
METHOD:PUBLISH
X-WR-CALNAME:Ludwig van Toronto
X-ORIGINAL-URL:https://www.ludwig-van.com/toronto
X-WR-CALDESC:Events for Ludwig van Toronto
BEGIN:VTIMEZONE
TZID:America/Toronto
BEGIN:DAYLIGHT
TZOFFSETFROM:-0500
TZOFFSETTO:-0400
TZNAME:EDT
DTSTART:20190310T070000
END:DAYLIGHT
BEGIN:STANDARD
TZOFFSETFROM:-0400
TZOFFSETTO:-0500
TZNAME:EST
DTSTART:20191103T060000
END:STANDARD
END:VTIMEZONE
BEGIN:VEVENT
DTSTART;TZID=America/Toronto:20191015T120000
DTEND;TZID=America/Toronto:20191015T130000
DTSTAMP:20260423T144105
CREATED:20190921T030123Z
LAST-MODIFIED:20190921T030123Z
UID:62573-1571140800-1571144400@www.ludwig-van.com
SUMMARY:Canadian Opera Company | Free Concert Series: Junctions: A Canadian Vibe
DESCRIPTION:CHAMBER MUSIC SERIES \nIn their search for a musical identity that embraces all of Canada\, the duo meagan&amy reveals the connections between Canadian music and music from the great European tradition\, particularly through the works of André Mathieu\, David L. McIntyre\, and Claude Debussy\, among others. This is an opportunity to discover a shared musical heritage that\, while rooted in European music\, has evolved its own distinct Canadian qualities.
URL:https://www.ludwig-van.com/toronto/event/canadian-opera-company-free-concert-series-junctions-canadian-vibe/
LOCATION:Richard Bradshaw Amphitheatre\, Four Seasons Centre for the Performing Arts\, 145 Queen St. W.\, Toronto\, M5V 2A9
CATEGORIES:Chamber music,Free
ATTACH;FMTTYPE=image/png:https://www.ludwig-van.com/toronto/wp-content/uploads/sites/2/2014/03/Canadian_Opera_Company_2011.png
END:VEVENT
BEGIN:VEVENT
DTSTART;TZID=America/Toronto:20191015T200000
DTEND;TZID=America/Toronto:20191015T220000
DTSTAMP:20260423T144105
CREATED:20191014T170930Z
LAST-MODIFIED:20191014T170930Z
UID:63893-1571169600-1571176800@www.ludwig-van.com
SUMMARY:Toronto Symphpny Orchestra | James Bond: The Music
DESCRIPTION:Prepare to be shaken and stirred as the TSO pays tribute to the suave and immortal secret agent. Relive the iconic hits—“Skyfall”\, “Live and Let Die”\, “For Your Eyes Only”\, and more—and discover why nobody does it better than Bond. \nPerformances are roughly two hours long\, including a 20-minute intermission. \nPerformers\n\n\nJohn Morris Russell\, conductor\n\n\nCapathia Jenkins\, vocalist\n\n\nRon Bohmer\, vocalist\n\n\nTickets\, here.
URL:https://www.ludwig-van.com/toronto/event/toronto-symphpny-orchestra-james-bond-music/2019-10-15/
LOCATION:Roy Thomson Hall\, 60 Simcoe St\, Toronto\, Ontario\, M5J 2H5\, Canada
CATEGORIES:Film,Orchestra
ATTACH;FMTTYPE=image/jpeg:https://www.ludwig-van.com/toronto/wp-content/uploads/sites/2/2019/10/James-Bond-TSO.jpg
END:VEVENT
END:VCALENDAR