BEGIN:VCALENDAR
VERSION:2.0
PRODID:-//Ludwig van Toronto - ECPv5.9.1//NONSGML v1.0//EN
CALSCALE:GREGORIAN
METHOD:PUBLISH
X-WR-CALNAME:Ludwig van Toronto
X-ORIGINAL-URL:https://www.ludwig-van.com/toronto
X-WR-CALDESC:Events for Ludwig van Toronto
BEGIN:VTIMEZONE
TZID:America/Toronto
BEGIN:DAYLIGHT
TZOFFSETFROM:-0500
TZOFFSETTO:-0400
TZNAME:EDT
DTSTART:20190310T070000
END:DAYLIGHT
BEGIN:STANDARD
TZOFFSETFROM:-0400
TZOFFSETTO:-0500
TZNAME:EST
DTSTART:20191103T060000
END:STANDARD
END:VTIMEZONE
BEGIN:VEVENT
DTSTART;TZID=America/Toronto:20191012T125500
DTEND;TZID=America/Toronto:20191012T163000
DTSTAMP:20260423T195317
CREATED:20190921T122902Z
LAST-MODIFIED:20190921T122902Z
UID:62605-1570884900-1570897800@www.ludwig-van.com
SUMMARY:The Met: Live in HD | Turandot (Puccini) Italian w/ e.s.t.
DESCRIPTION:Met Music Director Yannick Nézet-Séguin conducts Franco Zeffirelli’s celebrated production of Turandot\, which stars Christine Goerke in the title role of the icy Chinese princess who has renounced all men. Roberto Aronica sings Calàf\, the suitor who risks his head for her hand and sings the famed aria “Nessun dorma.” Eleonora Buratto is the slave girl Liù\, and James Morrisis Calàf’s long-lost father\, Timur. \nLIVE\n\nSaturday\, October 12\, 2019\n\nENCORES\n\nSaturday\, November 2\, 2019\nMonday\, November 4\, 2019\nWednesday\, November 6\, 2019\nSunday\, November 10\, 2019\n\nLocations and showtimes vary. See website for details.
URL:https://www.ludwig-van.com/toronto/event/met-live-hd-turandot-puccini-italian-w-e-s-t/2019-10-12/
LOCATION:Scotiabank Theatre Toronto\, 259 Richmond St W\, Toronto\, Ontario\, M5V 3M6\, Canada
CATEGORIES:Film,opera
ATTACH;FMTTYPE=image/jpeg:https://www.ludwig-van.com/toronto/wp-content/uploads/sites/2/2019/09/MET_Turandot_marquee.jpg
END:VEVENT
BEGIN:VEVENT
DTSTART;TZID=America/Toronto:20191012T193000
DTEND;TZID=America/Toronto:20191012T230000
DTSTAMP:20260423T195317
CREATED:20190921T013654Z
LAST-MODIFIED:20190921T013654Z
UID:62505-1570908600-1570921200@www.ludwig-van.com
SUMMARY:Canadian Opera Company | Rasalka
DESCRIPTION:RUSALKA\nAntonín Dvořák \nOCTOBER 12 TO OCTOBER 26\, 2019\n\nFour Seasons Centre for the Performing Arts\n\nPerformance time is approximately three hours and 30 minutes\, including two intermissions.\n\nCAST AND CREATIVE TEAMS \n \nConductor Johannes Debus\nDirector David McVicar\nSet Designer John Macfarlane\nCostume Designer Moritz Junge\nLighting Designer David Finn\nChoreographer Andrew George\nPrice Family Chorus Master Sandra Horst \nRusalka Sondra Radvanovsky\nVodník Štefan Kocán\nJežibaba Elena Manistina\nPrince Pavel Cernoch\nForeign Princess Keri Alkema\nFirst Wood Nymph Anna-Sophie Neher\nSecond Wood Nymph Jamie Groote\nThird Wood Nymph Lauren Segal\nGamekeeper Matthew Cairns\nTurnspit Lauren Eberwein\nHunter Vartan Gabrielian
URL:https://www.ludwig-van.com/toronto/event/canadian-opera-company-rasalka/2019-10-12/
LOCATION:Four Seasons Centre\, 145 Queen St. W.\, Toronto\, Ontario\, M5H 4G1\, Canada
CATEGORIES:opera
ATTACH;FMTTYPE=image/jpeg:https://www.ludwig-van.com/toronto/wp-content/uploads/sites/2/2019/09/COC-RUSALKA.jpg
END:VEVENT
END:VCALENDAR