BEGIN:VCALENDAR
VERSION:2.0
PRODID:-//Ludwig van Toronto - ECPv5.9.1//NONSGML v1.0//EN
CALSCALE:GREGORIAN
METHOD:PUBLISH
X-WR-CALNAME:Ludwig van Toronto
X-ORIGINAL-URL:https://www.ludwig-van.com/toronto
X-WR-CALDESC:Events for Ludwig van Toronto
BEGIN:VTIMEZONE
TZID:America/Toronto
BEGIN:DAYLIGHT
TZOFFSETFROM:-0500
TZOFFSETTO:-0400
TZNAME:EDT
DTSTART:20190310T070000
END:DAYLIGHT
BEGIN:STANDARD
TZOFFSETFROM:-0400
TZOFFSETTO:-0500
TZNAME:EST
DTSTART:20191103T060000
END:STANDARD
END:VTIMEZONE
BEGIN:VEVENT
DTSTART;TZID=America/Toronto:20191009T200000
DTEND;TZID=America/Toronto:20191009T220000
DTSTAMP:20260424T005128
CREATED:20191007T123450Z
LAST-MODIFIED:20191007T123450Z
UID:62963-1570651200-1570658400@www.ludwig-van.com
SUMMARY:Toronto Symphony Orchestra | Gimeno Conducts Daphnis et Chloé
DESCRIPTION:GIMENO CONDUCTS DAPHNIS ET CHLOÉ\n\n\n\n\n\nExperience the full force of the Orchestra when Gustavo Gimeno returns! The TSO’s incoming Music Director leads a suite from Ravel’s lush and passionate Daphnis et Chloé. And the brilliant Beatrice Rana makes her TSO début playing Prokofiev’s blistering Piano Concerto No. 3. \nFree pre-concert performance by The TSO Chamber Soloists on October 9\, 2019! Admission is included in the price of your ticket. Seating is limited\, and latecomers will not be admitted after the performance start time. \nProgram\n\n\nGuillaume Connesson: Aleph: Danse symphonique (TSO Co-commission) [15′]\n\n\nProkofiev: Piano Concerto No. 3 [28′]\n\n\nIntermission [20′]\n\n\nTchaikovsky: The Tempest Fantasy-Overture [18′]\n\n\nRavel: Daphnis et Chloé Suite No. 2 [16′]\n\n\nPerformers\n\n\nGustavo Gimeno\nconductor\n\n\nBeatrice Rana\npiano\n\n\nOct 9 at 6:45 pm: Free pre-concert performance by The TSO Chamber Soloists \nRavel/arr. Skaila Kanga: Sonatine en Trio – Mvt. II\nFauré: Après un Reve\nFauré: En Prière\nDebussy: Sonata for Flute\, Viola\, and Harp \nKelly Zimba\, flute\nTheresa Rudolph\, viola\nHeidi Elise Bearcroft\, harp \nTickets\, here.
URL:https://www.ludwig-van.com/toronto/event/toronto-symphony-orchestra-gimeno-conducts-daphnis-et-chloe/2019-10-09/
LOCATION:Roy Thomson Hall\, 60 Simcoe St\, Toronto\, Ontario\, M5J 2H5\, Canada
CATEGORIES:Orchestra
ATTACH;FMTTYPE=image/jpeg:https://www.ludwig-van.com/toronto/wp-content/uploads/sites/2/2018/09/Gustavo-Gimeno-@-Marco-Borggreve.jpg
END:VEVENT
END:VCALENDAR