BEGIN:VCALENDAR
VERSION:2.0
PRODID:-//Ludwig van Toronto - ECPv5.9.1//NONSGML v1.0//EN
CALSCALE:GREGORIAN
METHOD:PUBLISH
X-WR-CALNAME:Ludwig van Toronto
X-ORIGINAL-URL:https://www.ludwig-van.com/toronto
X-WR-CALDESC:Events for Ludwig van Toronto
BEGIN:VTIMEZONE
TZID:America/Toronto
BEGIN:DAYLIGHT
TZOFFSETFROM:-0500
TZOFFSETTO:-0400
TZNAME:EDT
DTSTART:20190310T070000
END:DAYLIGHT
BEGIN:STANDARD
TZOFFSETFROM:-0400
TZOFFSETTO:-0500
TZNAME:EST
DTSTART:20191103T060000
END:STANDARD
END:VTIMEZONE
BEGIN:VEVENT
DTSTART;TZID=America/Toronto:20191007T200000
DTEND;TZID=America/Toronto:20191007T220000
DTSTAMP:20260424T040258
CREATED:20191007T122833Z
LAST-MODIFIED:20191007T122833Z
UID:62960-1570478400-1570485600@www.ludwig-van.com
SUMMARY:Stereo Live Presents |The Rosebud String Quartet
DESCRIPTION:Program: \nJ. Haydn; String Quartet in B-flat major\, opus 76 no. 4\, “Sunrise”\nE. Schulhoff; Five Pieces for String Quartet\nIntermission\nG. Puccini; I Crisantemi for String Quartet\nB. Britten; String Quartet No. 1 in D major \nThe Rosebud Quartet was formed in 2013 in Rosebud\, Alberta at the inaugural Rosebud Chamber Music Festival\, an annual summertime showcase of chamber music in rural Alberta. Based in Toronto during the year\, the quartet appears regularly at various festivals and series\, including the Richard Bradshaw Amphitheatre Chamber Music Series\, Stereo Live\, Echo Chamber Toronto\, the Ottawa Chamber Music Festival\, Music by the Sea in Bamfield\, British Columbia\, the Stratford Summer Music Festival\, as well as each summer at the Rosebud Chamber Music Festival. The group is comprised of violinists Aaron Schwebel (Concertmaster\, National Ballet of Canada; Associate Concertmaster\, Canadian Opera Company) and Sheila Jaffe (Principal Viola\, National Ballet of Canada; Viola\, Canadian Opera Company)\, violist Keith Hamm (Principal Viola\, Canadian Opera Company)\, and cellist Leana Rutt (Principal Cello\, Canadian Opera Company). \nFor this program\, we are honoured to have guest Violist Steven Dann\, former Principal Viola of the Toronto Symphony Orchestra\, member of the Axelrod Quartet\, ARC Ensemble\, Zebra Trio\, faculty at GGS\, and Chamber Music Coordinator at Domaine Forget and Music by the Sea in Bamfield\, British Columbia.
URL:https://www.ludwig-van.com/toronto/event/stereo-live-presents-rosebud-string-quartet/
LOCATION:Campbell House\, 160 Queen St. West\, Toronto\, ON\, M5H 3H3\, Canada
CATEGORIES:Chamber music
ATTACH;FMTTYPE=image/jpeg:https://www.ludwig-van.com/toronto/wp-content/uploads/sites/2/2019/10/Rosebud-String-Quartet.jpg
GEO:43.6510271;-79.3872656
X-APPLE-STRUCTURED-LOCATION;VALUE=URI;X-ADDRESS=Campbell House 160 Queen St. West Toronto ON M5H 3H3 Canada;X-APPLE-RADIUS=500;X-TITLE=160 Queen St. West:geo:-79.3872656,43.6510271
END:VEVENT
END:VCALENDAR