BEGIN:VCALENDAR
VERSION:2.0
PRODID:-//Ludwig van Toronto - ECPv5.9.1//NONSGML v1.0//EN
CALSCALE:GREGORIAN
METHOD:PUBLISH
X-WR-CALNAME:Ludwig van Toronto
X-ORIGINAL-URL:https://www.ludwig-van.com/toronto
X-WR-CALDESC:Events for Ludwig van Toronto
BEGIN:VTIMEZONE
TZID:America/Toronto
BEGIN:DAYLIGHT
TZOFFSETFROM:-0500
TZOFFSETTO:-0400
TZNAME:EDT
DTSTART:20190310T070000
END:DAYLIGHT
BEGIN:STANDARD
TZOFFSETFROM:-0400
TZOFFSETTO:-0500
TZNAME:EST
DTSTART:20191103T060000
END:STANDARD
END:VTIMEZONE
BEGIN:VEVENT
DTSTART;TZID=America/Toronto:20191004T193000
DTEND;TZID=America/Toronto:20191004T213000
DTSTAMP:20260424T085209
CREATED:20190921T023807Z
LAST-MODIFIED:20190921T023807Z
UID:62549-1570217400-1570224600@www.ludwig-van.com
SUMMARY:Opera by Request |  OperOttawa: Bizet's Pearl Fishers
DESCRIPTION:Opera by Request hosts OperOttawa in Bizet’s Pearl Fishers\, Friday\, October 4\, 7:30pm\, College St. United Church\, 452 College St. (Bathurst).  All tickets $20.00.  For reservations and information phone 416 455-2365. \nLeila……………..Cristina Pisani\, soprano\nNadir…………….Robert Martin\, tenor\nZurga…………….Norman E. Brown\, baritone\nNourabad……..John Holland\, baritone \nClaire Harris\, piano
URL:https://www.ludwig-van.com/toronto/event/opera-request-operottawa-bizets-pearl-fishers/
LOCATION:College St. United Church\, 452 College St\, Toronto\, Ontario\, M6G 1A1\, Canada
CATEGORIES:opera
ATTACH;FMTTYPE=image/jpeg:https://www.ludwig-van.com/toronto/wp-content/uploads/sites/2/2018/06/Opera-By-Request.jpg
GEO:43.6566764;-79.4081527
X-APPLE-STRUCTURED-LOCATION;VALUE=URI;X-ADDRESS=College St. United Church 452 College St Toronto Ontario M6G 1A1 Canada;X-APPLE-RADIUS=500;X-TITLE=452 College St:geo:-79.4081527,43.6566764
END:VEVENT
END:VCALENDAR