BEGIN:VCALENDAR
VERSION:2.0
PRODID:-//Ludwig van Toronto - ECPv5.9.1//NONSGML v1.0//EN
CALSCALE:GREGORIAN
METHOD:PUBLISH
X-WR-CALNAME:Ludwig van Toronto
X-ORIGINAL-URL:https://www.ludwig-van.com/toronto
X-WR-CALDESC:Events for Ludwig van Toronto
BEGIN:VTIMEZONE
TZID:America/Toronto
BEGIN:DAYLIGHT
TZOFFSETFROM:-0500
TZOFFSETTO:-0400
TZNAME:EDT
DTSTART:20190310T070000
END:DAYLIGHT
BEGIN:STANDARD
TZOFFSETFROM:-0400
TZOFFSETTO:-0500
TZNAME:EST
DTSTART:20191103T060000
END:STANDARD
END:VTIMEZONE
BEGIN:VEVENT
DTSTART;TZID=America/Toronto:20191002T120000
DTEND;TZID=America/Toronto:20191002T130000
DTSTAMP:20260424T115806
CREATED:20190921T015747Z
LAST-MODIFIED:20190921T015747Z
UID:62522-1570017600-1570021200@www.ludwig-van.com
SUMMARY:Canadian Opera Company | Free Concert Series: The Art of Song
DESCRIPTION:VOCAL SERIES \nDramatic soprano Marjorie Owens (title role in the COC’s Turandot) has been praised for her “star quality and strong dramatic presence” (Opera News). Joined by Michael Shannon on piano\, she demonstrates the full range of her “voice of silken softness as well as laser-focused volume” (Washington Classical Review) in a recital of song that includes the heroic and unmistakable music of Richard Strauss.
URL:https://www.ludwig-van.com/toronto/event/canadian-opera-company-free-concert-series-art-song/
LOCATION:Richard Bradshaw Amphitheatre\, Four Seasons Centre for the Performing Arts\, 145 Queen St. W.\, Toronto\, M5V 2A9
CATEGORIES:Free,Vocal
ATTACH;FMTTYPE=image/png:https://www.ludwig-van.com/toronto/wp-content/uploads/sites/2/2014/03/Canadian_Opera_Company_2011.png
END:VEVENT
BEGIN:VEVENT
DTSTART;TZID=America/Toronto:20191002T190000
DTEND;TZID=America/Toronto:20191002T210000
DTSTAMP:20260424T115806
CREATED:20190929T231542Z
LAST-MODIFIED:20190929T231542Z
UID:62794-1570042800-1570050000@www.ludwig-van.com
SUMMARY:University of Toronto Faculty of Music | The Calidore String Quartet
DESCRIPTION:The Calidore String Quartet\, violinists Jeffrey Myers and Ryan Meehan\, violist Jeremy Berry and cellist Estelle Choi\, perform Ludwig van Beethoven string quartets Op. 74 (Harp)\, Op. 18 No. 2\, and Op. 131. \n7:30 pm in Walter Hall\, 80 Queen’s Park \n$40\, $25 senior\, $10 student\nU of T students admitted free with a valid TCard\, space permitting. \nTickets\, here. \nThe Calidore String Quartet is the James D. Stewart Quartet-in-Residence.
URL:https://www.ludwig-van.com/toronto/event/university-toronto-faculty-music-calidore-string-quartet-2/
LOCATION:Walter Hall\, 80 Queens Park\, Toronto\, ON\, M5S 2C5\, Canada
CATEGORIES:Chamber music
ATTACH;FMTTYPE=image/jpeg:https://www.ludwig-van.com/toronto/wp-content/uploads/sites/2/2016/03/uoftlogo2_3.jpg
GEO:43.666508;-79.3944708
X-APPLE-STRUCTURED-LOCATION;VALUE=URI;X-ADDRESS=Walter Hall 80 Queens Park Toronto ON M5S 2C5 Canada;X-APPLE-RADIUS=500;X-TITLE=80 Queens Park:geo:-79.3944708,43.666508
END:VEVENT
BEGIN:VEVENT
DTSTART;TZID=America/Toronto:20191002T193000
DTEND;TZID=America/Toronto:20191002T213000
DTSTAMP:20260424T115806
CREATED:20190921T015200Z
LAST-MODIFIED:20190921T015200Z
UID:62516-1570044600-1570051800@www.ludwig-van.com
SUMMARY:Fall for Dance North | Program 1
DESCRIPTION:A signature mix of exceptional dance from Canada and around the world. \nPROGRAM 1: \n“A signature mix of exceptional dance from Canada and around the world” \nToronto Dance Theatre (Toronto)\n“GH 5.0” by Hanna Kiel\, with live music by Greg Harrison \n“Against a wall of sound\, they ride the edge of risk. Athletic. Kinetic.”\n_ \nThe New Zealand Dance Company (New Zealand)\n“Sigan” by KIM Jae Duk\, with live music \n“Two\, then four\, these dancers spar in symmetries and synchronies\, cutting the space with acidic precision while a digital beacon persistently sounds.”\n_ \nSkånes Dansteater (Sweden)\n“Dare to Wreck” by Madeleine Månsson and Peder Nilsson \n“Phases of us\, always in tension. Magnetic necessity\, together … alone.”\n_ \nGrupo Corpo (Brazil)\n“Dança Sinfônica” by Rodrigo Pederneiras \n“A choreographic signature\, written in motion\, crossing the stage from left to right\, looping and reversing. We see it penned again and again: Grupo Corpo.”
URL:https://www.ludwig-van.com/toronto/event/fall-dance-north-program-1/2019-10-02/
LOCATION:Meridian Hall (formerly Sony Centre)\, 1 Front Street East\, Toronto\, M5E 1B2\, Canada
CATEGORIES:Dance,Festival
ATTACH;FMTTYPE=image/jpeg:https://www.ludwig-van.com/toronto/wp-content/uploads/sites/2/2019/09/Fall-for-Dance-North.jpg
GEO:43.6464823;-79.376082
X-APPLE-STRUCTURED-LOCATION;VALUE=URI;X-ADDRESS=Meridian Hall (formerly Sony Centre) 1 Front Street East Toronto M5E 1B2 Canada;X-APPLE-RADIUS=500;X-TITLE=1 Front Street East:geo:-79.376082,43.6464823
END:VEVENT
END:VCALENDAR