BEGIN:VCALENDAR
VERSION:2.0
PRODID:-//Ludwig van Toronto - ECPv5.9.1//NONSGML v1.0//EN
CALSCALE:GREGORIAN
METHOD:PUBLISH
X-WR-CALNAME:Ludwig van Toronto
X-ORIGINAL-URL:https://www.ludwig-van.com/toronto
X-WR-CALDESC:Events for Ludwig van Toronto
BEGIN:VTIMEZONE
TZID:America/Toronto
BEGIN:DAYLIGHT
TZOFFSETFROM:-0500
TZOFFSETTO:-0400
TZNAME:EDT
DTSTART:20190310T070000
END:DAYLIGHT
BEGIN:STANDARD
TZOFFSETFROM:-0400
TZOFFSETTO:-0500
TZNAME:EST
DTSTART:20191103T060000
END:STANDARD
END:VTIMEZONE
BEGIN:VEVENT
DTSTART;TZID=America/Toronto:20190930T193000
DTEND;TZID=America/Toronto:20190930T213000
DTSTAMP:20260424T152523
CREATED:20190929T230058Z
LAST-MODIFIED:20190929T230058Z
UID:62792-1569871800-1569879000@www.ludwig-van.com
SUMMARY:University of Toronto Faculty of Music | Chamber Music Series: Nathalie Paulin
DESCRIPTION:Soprano Nathalie Paulin and pianist Steven Philcox present a program inspired by Messiaen’s Chants de Terre et de Ciel (1938)\, a deeply personal song cycle celebrating the birth of Olivier Messiaen’s son in 1937. \nU of T students admitted free with a valid TCard\, space permitting. \nTickets\, here. \n 
URL:https://www.ludwig-van.com/toronto/event/university-toronto-faculty-music-chamber-music-series-nathalie-paulin/
LOCATION:Walter Hall\, 80 Queens Park\, Toronto\, ON\, M5S 2C5\, Canada
CATEGORIES:Chamber music,Vocal
ATTACH;FMTTYPE=image/jpeg:https://www.ludwig-van.com/toronto/wp-content/uploads/sites/2/2016/09/nathaliepaulin_365sq.jpg
GEO:43.666508;-79.3944708
X-APPLE-STRUCTURED-LOCATION;VALUE=URI;X-ADDRESS=Walter Hall 80 Queens Park Toronto ON M5S 2C5 Canada;X-APPLE-RADIUS=500;X-TITLE=80 Queens Park:geo:-79.3944708,43.666508
END:VEVENT
END:VCALENDAR