BEGIN:VCALENDAR
VERSION:2.0
PRODID:-//Ludwig van Toronto - ECPv5.9.1//NONSGML v1.0//EN
CALSCALE:GREGORIAN
METHOD:PUBLISH
X-WR-CALNAME:Ludwig van Toronto
X-ORIGINAL-URL:https://www.ludwig-van.com/toronto
X-WR-CALDESC:Events for Ludwig van Toronto
BEGIN:VTIMEZONE
TZID:America/Toronto
BEGIN:DAYLIGHT
TZOFFSETFROM:-0500
TZOFFSETTO:-0400
TZNAME:EDT
DTSTART:20190310T070000
END:DAYLIGHT
BEGIN:STANDARD
TZOFFSETFROM:-0400
TZOFFSETTO:-0500
TZNAME:EST
DTSTART:20191103T060000
END:STANDARD
END:VTIMEZONE
BEGIN:VEVENT
DTSTART;TZID=America/Toronto:20190929T160000
DTEND;TZID=America/Toronto:20190929T180000
DTSTAMP:20260424T165513
CREATED:20190921T022100Z
LAST-MODIFIED:20190921T022100Z
UID:62540-1569772800-1569780000@www.ludwig-van.com
SUMMARY:Elmer Iseler Singers | Sounds of the Festival: Parry Sound Comes to Toronto
DESCRIPTION:In the first Toronto series concert\, we will present the program set out at the opening concert of 40th anniversary of Parry Sound’s Festival of the Sound (which also coincided with our 40th anniversary year). \nThe program will include the Toronto Premiere of “The Sound – A Musical Evocation of Georgian Bay” by Eric Robertson\, text by Gary Michael Dault. \nThere will be a Prelude concert followed by refreshments at 2:00pm.
URL:https://www.ludwig-van.com/toronto/event/elmer-iseler-singers-sounds-festival-parry-sound-comes-toronto/
LOCATION:Eglinton St. George’s United Church\, 35 Lytton Blvd\, Toronto\, Ontario\, M4R 1L2\, Canada
CATEGORIES:Vocal
ATTACH;FMTTYPE=image/jpeg:https://www.ludwig-van.com/toronto/wp-content/uploads/sites/2/2016/09/Parry-Sound-Photo-Mark-Rash-2016.jpg
END:VEVENT
END:VCALENDAR