BEGIN:VCALENDAR
VERSION:2.0
PRODID:-//Ludwig van Toronto - ECPv5.9.1//NONSGML v1.0//EN
CALSCALE:GREGORIAN
METHOD:PUBLISH
X-WR-CALNAME:Ludwig van Toronto
X-ORIGINAL-URL:https://www.ludwig-van.com/toronto
X-WR-CALDESC:Events for Ludwig van Toronto
BEGIN:VTIMEZONE
TZID:America/Toronto
BEGIN:DAYLIGHT
TZOFFSETFROM:-0500
TZOFFSETTO:-0400
TZNAME:EDT
DTSTART:20190310T070000
END:DAYLIGHT
BEGIN:STANDARD
TZOFFSETFROM:-0400
TZOFFSETTO:-0500
TZNAME:EST
DTSTART:20191103T060000
END:STANDARD
END:VTIMEZONE
BEGIN:VEVENT
DTSTART;TZID=America/Toronto:20190928T160000
DTEND;TZID=America/Toronto:20190928T183000
DTSTAMP:20260424T184713
CREATED:20190923T121703Z
LAST-MODIFIED:20190923T121703Z
UID:62649-1569686400-1569695400@www.ludwig-van.com
SUMMARY:Toronto Operetta Theatre | Viva La Zarzuela
DESCRIPTION:The fire and passion of the bolero\, seguidilla and flamenco conjure an exotic vision of Spain and Latin America… dazzling entertainment in a whole new dimension!
URL:https://www.ludwig-van.com/toronto/event/toronto-operetta-theatre-viva-la-zarzuela/
LOCATION:St. Lawrence Centre for the Arts\, 27 Front St East\, Toronto\, ON\, M5E 1B4\, Canada
CATEGORIES:opera
ATTACH;FMTTYPE=image/jpeg:https://www.ludwig-van.com/toronto/wp-content/uploads/sites/2/2017/10/Toronto-Operetta-Theatre-Logo.jpg
GEO:43.6473468;-79.3750764
X-APPLE-STRUCTURED-LOCATION;VALUE=URI;X-ADDRESS=St. Lawrence Centre for the Arts 27 Front St East Toronto ON M5E 1B4 Canada;X-APPLE-RADIUS=500;X-TITLE=27 Front St East:geo:-79.3750764,43.6473468
END:VEVENT
BEGIN:VEVENT
DTSTART;TZID=America/Toronto:20190928T193000
DTEND;TZID=America/Toronto:20190928T220000
DTSTAMP:20260424T184713
CREATED:20190921T012849Z
LAST-MODIFIED:20190930T130712Z
UID:62494-1569699000-1569708000@www.ludwig-van.com
SUMMARY:Canadian Opera Company | Turandot
DESCRIPTION:TURANDOT\nGiacomo Puccini \nSEPTEMBER 28 TO OCTOBER 27\, 2019\n\nFour Seasons Centre for the Performing Arts\n\nPerformance time is approximately two hours and 25 minutes\, including one intermission.\n\nCAST AND CREATIVE TEAMS \n  \nConductor Carlo Rizzi\nDirector\, Design\, and Lighting Concept Robert Wilson\nCo-Director Nicola Panzer\nAssistant Directors Fani Sarantari & Marilyn Gronsdal\nCo-Set Designer Stephanie Engeln\nCostume Designer Jacques Reynaud\nAssistant Costume Designer Davide Boni\nCo-Lighting Designers John Torres\nMake-up Designer Manu Halligan\nDramaturg José Enrique Macián\nVideo Artist Tomek Jeziorski \nPrice Family Chorus Master Sandra Horst\nProduction Consultant Richard Lee \nTurandot Tamara Wilson/Marjorie Owens*\nCalaf Sergey Skorokhodov/Kamen Chanev*\nLiù Joyce El-Khoury***/Vanessa Vasquez**\nTimur David Leigh/Önay Köse*\nJim/Ping Adrian Timpau\nBob/Pang Julius Ahn\nBill/Pong Joseph Hu\nEmperor Altoum Adrian Thompson\nThe Mandarin Joel Allison\nThe Prince of Persia Matthew Cairns \n*Oct. 23\, 25\, 2019\n**Oct. 15\, 17\, 23\, 25\, 2019\n***Sept. 28\, Oct. 4\, 9\, 19\, 27\, 2019
URL:https://www.ludwig-van.com/toronto/event/canadian-opera-company-turandot/2019-09-28/
LOCATION:Four Seasons Centre\, 145 Queen St. W.\, Toronto\, Ontario\, M5H 4G1\, Canada
CATEGORIES:opera
ATTACH;FMTTYPE=image/jpeg:https://www.ludwig-van.com/toronto/wp-content/uploads/sites/2/2019/09/Turandot-COC-image-2.jpg
END:VEVENT
BEGIN:VEVENT
DTSTART;TZID=America/Toronto:20190928T193000
DTEND;TZID=America/Toronto:20190928T213000
DTSTAMP:20260424T184713
CREATED:20190923T122040Z
LAST-MODIFIED:20190923T122040Z
UID:62651-1569699000-1569706200@www.ludwig-van.com
SUMMARY:University of Toronto Faculty of Music | What Makes It Great? U of T Symphony Orchestra with Rob Kapilow
DESCRIPTION:Conductor Rob Kapilow\, this year’s Wilma and Clifford Smith Visitor in Music\, presents Beethoven’s Symphony No. 7 with the U of T Symphony Orchestra. \n7:30 pm in MacMillan Theatre\, 80 Queen’s Park \nWhat Makes It Great?®\nFor over 20 years\, Rob Kapilow has brought the joy and wonder of classical music – and unravelled some of its mysteries – to audiences of all ages and backgrounds. Characterized by his unique ability to create an “aha” moment for his audiences and collaborators\, whatever their level of musical sophistication or naiveté\, Kapilow’s work brings music into people’s lives: opening new ears to musical experiences and helping people to listen actively rather than just hear.
URL:https://www.ludwig-van.com/toronto/event/university-toronto-faculty-music-makes-great-u-t-symphony-orchestra-rob-kapilow/
LOCATION:MacMillan Theatre\, 80 Queens Park\, Toronto\, Ontario\, M5S 2C5\, Canada
CATEGORIES:Orchestra
ATTACH;FMTTYPE=image/jpeg:https://www.ludwig-van.com/toronto/wp-content/uploads/sites/2/2017/10/TSO-Rob-Kapilow.jpg
GEO:43.666508;-79.3944708
X-APPLE-STRUCTURED-LOCATION;VALUE=URI;X-ADDRESS=MacMillan Theatre 80 Queens Park Toronto Ontario M5S 2C5 Canada;X-APPLE-RADIUS=500;X-TITLE=80 Queens Park:geo:-79.3944708,43.666508
END:VEVENT
END:VCALENDAR