BEGIN:VCALENDAR
VERSION:2.0
PRODID:-//Ludwig van Toronto - ECPv5.9.1//NONSGML v1.0//EN
CALSCALE:GREGORIAN
METHOD:PUBLISH
X-WR-CALNAME:Ludwig van Toronto
X-ORIGINAL-URL:https://www.ludwig-van.com/toronto
X-WR-CALDESC:Events for Ludwig van Toronto
BEGIN:VTIMEZONE
TZID:America/Toronto
BEGIN:DAYLIGHT
TZOFFSETFROM:-0500
TZOFFSETTO:-0400
TZNAME:EDT
DTSTART:20190310T070000
END:DAYLIGHT
BEGIN:STANDARD
TZOFFSETFROM:-0400
TZOFFSETTO:-0500
TZNAME:EST
DTSTART:20191103T060000
END:STANDARD
END:VTIMEZONE
BEGIN:VEVENT
DTSTART;TZID=America/Toronto:20190919T200000
DTEND;TZID=America/Toronto:20190919T220000
DTSTAMP:20260425T102258
CREATED:20190909T143822Z
LAST-MODIFIED:20190909T143822Z
UID:62218-1568923200-1568930400@www.ludwig-van.com
SUMMARY:Toronto Symphony Orchestra | Dynamic Duo: Hannigan & Storgårds
DESCRIPTION:A doubly dramatic opening! Barbara Hannigan conducts Beethoven’s overture to Goethe’s play\, Haydn’s inventive orchestral showpiece\, and\, with John Storgårds as soloist\, a Dutilleux nocturne. Then\, Storgårds conducts the symphony that marked the turning point of Sibelius’s composing style\, as well as Brett Dean’s re-examination of Shakespeare’s ill-fated heroine\, sung by Hannigan. (Pictured: Barbara Hannigan\, conductor and soprano\, and John Storgårds\, conductor and violin) \nPerformances are roughly two hours long\, including a 20-minute intermission. Join TSO Chief Executive Officer Matthew Loden\, composer Brett Dean\, and librettist Matthew Jocelyn for an intermission chat in the Roy Thomson Hall lobby! \nTickets\, here.
URL:https://www.ludwig-van.com/toronto/event/toronto-symphony-orchestra-dynamic-duo-hannigan-storgards/2019-09-19/
LOCATION:Roy Thomson Hall\, 60 Simcoe St\, Toronto\, Ontario\, M5J 2H5\, Canada
CATEGORIES:Orchestra
ATTACH;FMTTYPE=image/jpeg:https://www.ludwig-van.com/toronto/wp-content/uploads/sites/2/2019/09/DYNAMIC-DUO-HANNIGAN-STORGÅRDS.jpg
END:VEVENT
BEGIN:VEVENT
DTSTART;TZID=America/Toronto:20190919T200000
DTEND;TZID=America/Toronto:20190919T220000
DTSTAMP:20260425T102258
CREATED:20190909T152858Z
LAST-MODIFIED:20190909T152858Z
UID:62239-1568923200-1568930400@www.ludwig-van.com
SUMMARY:Tafelmusik | Tafelmusik Meets Tchaikovsky
DESCRIPTION:Tafelmusik plays Tchaikovsky for the first time\, alongside inventive string symphonies by Mendelssohn. \nPre-concert Chat\nJoin us one hour before each concert for a free pre-concert chat with cellist\, gambist\, and researcher Kate Bennett Wadsworth. \nProgram \nMendelssohn Sinfoniesatz in C Minor (1823)\nMendelssohn String symphony no. 7 in D Minor (1821/22)\nMendelssohn Scherzo from A Midsummer Night’s Dream (1842)\, arranged by Carlo Citterio\nIntermission \nAndrew Balfour Pytor’s Dream (2019) – World premiere\nTchaikovsky Serenade for String Orchestra\, op. 48 (1880)\nConcert run time: approximately 2 hours\, including a 25-minute intermission. \nTickets\, here.
URL:https://www.ludwig-van.com/toronto/event/tafelmusik-tafelmusik-meets-tchaikovsky/2019-09-19/
LOCATION:Koerner Hall\, 273 Bloor St W\, \, Toronto\, ON\, M5S 1V6\, Canada
CATEGORIES:Orchestra,Period ensemble
ATTACH;FMTTYPE=image/jpeg:https://www.ludwig-van.com/toronto/wp-content/uploads/sites/2/2018/01/1718-Tafelmusik-Baroque-Orchestra-by-SianRichards.jpg
GEO:43.6679641;-79.3966795
X-APPLE-STRUCTURED-LOCATION;VALUE=URI;X-ADDRESS=Koerner Hall 273 Bloor St W  Toronto ON M5S 1V6 Canada;X-APPLE-RADIUS=500;X-TITLE=273 Bloor St W\,:geo:-79.3966795,43.6679641
END:VEVENT
END:VCALENDAR