BEGIN:VCALENDAR
VERSION:2.0
PRODID:-//Ludwig van Toronto - ECPv5.9.1//NONSGML v1.0//EN
CALSCALE:GREGORIAN
METHOD:PUBLISH
X-WR-CALNAME:Ludwig van Toronto
X-ORIGINAL-URL:https://www.ludwig-van.com/toronto
X-WR-CALDESC:Events for Ludwig van Toronto
BEGIN:VTIMEZONE
TZID:America/Toronto
BEGIN:DAYLIGHT
TZOFFSETFROM:-0500
TZOFFSETTO:-0400
TZNAME:EDT
DTSTART:20190310T070000
END:DAYLIGHT
BEGIN:STANDARD
TZOFFSETFROM:-0400
TZOFFSETTO:-0500
TZNAME:EST
DTSTART:20191103T060000
END:STANDARD
END:VTIMEZONE
BEGIN:VEVENT
DTSTART;TZID=America/Toronto:20190914T130000
DTEND;TZID=America/Toronto:20190914T140000
DTSTAMP:20260425T192903
CREATED:20190909T145616Z
LAST-MODIFIED:20190909T145616Z
UID:62229-1568466000-1568469600@www.ludwig-van.com
SUMMARY:Mysterious Barricades Toronto | Live Concert
DESCRIPTION:The Mysterious Barricades Concert Society hosts a series of 15 one-hour concerts across Canada between September 5th and September 14th to mark World Suicide Awareness Week. This concert series comprises of performances by some of Canada’s finest musicians and includes genres of classical\, choral\, jazz\, and more. \nPeople touched by suicide\, mental health professionals\, community figures\, politicians\, and ordinary Canadians stand up on this day to speak about mental health and suicide in hopes of reducing stigma and providing support. \nImagine a day when the barricades erected around the subjects of suicide and mental illness start to come down.\nImagine a day when hundreds of Canada’s finest musicians across the country join together to offer music of healing and hope to those in jeopardy\, and to those left behind.\nImagine a day when even one life might be saved as a result.\nImagine you\, joining with us\, to let everyone know their lives truly matter. \nTickets\nAll concerts are free to attend. However\, to ensure your place at the concert\, we encourage you to reserve a free ticket in advance. \nConcert organizer\nMonica Whicher \nSpeakers & Performers\nRussell Braun (baritone)\nNorine Burgess (mezzo-soprano)\nDr. Andrea Levinson (keynote speaker)\nJudy Loman (harp)\nCarolyn Maule (piano)\nThe Mysterious Barricades Toronto Chorale (directed by Tracy Wong)\nNathalie Paulin (soprano)\nTurkwaz (Jayne Brown\, Sophia Grigoriadis\, Maryem Tollar)\nMonica Whicher (soprano)\nJialiang Zhu (piano)
URL:https://www.ludwig-van.com/toronto/event/mysterious-barricades-toronto-live-concert/
LOCATION:Walter Hall\, 80 Queens Park\, Toronto\, ON\, M5S 2C5\, Canada
CATEGORIES:Chamber music,Vocal
ATTACH;FMTTYPE=image/jpeg:https://www.ludwig-van.com/toronto/wp-content/uploads/sites/2/2019/09/66916612_849740462066333_4777899848328282112_o.jpg
GEO:43.666508;-79.3944708
X-APPLE-STRUCTURED-LOCATION;VALUE=URI;X-ADDRESS=Walter Hall 80 Queens Park Toronto ON M5S 2C5 Canada;X-APPLE-RADIUS=500;X-TITLE=80 Queens Park:geo:-79.3944708,43.666508
END:VEVENT
BEGIN:VEVENT
DTSTART;TZID=America/Toronto:20190914T180000
DTEND;TZID=America/Toronto:20190914T220000
DTSTAMP:20260425T192903
CREATED:20190909T151252Z
LAST-MODIFIED:20190909T151252Z
UID:62233-1568484000-1568498400@www.ludwig-van.com
SUMMARY:Piano Lunaire/Rainhard Brewery | Harvest Moon Vinyl Album Launch: Romance from the Coda
DESCRIPTION:Adam Sherkin launches his latest album\, ROMANCE FROM THE CODA\, released exclusively on 12-inch vinyl. This record features works for piano by Franz Liszt\, Frédéric Chopin and Sergei Rachmaninoff as well as spoken word in German by Friedrich Schiller (read by Elisabeth Bihl) and in English David James Brock\, (reading his own monologues\, as companion pieces to Chopin’s scherzi\, “Gallows Humour.”) \nSave the date and join us for this unique performance event. Rainhard Brewing Co. will be pouring signature beers to purchase and to pair with the musical fare. Copies of the new record from Microforum Vinyl Record Pressing will be available and David James Brock will be onsite to perform his poetry. Arrive early for a prime spot to catch the solo piano performance\, generously sponsored by Yamaha Canada Music. \nAdmission does remain free but a donation is suggested\, at $15. Please make this in advance\, HERE: \nhttps://www.universe.com/events/the-piano-lunaire-harvest-moon-tickets-toronto-NQH68C \n?? \nNOTE: Early start time and NEW VENUE! \nSaturday\, September 14th at 6:00\nRainhard Brewery \n100 Symes rd\, unit 108\nToronto\, ON M6N 3T1\nTel: 416-763-BEER (2337)\nE-mail: Info@rainhardbrewing.com\nEvent contact: mallory@rainhardbrewing.com \nhttps://rainhardbrewing.com
URL:https://www.ludwig-van.com/toronto/event/piano-lunairerainhard-brewery-harvest-moon-vinyl-album-launch-romance-coda/
LOCATION:Rainhard Brewery\, 100 Symes rd\, unit 108\, Toronto\, Ontario\, M6N 3T1\, Canada
CATEGORIES:piano
ATTACH;FMTTYPE=image/jpeg:https://www.ludwig-van.com/toronto/wp-content/uploads/sites/2/2016/02/Adam-Sherkin-Website-Listing-Image-180-dpi-15-16-Season.jpg
END:VEVENT
END:VCALENDAR