BEGIN:VCALENDAR
VERSION:2.0
PRODID:-//Ludwig Van Montreal - ECPv5.9.1//NONSGML v1.0//EN
CALSCALE:GREGORIAN
METHOD:PUBLISH
X-WR-CALNAME:Ludwig Van Montreal
X-ORIGINAL-URL:https://www.ludwig-van.com/montreal
X-WR-CALDESC:évènements pour Ludwig Van Montreal
BEGIN:VTIMEZONE
TZID:America/Toronto
BEGIN:DAYLIGHT
TZOFFSETFROM:-0500
TZOFFSETTO:-0400
TZNAME:EDT
DTSTART:20230312T070000
END:DAYLIGHT
BEGIN:STANDARD
TZOFFSETFROM:-0400
TZOFFSETTO:-0500
TZNAME:EST
DTSTART:20231105T060000
END:STANDARD
END:VTIMEZONE
BEGIN:VEVENT
DTSTART;TZID=America/Toronto:20230507T150000
DTEND;TZID=America/Toronto:20230507T163000
DTSTAMP:20260419T120333
CREATED:20221218T222504Z
LAST-MODIFIED:20221218T222504Z
UID:74493-1683471600-1683477000@www.ludwig-van.com
SUMMARY:Pro Musica | Sur la route - Kleztory
DESCRIPTION:L’ensemble montréalais Kleztory incarne avec passion et virtuosité\, depuis plus de 20 ans\, la musique originaire des shtetlech – petits villages ou quartiers de l’Europe de l’Est en yiddish. Cet ensemble regroupe une riche mosaïque composée d’influences culturelles variées\, de formations différentes\, le tout bercé d’orientations musicales éclectiques (classique\, contemporain\, jazz\, blues\, traditionnelle\, country et folk). \nUnissant leurs talents\, les musiciens jouent avec une émotion et une virtuosité qui sont dans le véritable esprit de la musique klezmer. Grâce à des arrangements innovants\, mais respectueux des compositions originales\, l’ensemble Kleztory s’est forgé\, au cours des années\, un parcours musical unique et authentique\, acclamé pour leurs performances électrisantes. Figurant parmi les meilleurs ensembles de musique Klezmer sur la scène internationale\, Kleztory a entrepris un joyeux et incroyable périple il y a 20 ans. Depuis lors\, le quintette montréalais\, souvent invité en solo par de nombreux orchestres\, adonné plus de 1000 concerts au Canada\, aux Etats-Unis\, aux Pays-Bas\, en France\, en Allemagne\, en Autriche\, en Belgique\, en Roumanie\, au Brésil\, au Mexique\, en Norvège\, en Suisse\, en Hongrie\, au Costa rica et en Chine. \nLeur spectacle exaltant\, empreint d’humour\, débordant d’énergie et chargé d’émotion\, ne manquera pas de vous réjouir!
URL:https://www.ludwig-van.com/montreal/event/pro-musica-sur-la-route-kleztory/
LOCATION:Centre Culturel St-John\, 593 Rue Shefford\, Bromont Bromont\, QC\, Bromont\, Québec\, J2L 1C2\, Canada
CATEGORIES:World Music
ATTACH;FMTTYPE=image/jpeg:https://www.ludwig-van.com/montreal/wp-content/uploads/sites/3/2022/12/Photo-couleurs_KLEZTORY_credit_Sergei-Bergan-1200.jpg
ORGANIZER;CN="Soci%C3%A9t%C3%A9%20Pro%20Musica":MAILTO:concerts@promusica.qc.ca
GEO:45.3191374;-72.6517041
X-APPLE-STRUCTURED-LOCATION;VALUE=URI;X-ADDRESS=Centre Culturel St-John 593 Rue Shefford Bromont Bromont QC Bromont Québec J2L 1C2 Canada;X-APPLE-RADIUS=500;X-TITLE=593 Rue Shefford\, Bromont Bromont\, QC:geo:-72.6517041,45.3191374
END:VEVENT
END:VCALENDAR