BEGIN:VCALENDAR
VERSION:2.0
PRODID:-//Ludwig Van Montreal - ECPv5.9.1//NONSGML v1.0//EN
CALSCALE:GREGORIAN
METHOD:PUBLISH
X-WR-CALNAME:Ludwig Van Montreal
X-ORIGINAL-URL:https://www.ludwig-van.com/montreal
X-WR-CALDESC:évènements pour Ludwig Van Montreal
BEGIN:VTIMEZONE
TZID:America/Toronto
BEGIN:DAYLIGHT
TZOFFSETFROM:-0500
TZOFFSETTO:-0400
TZNAME:EDT
DTSTART:20210314T070000
END:DAYLIGHT
BEGIN:STANDARD
TZOFFSETFROM:-0400
TZOFFSETTO:-0500
TZNAME:EST
DTSTART:20211107T060000
END:STANDARD
END:VTIMEZONE
BEGIN:VEVENT
DTSTART;TZID=America/Toronto:20210618T210000
DTEND;TZID=America/Toronto:20210618T220000
DTSTAMP:20260425T102109
CREATED:20210618T125104Z
LAST-MODIFIED:20210618T125104Z
UID:67050-1624050000-1624053600@www.ludwig-van.com
SUMMARY:Festival Montréal baroque - Contre vents et marées
DESCRIPTION:Une soirée de tempêtes\, vents et marées grâce à la musique figurative arrangée pour et par les musiciens du quatuor de Flûte Alors !
URL:https://www.ludwig-van.com/montreal/event/festival-montreal-baroque-contre-vents-marees/
LOCATION:Théâtre Rialto\, 5711\, du Parc\, Quebec\, H2V4H2\, Canada
CATEGORIES:Period ensemble
ATTACH;FMTTYPE=image/jpeg:https://www.ludwig-van.com/montreal/wp-content/uploads/sites/3/2018/11/Flûte-Alors-Julien-Faugère.jpg
END:VEVENT
END:VCALENDAR