BEGIN:VCALENDAR
VERSION:2.0
PRODID:-//Ludwig Van Montreal - ECPv5.9.1//NONSGML v1.0//EN
CALSCALE:GREGORIAN
METHOD:PUBLISH
X-WR-CALNAME:Ludwig Van Montreal
X-ORIGINAL-URL:https://www.ludwig-van.com/montreal
X-WR-CALDESC:évènements pour Ludwig Van Montreal
BEGIN:VTIMEZONE
TZID:America/Toronto
BEGIN:DAYLIGHT
TZOFFSETFROM:-0500
TZOFFSETTO:-0400
TZNAME:EDT
DTSTART:20200308T070000
END:DAYLIGHT
BEGIN:STANDARD
TZOFFSETFROM:-0400
TZOFFSETTO:-0500
TZNAME:EST
DTSTART:20201101T060000
END:STANDARD
END:VTIMEZONE
BEGIN:VEVENT
DTSTART;TZID=America/Toronto:20201224T193000
DTEND;TZID=America/Toronto:20201231T233000
DTSTAMP:20260419T214041
CREATED:20201210T183257Z
LAST-MODIFIED:20201210T190400Z
UID:65527-1608838200-1609457400@www.ludwig-van.com
SUMMARY:Le CIOC fête Noël
DESCRIPTION:Webdiffusion\n  \nCélébrez la veille de Noël en compagnie du Concours international d’orgue du Canada\, au son de mélodies connues ou à découvrir! \nMaison symphonique – 19 h 30 heure de Montréal – Disponible pendant une semaine \n  \n  \nProgramme du concert\nNicolas de Grigny (1672-1703)\nLivre d’orgue (extraits) :\nAve Maris Stella\nDialogue sur les grands jeux \nJohn Grew\, orgue\nSalle Redpath\, Université McGill\, Montréal \nHarold Darke (1888-1976)\nIn the Bleak Midwinter \nKimberley Lynch\, soprano solo\nThomas Leslie\, ténor solo\nSarah Bissonnette\, mezzo-soprano\nAlexander Ross\, ténor\nTimothy Wilfong\, basse \nAdrian Foster\, orgue\nMaison symphonique\, Montréal \nAdrian Foster (né en 1988)\nConditor Alme Siderum \nAdrian Foster\, orgue\nMaison symphonique\, Montréal \nPiotr Ilitch Tchaïkovski (1840-1893)\nDanse de la fée Dragée (extrait de “Casse-Noisette”) \nJean-Willy Kunz\, orgue\n“Bach-mobile” \nPeter Cornelius (1824-1874)\nDie Könige (extrait de “Weihnachtslieder” op. 8) \nThomas Leslie\, ténor\nJean-Willy Kunz\, orgue\nMaison symphonique\, Montréal \nPeter Cornelius (1824-1874)\nDie Hirten (extrait de “Weihnachtslieder” op. 8) \nThomas Leslie\, ténor\nJean-Willy Kunz\, orgue\nMaison symphonique\, Montréal \nPiotr Ilitch Tchaïkovski (1840-1893)\nDanse des mirlitons (extrait de “Casse-Noisette”) \nJean-Willy Kunz\, orgue\n“Bach-mobile” \n— Entracte — \nJacques Duphly (1715-1789)\nPièces de clavecin\, Livre 4 (extraits) :\nLa de Drummond\nLa Pothoüin \nHeather Clark\, clavecin (Yves Beaupré 2002 d’après Johann Heinrich Gräbner) \nJoel Peters (né en 1988)\nBlocks on Blocks \nJoel Peters\, orgue\nMaison symphonique\, Montréal \nAdrian Foster (né en 1988)\nLes faibles lumières du lointain \nAdrian Foster\, orgue\nMaison symphonique\, Montréal \nTraditionnel\nAdeste fideles (arr. Andrea Bocelli) \nThomas Leslie\, ténor solo\nKimberley Lynch\, soprano\nSarah Bissonnette\, mezzo-soprano\nAlexander Ross\, ténor\nTimothy Wilfong\, basse\nParker Bert\, timbales\nJean-Willy Kunz\, orgue\nMaison symphonique\, Montréal \nSiegfried Strohbach (1929-2019)\nMaria durch ein Dornwald ging \nKimberley Lynch\, soprano\nSarah Bissonnette\, mezzo-soprano\nJoel Peters\, orgue\nMaison symphonique\, Montréal \nAdolphe Adam (1803-1856)\nMinuit\, Chrétiens (arr. Dudley Buck) \nThomas Leslie\, ténor solo\nKimberley Lynch\, soprano\nSarah Bissonnette\, mezzo-soprano\nAlexander Ross\, ténor\nTimothy Wilfong\, basse\nParker Bert\, timbales\nJean-Willy Kunz\, orgue\nMaison symphonique\, Montréal \nLe Grand Orgue Pierre-Béique a été généreusement offert à l’OSM par Madame Jacqueline Desmarais. \n  \n  \n 
URL:https://www.ludwig-van.com/montreal/event/cioc-fete-noel/
LOCATION:Maison Symphonique\, 1600 rue St-Urbain\, Montréal\, Québec\, H2S0X1\, Canada
CATEGORIES:Organ
ATTACH;FMTTYPE=image/jpeg:https://www.ludwig-van.com/montreal/wp-content/uploads/sites/3/2017/09/Orgue.jpg
ORGANIZER;CN="Concours%20International%20d%E2%80%99Orgue%20du%20Canada":MAILTO:info@ciocm.org
GEO:45.5310103;-73.613956
X-APPLE-STRUCTURED-LOCATION;VALUE=URI;X-ADDRESS=Maison Symphonique 1600 rue St-Urbain Montréal Québec H2S0X1 Canada;X-APPLE-RADIUS=500;X-TITLE=1600 rue St-Urbain:geo:-73.613956,45.5310103
END:VEVENT
END:VCALENDAR