BEGIN:VCALENDAR
VERSION:2.0
PRODID:-//Ludwig Van Montreal - ECPv5.9.1//NONSGML v1.0//EN
CALSCALE:GREGORIAN
METHOD:PUBLISH
X-WR-CALNAME:Ludwig Van Montreal
X-ORIGINAL-URL:https://www.ludwig-van.com/montreal
X-WR-CALDESC:évènements pour Ludwig Van Montreal
BEGIN:VTIMEZONE
TZID:America/Toronto
BEGIN:DAYLIGHT
TZOFFSETFROM:-0500
TZOFFSETTO:-0400
TZNAME:EDT
DTSTART:20200308T070000
END:DAYLIGHT
BEGIN:STANDARD
TZOFFSETFROM:-0400
TZOFFSETTO:-0500
TZNAME:EST
DTSTART:20201101T060000
END:STANDARD
END:VTIMEZONE
BEGIN:VEVENT
DTSTART;TZID=America/Toronto:20201210T193000
DTEND;TZID=America/Toronto:20201217T233000
DTSTAMP:20260419T214446
CREATED:20201210T180942Z
LAST-MODIFIED:20201210T181732Z
UID:65520-1607628600-1608247800@www.ludwig-van.com
SUMMARY:Festival Bach & CIOC - Noël au Canada #1
DESCRIPTION:Webdiffusion\n  \n  \nDe Montréal jusqu’aux Prairies canadiennes\, en passant par Toronto\, dix artistes se rassemblent pour vous offrir un concert de Noël sur certains des orgues les plus emblématiques du Canada. \nProgramme du concert\nAlexandre Guilmant (1837-1911)\nOffertoire sur deux Noëls \nPatricia Wright\, orgue\nMetropolitan United Church\, Toronto \nJacobus Kloppers (né en 1937)\nSilent Night\, Joy to the World\, Huron Carol \nDuo Majoya\, orgue à 4 mains\nWest End Christian Reformed Church\, Edmonton \nCarson Cooman (né en 1982)\nIn the Light (pour orgue et piano) \nDuo Majoya\, orgue et piano\nWest End Christian Reformed Church\, Edmonton \nAnton Heiller (1923-1979)\nEs ist ein Ros’ entsprungen \nAaron James\, orgue\nChurch of the Holy Family\, Toronto \nJohann Sebastian Bach (1685-1750)\nPrélude et fugue en sol majeur BWV 550 \nMária Budáčová\, orgue\nÉglise Saint-Jean-Baptiste\, Montréal \nJohann Sebastian Bach (1685-1750)\nEt exultavit spiritus meus (extrait du “Magnificat” BWV 243) \nKimberley Lynch\, soprano\nAdrian Foster\, orgue\nMaison symphonique\, Montréal \n— Entracte — \nJohannes Brahms (1833-1897)\nEs ist ein Ros’ entsprungen \nJoel Peters\, orgue\nMaison symphonique\, Montréal \nArvo Pärt (né en 1935)\nKuus Kuus Kallike \nKimberley Lynch\, soprano\nSarah Bissonnette\, mezzo-soprano\nJoel Peters\, orgue\nMaison symphonique\, Montréal \nTraditionnel\nHoliday Medley for Organ (arr. Sarah Svendsen) \nSarah Svendsen\, orgue\nMetropolitan United Church\, Toronto \nGabriel Pierné (1863-1937)\nMarche des petits soldats de plomb (éd. Albert E. Wier\, éd. additionnelle Sarah Svendsen) \nSarah Svendsen\, orgue\nMetropolitan United Church\, Toronto \nJohann Sebastian Bach (1685-1750)\nNun komm der Heiden Heiland BWV 661 \nSarah Svendsen\, orgue\nMetropolitan United Church\, Toronto \nCharles-Marie Widor (1844-1937)\nSymphonie pour orgue no. 9 op. 70 “Gothique” (extrait : Final) \nJohn Paul Farahat\, orgue\nSt. Basil’s Church\, Toronto \nLe Grand Orgue Pierre-Béique a été généreusement offert à l’OSM par Madame Jacqueline Desmarais.
URL:https://www.ludwig-van.com/montreal/event/festival-bach-cioc-noel-canada/
CATEGORIES:Organ
ATTACH;FMTTYPE=image/jpeg:https://www.ludwig-van.com/montreal/wp-content/uploads/sites/3/2017/09/Orgue.jpg
ORGANIZER;CN="Concours%20International%20d%E2%80%99Orgue%20du%20Canada":MAILTO:info@ciocm.org
END:VEVENT
END:VCALENDAR