BEGIN:VCALENDAR
VERSION:2.0
PRODID:-//Ludwig Van Montreal - ECPv5.9.1//NONSGML v1.0//EN
CALSCALE:GREGORIAN
METHOD:PUBLISH
X-WR-CALNAME:Ludwig Van Montreal
X-ORIGINAL-URL:https://www.ludwig-van.com/montreal
X-WR-CALDESC:évènements pour Ludwig Van Montreal
BEGIN:VTIMEZONE
TZID:America/Toronto
BEGIN:DAYLIGHT
TZOFFSETFROM:-0500
TZOFFSETTO:-0400
TZNAME:EDT
DTSTART:20190310T070000
END:DAYLIGHT
BEGIN:STANDARD
TZOFFSETFROM:-0400
TZOFFSETTO:-0500
TZNAME:EST
DTSTART:20191103T060000
END:STANDARD
END:VTIMEZONE
BEGIN:VEVENT
DTSTART;TZID=America/Toronto:20191006T150000
DTEND;TZID=America/Toronto:20191006T170000
DTSTAMP:20260420T202958
CREATED:20190926T001515Z
LAST-MODIFIED:20190926T001515Z
UID:61459-1570374000-1570381200@www.ludwig-van.com
SUMMARY:OCM | L'art de l'orgue
DESCRIPTION:Nous vous offrons toute la majesté du Grand Orgue Pierre-Béique de la Maison symphonique\, en collaboration avec le Festival international d’orgue du Canada. Jean-Willy Kunz et Alcee Chriss\, organistes de renom\, viendront enrichir cette soirée au son aussi admirable que son répertoire. La direction musicale est assurée par Boris Brott et Roï Azoulay. \nAvec:\nJean-Willy Kunz & Alcee Chriss\, orgue\nGideon Zelermyer\, chantre\nLe choeur de la synagogue Shaar Hashomayim \nPrésentation concertante\, Maxime Goulet \nExtraits musicaux des Grandes Fêtes juives\nConcerto pour orgue (op. 4 no. 4)\, Handel\nConcerto grosso (op. 6 no. 5)\, Handel\nConcerto pour orgue\, cordes et timbales\, Poulenc
URL:https://www.ludwig-van.com/montreal/event/ocm-lart-de-lorgue/
LOCATION:Maison Symphonique\, 1600 rue St-Urbain\, Montréal\, Québec\, H2S0X1\, Canada
CATEGORIES:Orchestra,Organ,Vocal
ATTACH;FMTTYPE=image/jpeg:https://www.ludwig-van.com/montreal/wp-content/uploads/sites/3/2019/09/OCM_6-oct-2019_Banniere_redim-1.jpg
ORGANIZER;CN="Orchestre%20classique%20de%20Montr%C3%A9al%20%2F%20Montr%C3%A9al%20Classical%20Orchestra":MAILTO:info@ocm-mco.org
GEO:45.5310103;-73.613956
X-APPLE-STRUCTURED-LOCATION;VALUE=URI;X-ADDRESS=Maison Symphonique 1600 rue St-Urbain Montréal Québec H2S0X1 Canada;X-APPLE-RADIUS=500;X-TITLE=1600 rue St-Urbain:geo:-73.613956,45.5310103
END:VEVENT
END:VCALENDAR