BEGIN:VCALENDAR
VERSION:2.0
PRODID:-//Ludwig Van Montreal - ECPv5.9.1//NONSGML v1.0//EN
CALSCALE:GREGORIAN
METHOD:PUBLISH
X-WR-CALNAME:Ludwig Van Montreal
X-ORIGINAL-URL:https://www.ludwig-van.com/montreal
X-WR-CALDESC:évènements pour Ludwig Van Montreal
BEGIN:VTIMEZONE
TZID:America/Toronto
BEGIN:DAYLIGHT
TZOFFSETFROM:-0500
TZOFFSETTO:-0400
TZNAME:EDT
DTSTART:20190310T070000
END:DAYLIGHT
BEGIN:STANDARD
TZOFFSETFROM:-0400
TZOFFSETTO:-0500
TZNAME:EST
DTSTART:20191103T060000
END:STANDARD
END:VTIMEZONE
BEGIN:VEVENT
DTSTART;TZID=America/Toronto:20190505T153000
DTEND;TZID=America/Toronto:20190505T170000
DTSTAMP:20260421T042835
CREATED:20190413T220856Z
LAST-MODIFIED:20190413T220856Z
UID:59406-1557070200-1557075600@www.ludwig-van.com
SUMMARY:Oratoire Saint-Joseph | Concerts du dimanche : La Folia
DESCRIPTION:Série La Folia\nTous les dimanches à 15 h 30 – contribution à discrétion et projection sur écran géant. \n5 mai : Ensemble Maestria\, Anne Robert\, violon\, Sœur Angèle\, animation\nLes Quatre Saisons de Vivaldi \n12 mai : L’Ensemble Sinfonia de Montréal\, les Petits chanteurs du Mont-Royal\, Louis Lavigueur\, direction\nMusique française pour chœur\, orchestre et orgue \n2 juin : BlackWatch Pipes & Drums\nImprovisations sur des thèmes de cornemuses \n9 juin : Vincent Dubois (France)\, orgue et Marie-Andrée Joerger\, accordéon\nUn après-midi à Notre-Dame de Paris \n16 juin : Denis Plante\, bandonéon et Vincent Boucher\, orgue\nLe Tango de Piazzolla \n23 juin : Jean-Luc Thilien (France)\, orgue et Pierre Rancourt\, baryton\nImprovisations sur des chants du Québec \n30 juin : Stéphane Beaulac\, trompette et Vincent Boucher\, orgue\nTrumpet tunes
URL:https://www.ludwig-van.com/montreal/event/oratoire-saint-joseph-concerts-dimanche-folia/2019-05-05/
LOCATION:L’Oratoire Saint-Joseph du Mont-Royal\, 3800\, chemin Queen-Mary\, Montréal\, Québec\, H3V 1H6\, Canada
CATEGORIES:Organ,Vocal,World Music
ATTACH;FMTTYPE=image/jpeg:https://www.ludwig-van.com/montreal/wp-content/uploads/sites/3/2019/04/La-Folia-2019-OSJ.jpeg
ORGANIZER;CN="L%27Oratoire%20Saint-Joseph%20du%20Mont-Royal":MAILTO:info@osj.qc.ca
GEO:45.4921716;-73.616944
X-APPLE-STRUCTURED-LOCATION;VALUE=URI;X-ADDRESS=L’Oratoire Saint-Joseph du Mont-Royal 3800 chemin Queen-Mary Montréal Québec H3V 1H6 Canada;X-APPLE-RADIUS=500;X-TITLE=3800\, chemin Queen-Mary:geo:-73.616944,45.4921716
END:VEVENT
END:VCALENDAR