BEGIN:VCALENDAR
VERSION:2.0
PRODID:-//Ludwig Van Montreal - ECPv5.9.1//NONSGML v1.0//EN
CALSCALE:GREGORIAN
METHOD:PUBLISH
X-WR-CALNAME:Ludwig Van Montreal
X-ORIGINAL-URL:https://www.ludwig-van.com/montreal
X-WR-CALDESC:évènements pour Ludwig Van Montreal
BEGIN:VTIMEZONE
TZID:America/Toronto
BEGIN:DAYLIGHT
TZOFFSETFROM:-0500
TZOFFSETTO:-0400
TZNAME:EDT
DTSTART:20190310T070000
END:DAYLIGHT
BEGIN:STANDARD
TZOFFSETFROM:-0400
TZOFFSETTO:-0500
TZNAME:EST
DTSTART:20191103T060000
END:STANDARD
END:VTIMEZONE
BEGIN:VEVENT
DTSTART;TZID=America/Toronto:20190413T200000
DTEND;TZID=America/Toronto:20190413T220000
DTSTAMP:20260421T055304
CREATED:20190308T210707Z
LAST-MODIFIED:20190308T210707Z
UID:59114-1555185600-1555192800@www.ludwig-van.com
SUMMARY:Quatuor Bozzini | Salon Budapest — Zoltán Jeney
DESCRIPTION:Le Quatuor Bozzini accueille le compositeur hongrois Zoltan Jeney pour un concert portrait inédit de ses œuvres pour cordes\, piano et orgue. 22 musiciens montréalais se joindront au quatuor pour interpréter en création canadienne une œuvre pour 25 instruments à cordes\, sous la direction du compositeur. Ce concert est un voyage au cœur d’une musique dépouillée et d’une grande quiétude\, souvent qualifiée de minimaliste. \nPARTICIPANTS\nQuatuor Bozzini (Clemens Merkel; Alissa Cheung; Stéphanie Bozzini; Isabelle Bozzini)\nZoltán Jeney\, chef\nÉtudiants du Cégep Saint-Laurent\, violon \nPROGRAMME \nZoltán Jeney\, something found (1981)\npiano\, orgue / harmonium et au moins cinq instruments mélodiques \nZoltán Jeney\, something like (1980)\nvingt-cinq / altos \nZoltán Jeney\, something round (1975)\nvingt-cinq / altos \nRégulier: 25\,00$\nAîné: 15\,00$\nÉtudiant: 15\,00$\nArtiste: 15\,00$
URL:https://www.ludwig-van.com/montreal/event/quatuor-bozzini-salon-budapest-zoltan-jeney/
LOCATION:Salle de concert du Conservatoire\, 4750 av Henri-Julien\, Montréal\, Québec\, H2T 2C8\, Canada
CATEGORIES:Cello,Contemporary Music,Organ,piano,viola,Violin
ATTACH;FMTTYPE=image/jpeg:https://www.ludwig-van.com/montreal/wp-content/uploads/sites/3/2018/05/Quatuor-Bozzini-2-Crédit-Michael-Slobodian-1.jpg
ORGANIZER;CN="Quatuor%20Bozzini":MAILTO:projet@quatuorbozzini.ca
GEO:45.523812;-73.5865519
X-APPLE-STRUCTURED-LOCATION;VALUE=URI;X-ADDRESS=Salle de concert du Conservatoire 4750 av Henri-Julien Montréal Québec H2T 2C8 Canada;X-APPLE-RADIUS=500;X-TITLE=4750 av Henri-Julien:geo:-73.5865519,45.523812
END:VEVENT
END:VCALENDAR