BEGIN:VCALENDAR
VERSION:2.0
PRODID:-//Ludwig Van Montreal - ECPv5.9.1//NONSGML v1.0//EN
CALSCALE:GREGORIAN
METHOD:PUBLISH
X-WR-CALNAME:Ludwig Van Montreal
X-ORIGINAL-URL:https://www.ludwig-van.com/montreal
X-WR-CALDESC:évènements pour Ludwig Van Montreal
BEGIN:VTIMEZONE
TZID:America/Toronto
BEGIN:DAYLIGHT
TZOFFSETFROM:-0500
TZOFFSETTO:-0400
TZNAME:EDT
DTSTART:20190310T070000
END:DAYLIGHT
BEGIN:STANDARD
TZOFFSETFROM:-0400
TZOFFSETTO:-0500
TZNAME:EST
DTSTART:20191103T060000
END:STANDARD
END:VTIMEZONE
BEGIN:VEVENT
DTSTART;TZID=America/Toronto:20190113T153000
DTEND;TZID=America/Toronto:20190113T170000
DTSTAMP:20260421T104222
CREATED:20190114T225242Z
LAST-MODIFIED:20190114T225242Z
UID:58250-1547393400-1547398800@www.ludwig-van.com
SUMMARY:Oratoire Saint-Joseph | Série NouvelleGénération.orgue
DESCRIPTION:Tous les dimanches dans la basilique à 15 h 30 – contribution à discrétion et projection sur écran géant. \n13 Janvier : Hans-Ola Ericsson (Suède)\n20 janvier: Julien Girard (France)\n27 janvier: Helen Tucker (Canada)\n3 février: Vincent Boucher\n10 février: Christian Lane (États-Unis)\n17 février: Isaac Drewes (États-Unis) – Gagnant du concours Lynnwood Farnham 2017\n24 février: Bach\, Beatles\, Brady : 150 guitares à l’Oratoire
URL:https://www.ludwig-van.com/montreal/event/oratoire-saint-joseph-serie-nouvellegeneration-orgue/2019-01-13/
LOCATION:L’Oratoire Saint-Joseph du Mont-Royal\, 3800\, chemin Queen-Mary\, Montréal\, Québec\, H3V 1H6\, Canada
CATEGORIES:Contemporary Music,Organ
ATTACH;FMTTYPE=image/jpeg:https://www.ludwig-van.com/montreal/wp-content/uploads/sites/3/2019/01/oratoire-concerts-Nouvellegeneration.jpg
ORGANIZER;CN="L%27Oratoire%20Saint-Joseph%20du%20Mont-Royal":MAILTO:info@osj.qc.ca
GEO:45.4921716;-73.616944
X-APPLE-STRUCTURED-LOCATION;VALUE=URI;X-ADDRESS=L’Oratoire Saint-Joseph du Mont-Royal 3800 chemin Queen-Mary Montréal Québec H3V 1H6 Canada;X-APPLE-RADIUS=500;X-TITLE=3800\, chemin Queen-Mary:geo:-73.616944,45.4921716
END:VEVENT
END:VCALENDAR