BEGIN:VCALENDAR
VERSION:2.0
PRODID:-//Ludwig Van Montreal - ECPv5.9.1//NONSGML v1.0//EN
CALSCALE:GREGORIAN
METHOD:PUBLISH
X-WR-CALNAME:Ludwig Van Montreal
X-ORIGINAL-URL:https://www.ludwig-van.com/montreal
X-WR-CALDESC:évènements pour Ludwig Van Montreal
BEGIN:VTIMEZONE
TZID:America/Toronto
BEGIN:DAYLIGHT
TZOFFSETFROM:-0500
TZOFFSETTO:-0400
TZNAME:EDT
DTSTART:20180311T070000
END:DAYLIGHT
BEGIN:STANDARD
TZOFFSETFROM:-0400
TZOFFSETTO:-0500
TZNAME:EST
DTSTART:20181104T060000
END:STANDARD
END:VTIMEZONE
BEGIN:VEVENT
DTSTART;TZID=America/Toronto:20181223T150000
DTEND;TZID=America/Toronto:20181223T170000
DTSTAMP:20260421T124025
CREATED:20180730T224903Z
LAST-MODIFIED:20180730T224903Z
UID:55708-1545577200-1545584400@www.ludwig-van.com
SUMMARY:Orchestre et Chœur Métropolitain | Tous en chœur
DESCRIPTION:En compagnie du Chœur Métropolitain dirigé par François A. Ouimet et Pierre Tourville\, découvrez le mystère puis la joie de la cantate Rejoice in the Lamb de Britten et l’espérance qui émane de la Messe en ré majeur de Dvořák\, ici présentée dans sa version originale pour chœur et orgue. Yannick Nézet-Séguin vous lance une invitation toute spéciale : sous sa direction\, joignez-vous aux choristes du Chœur Métropolitain pour entonner vos cantiques favoris. \nCHEFS DE CHŒUR\nFrançois A. Ouimet & Pierre Tourville \nAVEC DES SOLISTES DE\nl’Atelier lyrique de l’Opéra de Montréal \nPARTICIPATION SPÉCIALE DE\nYannick Nézet-Séguin \nCHŒUR MUSIQUE-ÉTUDES SECONDAIRE\nÉcole de musique Vincent-d’Indy \nORGUE\nVincent Boucher \nOEUVRES\nBRITTEN\, A Ceremony of Carols (extraits)\nBRITTEN\, Rejoice in the Lamb\nDVOŘÁK\, Messe en ré majeur\nCantiques de Noël
URL:https://www.ludwig-van.com/montreal/event/orchestre-choeur-metropolitain-choeur/
LOCATION:Maison Symphonique\, 1600 rue St-Urbain\, Montréal\, Québec\, H2S0X1\, Canada
CATEGORIES:Holiday,Orchestra,Organ,Vocal
ATTACH;FMTTYPE=image/jpeg:https://www.ludwig-van.com/montreal/wp-content/uploads/sites/3/2018/06/Orchestre-metropolitain_Choeur_OM-refaite.jpg
ORGANIZER;CN="Orchestre%20M%C3%A9tropolitain":MAILTO:billets@placedesarts.com
GEO:45.5310103;-73.613956
X-APPLE-STRUCTURED-LOCATION;VALUE=URI;X-ADDRESS=Maison Symphonique 1600 rue St-Urbain Montréal Québec H2S0X1 Canada;X-APPLE-RADIUS=500;X-TITLE=1600 rue St-Urbain:geo:-73.613956,45.5310103
END:VEVENT
END:VCALENDAR