BEGIN:VCALENDAR
VERSION:2.0
PRODID:-//Ludwig Van Montreal - ECPv5.9.1//NONSGML v1.0//EN
CALSCALE:GREGORIAN
METHOD:PUBLISH
X-WR-CALNAME:Ludwig Van Montreal
X-ORIGINAL-URL:https://www.ludwig-van.com/montreal
X-WR-CALDESC:évènements pour Ludwig Van Montreal
BEGIN:VTIMEZONE
TZID:America/Toronto
BEGIN:DAYLIGHT
TZOFFSETFROM:-0500
TZOFFSETTO:-0400
TZNAME:EDT
DTSTART:20180311T070000
END:DAYLIGHT
BEGIN:STANDARD
TZOFFSETFROM:-0400
TZOFFSETTO:-0500
TZNAME:EST
DTSTART:20181104T060000
END:STANDARD
END:VTIMEZONE
BEGIN:VEVENT
DTSTART;TZID=America/Toronto:20181209T150000
DTEND;TZID=America/Toronto:20181209T180000
DTSTAMP:20260421T123420
CREATED:20181120T225848Z
LAST-MODIFIED:20181120T225848Z
UID:57617-1544367600-1544378400@www.ludwig-van.com
SUMMARY:Arte Musica | 39e Christmas Sing-In de la CBC – Chantons Noël !
DESCRIPTION:  \nFidèle à la tradition\, Arte Musica invite à la diffusion simultanée du concert de Noël présenté à l’église St.\nAndrew et St. Paul\, dans le cadre de la 39e édition de cette populaire célébration montréalaise. \nUn évènement produit par la CBC Montreal\, en collaboration avec l’église St. Andrew et St. Paul\, la Fondation\nArte Musica et le Musée des beaux-arts de Montréal. Les dons seront versés à un organisme de charité local. \nChoeur de l’Église St. Andrew et St. Paul\nEnsemble de cuivres et percussions du Sing-In\nJonathan Oldengarm\, orgue\nJean-Sébastien Vallée\, chef \nBillets CBC Chantons Noël\nLe samedi 24 novembre à 12 h 00\, vous pourrez réserver vos billets en ligne à Eventbrite.ca\nAllez sur Eventbrite.ca et tapez «CBC Sing-In 2018» dans le champs de recherche\nLa salle se remplira rapidement\, donc marquez vos calendriers pour le 24 novembre à 12 h 00 !
URL:https://www.ludwig-van.com/montreal/event/arte-musica-39e-christmas-sing-in-de-cbc-chantons-noel/
LOCATION:Salle Bourgie\, 1339 rue Sherbrooke Ouest\, Montréal\, Québec\, H3G 1G2\, Canada
CATEGORIES:Holiday,Organ,percussion,Vocal
ATTACH;FMTTYPE=image/jpeg:https://www.ludwig-van.com/montreal/wp-content/uploads/sites/3/2017/11/FAM-chantons-noel.jpg
GEO:45.4991991;-73.57963
X-APPLE-STRUCTURED-LOCATION;VALUE=URI;X-ADDRESS=Salle Bourgie 1339 rue Sherbrooke Ouest Montréal Québec H3G 1G2 Canada;X-APPLE-RADIUS=500;X-TITLE=1339 rue Sherbrooke Ouest:geo:-73.57963,45.4991991
END:VEVENT
BEGIN:VEVENT
DTSTART;TZID=America/Toronto:20181209T150000
DTEND;TZID=America/Toronto:20181209T170000
DTSTAMP:20260421T123420
CREATED:20181124T003752Z
LAST-MODIFIED:20181124T003752Z
UID:57754-1544367600-1544374800@www.ludwig-van.com
SUMMARY:Oratoire Saint-Joseph | Série Noëls à l'Oratoire
DESCRIPTION:Du 9 au 30 décembre 2018\nTous les dimanches à 15:30 – contribution à discrétion et projection sur écran géant. \n9 décembre : Aldéo Jean et le choeur Alarica\n16 décembre : Concert des PCMR avec Vincent Boucher\, orgue\n23 décembre : Le récit de la Nativité\, avec Jacques Boucher\n30 décembre : Noël improvisé avec Jean-Michel Grondin\, orgue et Pierre Rancourt\, baryton
URL:https://www.ludwig-van.com/montreal/event/oratoire-saint-joseph-noels-a-loratoire/2018-12-09/
LOCATION:L’Oratoire Saint-Joseph du Mont-Royal\, 3800\, chemin Queen-Mary\, Montréal\, Québec\, H3V 1H6\, Canada
CATEGORIES:Holiday,Organ,Vocal
ATTACH;FMTTYPE=image/jpeg:https://www.ludwig-van.com/montreal/wp-content/uploads/sites/3/2017/09/Oratoire-saint-joseph-le-temps-des-fetes-2018.jpg
ORGANIZER;CN="L%27Oratoire%20Saint-Joseph%20du%20Mont-Royal":MAILTO:info@osj.qc.ca
GEO:45.4921716;-73.616944
X-APPLE-STRUCTURED-LOCATION;VALUE=URI;X-ADDRESS=L’Oratoire Saint-Joseph du Mont-Royal 3800 chemin Queen-Mary Montréal Québec H3V 1H6 Canada;X-APPLE-RADIUS=500;X-TITLE=3800\, chemin Queen-Mary:geo:-73.616944,45.4921716
END:VEVENT
END:VCALENDAR