BEGIN:VCALENDAR
VERSION:2.0
PRODID:-//Ludwig Van Montreal - ECPv5.9.1//NONSGML v1.0//EN
CALSCALE:GREGORIAN
METHOD:PUBLISH
X-WR-CALNAME:Ludwig Van Montreal
X-ORIGINAL-URL:https://www.ludwig-van.com/montreal
X-WR-CALDESC:évènements pour Ludwig Van Montreal
BEGIN:VTIMEZONE
TZID:America/Toronto
BEGIN:DAYLIGHT
TZOFFSETFROM:-0500
TZOFFSETTO:-0400
TZNAME:EDT
DTSTART:20180311T070000
END:DAYLIGHT
BEGIN:STANDARD
TZOFFSETFROM:-0400
TZOFFSETTO:-0500
TZNAME:EST
DTSTART:20181104T060000
END:STANDARD
END:VTIMEZONE
BEGIN:VEVENT
DTSTART;TZID=America/Toronto:20181028T150000
DTEND;TZID=America/Toronto:20181028T170000
DTSTAMP:20260421T160434
CREATED:20181010T223339Z
LAST-MODIFIED:20181010T223339Z
UID:56739-1540738800-1540746000@www.ludwig-van.com
SUMMARY:CIOC | Festival des couleurs de l'orgue français avec Yves-G. Préfontaine
DESCRIPTION:Yves-G. Préfontaine\, titulaire de l’orgue de la Chapelle du Grand séminaire de Montréal présente la Messe solennelle à l’usage des paroisses de François Couperin\, dont nous célébrons l’anniversaire le 350e anniversaire de naissance. \nLivre d’orgue de Montréal (extraits)\nFrançois Couperin: Messe solennelle à l’usage des paroisses\n(avec la participation de Thomas Leslie\, ténor) \nSérie Festival des couleurs de l’orgue français\nPour la 24e année consécutive\, la chapelle du Grand Séminaire de Montréal accueille le Festival des couleurs de l’orgue français tous les dimanches d’octobre.Profitez de l’occasion pour pénétrer dans le Grand Séminaire de 1857 et découvrir la chapelle de Jean-Omer Marchand (1907)\, un des secrets les mieux gardés de Montréal\, et la voûte de l’abside ornée de la Présentation de la Vierge par Joseph Saint-Charles. \nPrix: Contribution volontaire
URL:https://www.ludwig-van.com/montreal/event/cioc-festival-couleurs-de-lorgue-francais-yves-g-prefontaine/
LOCATION:Grand Séminaire de Montréal\, 2065 Rue Sherbrooke O\, Montréal\, Québec\, H3H 1G6\, Canada
CATEGORIES:Organ,Vocal
ATTACH;FMTTYPE=image/png:https://www.ludwig-van.com/montreal/wp-content/uploads/sites/3/2018/10/Yves_Prefontaine_rond.png
ORGANIZER;CN="Concours%20International%20d%E2%80%99Orgue%20du%20Canada":MAILTO:info@ciocm.org
GEO:45.4934612;-73.5848685
X-APPLE-STRUCTURED-LOCATION;VALUE=URI;X-ADDRESS=Grand Séminaire de Montréal 2065 Rue Sherbrooke O Montréal Québec H3H 1G6 Canada;X-APPLE-RADIUS=500;X-TITLE=2065 Rue Sherbrooke O:geo:-73.5848685,45.4934612
END:VEVENT
BEGIN:VEVENT
DTSTART;TZID=America/Toronto:20181028T153000
DTEND;TZID=America/Toronto:20181028T170000
DTSTAMP:20260421T160434
CREATED:20181003T233118Z
LAST-MODIFIED:20181006T041705Z
UID:56664-1540740600-1540746000@www.ludwig-van.com
SUMMARY:Oratoire Saint-Joseph | Ces femmes qui jouent de l'orgue - Alexandra Fol
DESCRIPTION:Du 7 au 28 octobre inclusivement\, l’Oratoire Saint-Joseph du Mont-Royal présente un concert d’orgue chaque dimanche dans la basilique à 15:30. Contribution à discrétion et projection sur écran géant. \nL’organiste Alexandra Fol\, originaire de la Bulgarie\, donne le dernier récital de cette série le 28 octobre 2018. \nDétails et programmes complets des concerts du dimanche disponibles ici.
URL:https://www.ludwig-van.com/montreal/event/oratoire-saint-joseph-femmes-jouent-de-lorgue-alexandra-fol/
LOCATION:L’Oratoire Saint-Joseph du Mont-Royal\, 3800\, chemin Queen-Mary\, Montréal\, Québec\, H3V 1H6\, Canada
CATEGORIES:Organ
ATTACH;FMTTYPE=image/jpeg:https://www.ludwig-van.com/montreal/wp-content/uploads/sites/3/2017/09/OratoireSaintJoseph-orgue-ces-femmes-qui-jouent-2018.jpg
ORGANIZER;CN="L%27Oratoire%20Saint-Joseph%20du%20Mont-Royal":MAILTO:info@osj.qc.ca
GEO:45.4921716;-73.616944
X-APPLE-STRUCTURED-LOCATION;VALUE=URI;X-ADDRESS=L’Oratoire Saint-Joseph du Mont-Royal 3800 chemin Queen-Mary Montréal Québec H3V 1H6 Canada;X-APPLE-RADIUS=500;X-TITLE=3800\, chemin Queen-Mary:geo:-73.616944,45.4921716
END:VEVENT
END:VCALENDAR