BEGIN:VCALENDAR
VERSION:2.0
PRODID:-//Ludwig Van Montreal - ECPv5.9.1//NONSGML v1.0//EN
CALSCALE:GREGORIAN
METHOD:PUBLISH
X-WR-CALNAME:Ludwig Van Montreal
X-ORIGINAL-URL:https://www.ludwig-van.com/montreal
X-WR-CALDESC:évènements pour Ludwig Van Montreal
BEGIN:VTIMEZONE
TZID:America/Toronto
BEGIN:DAYLIGHT
TZOFFSETFROM:-0500
TZOFFSETTO:-0400
TZNAME:EDT
DTSTART:20180311T070000
END:DAYLIGHT
BEGIN:STANDARD
TZOFFSETFROM:-0400
TZOFFSETTO:-0500
TZNAME:EST
DTSTART:20181104T060000
END:STANDARD
END:VTIMEZONE
BEGIN:VEVENT
DTSTART;TZID=America/Toronto:20181019T193000
DTEND;TZID=America/Toronto:20181019T213000
DTSTAMP:20260421T160043
CREATED:20181006T050119Z
LAST-MODIFIED:20181006T050119Z
UID:56685-1539977400-1539984600@www.ludwig-van.com
SUMMARY:CIOC | Concert Gala: Rendez-vous des lauréats
DESCRIPTION:avec Alcée Chriss\, lauréat 2017 du CIOC;\nThomas Gaynor\, lauréat 2017 du Concours d’orgue de St. Albans;\nJoshua Stafford\, lauréat 2016 du Concours Longwood Gardens\nConcert diffusé sur écran géant \nExactement un an après sa victoire\, Alcée Chriss\, lauréat du Concours 2017 du CIOC\, est de retour aux claviers de l’orgue Casavant de la Basilique Notre-Dame! \nM. Chriss sera accompagné de deux autres lauréats de prestigieux concours internationaux : Joshua Stafford (États-Unis) gagnant du Concours Longwood Gardens 2017 et Thomas Gaynor (Nouvelle-Zélande) du Concours St. Albans 2016. Tous les trois sous les barres des 30 ans\, ils montreront au public montréalais l’exaltant avenir que nous réserve le monde de l’orgue. \nThomas Gaynor\nMARCHAND: Grand Dialogue du 5e ton\nLISZT: Lieberstraum no. 3\nSAINT-SAENS: Danse macabre \nJoshua Stafford\nBACH: Toccata en fa majeur\nCOCHEREAU: Berceuse à la mémoire de Louis Vierne\nDVORAK: Symphonie no. 8\, op. 88 \nAlcée Chriss III\nRACHMANINOV: Danses symphoniques\, op. 45\nBONNAL: Paysages euskariens\nTATUM: Tea for two\nDUPRÉ: Symphonie-Passion\, op. 23 \nPrix: 25$ achat d’avance – 30$ – 150$ \nLes billets Prestige avec cocktail donnent accès à des sièges réservés avec coussin lors du concert et précédé d’un cocktail dînatoire pré-concert à la succursale principale BMO devant la basilique.
URL:https://www.ludwig-van.com/montreal/event/cioc-concert-gala-rendez-laureats/
LOCATION:Basilique Notre-Dame\, 110 Rue Notre-Dame Ouest\, Montréal\, Québec\, H2Y1T2\, Canada
CATEGORIES:Organ
ATTACH;FMTTYPE=image/jpeg:https://www.ludwig-van.com/montreal/wp-content/uploads/sites/3/2017/11/Alcee-Chriss_web.jpg
ORGANIZER;CN="Concours%20International%20d%E2%80%99Orgue%20du%20Canada":MAILTO:info@ciocm.org
GEO:45.5044263;-73.5559176
X-APPLE-STRUCTURED-LOCATION;VALUE=URI;X-ADDRESS=Basilique Notre-Dame 110 Rue Notre-Dame Ouest Montréal Québec H2Y1T2 Canada;X-APPLE-RADIUS=500;X-TITLE=110 Rue Notre-Dame Ouest:geo:-73.5559176,45.5044263
END:VEVENT
END:VCALENDAR