BEGIN:VCALENDAR
VERSION:2.0
PRODID:-//Ludwig Van Montreal - ECPv5.9.1//NONSGML v1.0//EN
CALSCALE:GREGORIAN
METHOD:PUBLISH
X-WR-CALNAME:Ludwig Van Montreal
X-ORIGINAL-URL:https://www.ludwig-van.com/montreal
X-WR-CALDESC:évènements pour Ludwig Van Montreal
BEGIN:VTIMEZONE
TZID:America/Toronto
BEGIN:DAYLIGHT
TZOFFSETFROM:-0500
TZOFFSETTO:-0400
TZNAME:EDT
DTSTART:20180311T070000
END:DAYLIGHT
BEGIN:STANDARD
TZOFFSETFROM:-0400
TZOFFSETTO:-0500
TZNAME:EST
DTSTART:20181104T060000
END:STANDARD
END:VTIMEZONE
BEGIN:VEVENT
DTSTART;TZID=America/Toronto:20181007T150000
DTEND;TZID=America/Toronto:20181007T170000
DTSTAMP:20260421T160435
CREATED:20181006T045250Z
LAST-MODIFIED:20181006T045250Z
UID:56679-1538924400-1538931600@www.ludwig-van.com
SUMMARY:CIOC | Festival des couleurs de l'orgue français : Pascale Rouet
DESCRIPTION:Pascale Rouet entre au Conservatoire National Supérieur de Musique de Paris et\, en 1991\, est nommée co-titulaire de l’orgue Formentelli de l’abbatiale de Mouzon. Consciente de la richesse de la musique d’orgue des origines à nos jours\, elle essaie d’aborder un répertoire aussi étendu et varié que possible; sa discographie comprend une vingtaine d’enregistrements allant de la musique ancienne à celle d’aujourd’hui. \nJean-Joseph Mouret: Fanfares pour des trompettes\, timbales\, violons et hautbois (transcription P. Rouet)\nJan Pietersszoon Sweelinck: Le Songe de Jan Pieterszoon Sweelink (extraits)\nBruce Mather: Pièce pour membre no. 2\nMichel Boédec: Danses bretonnes\, Ridées 6 temps\, Gavotte de l’Avent\, Aleppian Circle\nJean-Pierre Leguay: Prélude no. 17\nPierre Du Mage: Livre d’orgue \nSérie Festival des couleurs de l’orgue français \nPour la 24e année consécutive\, la chapelle du Grand Séminaire de Montréal accueille le Festival des couleurs de l’orgue français tous les dimanches d’octobre.Profitez de l’occasion pour pénétrer dans le Grand Séminaire de 1857 et découvrir la chapelle de Jean-Omer Marchand (1907)\, un des secrets les mieux gardés de Montréal\, et la voûte de l’abside ornée de la Présentation de la Vierge par Joseph Saint-Charles.
URL:https://www.ludwig-van.com/montreal/event/cioc-festival-couleurs-de-lorgue-francais-pascale-rouet/
LOCATION:Grand Séminaire de Montréal\, 2065 Rue Sherbrooke O\, Montréal\, Québec\, H3H 1G6\, Canada
CATEGORIES:Organ
ATTACH;FMTTYPE=image/jpeg:https://www.ludwig-van.com/montreal/wp-content/uploads/sites/3/2018/10/Pascale_Rouet_cioc.jpg
ORGANIZER;CN="Concours%20International%20d%E2%80%99Orgue%20du%20Canada":MAILTO:info@ciocm.org
GEO:45.4934612;-73.5848685
X-APPLE-STRUCTURED-LOCATION;VALUE=URI;X-ADDRESS=Grand Séminaire de Montréal 2065 Rue Sherbrooke O Montréal Québec H3H 1G6 Canada;X-APPLE-RADIUS=500;X-TITLE=2065 Rue Sherbrooke O:geo:-73.5848685,45.4934612
END:VEVENT
BEGIN:VEVENT
DTSTART;TZID=America/Toronto:20181007T153000
DTEND;TZID=America/Toronto:20181007T170000
DTSTAMP:20260421T160435
CREATED:20181003T232124Z
LAST-MODIFIED:20181006T041933Z
UID:56658-1538926200-1538931600@www.ludwig-van.com
SUMMARY:Oratoire Saint-Joseph | Ces femmes qui jouent de l'orgue - Jennifer McPherson
DESCRIPTION:Du 7 au 28 octobre inclusivement\, l’Oratoire Saint-Joseph du Mont-Royal présente un concert d’orgue chaque dimanche dans la basilique à 15:30. Contribution à discrétion et projection sur écran géant. \nL’organiste Jennifer McPherson\, originaire des États-Unis\, donne le premier récital de cette série. \nDétails et programmes complets des concerts du dimanche disponibles ici.
URL:https://www.ludwig-van.com/montreal/event/oratoire-saint-joseph-femmes-jouent-de-lorgue-jennifer-mcpherson/
LOCATION:L’Oratoire Saint-Joseph du Mont-Royal\, 3800\, chemin Queen-Mary\, Montréal\, Québec\, H3V 1H6\, Canada
CATEGORIES:Organ
ATTACH;FMTTYPE=image/jpeg:https://www.ludwig-van.com/montreal/wp-content/uploads/sites/3/2017/09/OratoireSaintJoseph-orgue-ces-femmes-qui-jouent-2018.jpg
ORGANIZER;CN="L%27Oratoire%20Saint-Joseph%20du%20Mont-Royal":MAILTO:info@osj.qc.ca
GEO:45.4921716;-73.616944
X-APPLE-STRUCTURED-LOCATION;VALUE=URI;X-ADDRESS=L’Oratoire Saint-Joseph du Mont-Royal 3800 chemin Queen-Mary Montréal Québec H3V 1H6 Canada;X-APPLE-RADIUS=500;X-TITLE=3800\, chemin Queen-Mary:geo:-73.616944,45.4921716
END:VEVENT
END:VCALENDAR