BEGIN:VCALENDAR
VERSION:2.0
PRODID:-//Ludwig Van Montreal - ECPv5.9.1//NONSGML v1.0//EN
CALSCALE:GREGORIAN
METHOD:PUBLISH
X-WR-CALNAME:Ludwig Van Montreal
X-ORIGINAL-URL:https://www.ludwig-van.com/montreal
X-WR-CALDESC:évènements pour Ludwig Van Montreal
BEGIN:VTIMEZONE
TZID:America/Toronto
BEGIN:DAYLIGHT
TZOFFSETFROM:-0500
TZOFFSETTO:-0400
TZNAME:EDT
DTSTART:20180311T070000
END:DAYLIGHT
BEGIN:STANDARD
TZOFFSETFROM:-0400
TZOFFSETTO:-0500
TZNAME:EST
DTSTART:20181104T060000
END:STANDARD
END:VTIMEZONE
BEGIN:VEVENT
DTSTART;TZID=America/Toronto:20181006T113000
DTEND;TZID=America/Toronto:20181006T120000
DTSTAMP:20260421T160436
CREATED:20181003T231754Z
LAST-MODIFIED:20181003T231754Z
UID:56656-1538825400-1538827200@www.ludwig-van.com
SUMMARY:Oratoire Saint-Joseph | J'ai un ogre dans mon orgue !
DESCRIPTION:Un ogre mangeur de tuyaux s’est réfugié dans l’orgue. Quelle catastrophe! Aidez notre organiste à déloger l’intrus. \nSur fond d’histoire rocambolesque\, où l’enfant est invité à aider les musiciens à faire sonner l’instrument\, cet atelier offre quelques clés pour mieux comprendre le fonctionnement de l’orgue et d’en apprécier son répertoire. Les parents et les enfants sont conviés à prendre place à côté de l’orgue\, lieu d’accès rare\, pour voir l’instrument de près. \nJubé de l’orgue de la basilique à 10:00 (complet) et 11:30 \nCoût : gratuit – réservation recommandée. (Voir site)\nPublic cible: 3 à 10 ans\nDurée de l’atelier: 35 minutes\nLangue : français\nCollation offerte (jus et biscuits) \nEn collaboration avec la CIOC\nEn compagnie de Julie Daoust\, comédienne et Vincent Boucher\, organiste.
URL:https://www.ludwig-van.com/montreal/event/oratoire-saint-joseph-jai-ogre-orgue/
LOCATION:L’Oratoire Saint-Joseph du Mont-Royal\, 3800\, chemin Queen-Mary\, Montréal\, Québec\, H3V 1H6\, Canada
CATEGORIES:Kids,Organ
ATTACH;FMTTYPE=image/jpeg:https://www.ludwig-van.com/montreal/wp-content/uploads/sites/3/2017/09/OratoireSaintJoseph-journees-de-la-culture-2018-Ogre-dans-mon-orgue.jpg
ORGANIZER;CN="L%27Oratoire%20Saint-Joseph%20du%20Mont-Royal":MAILTO:info@osj.qc.ca
GEO:45.4921716;-73.616944
X-APPLE-STRUCTURED-LOCATION;VALUE=URI;X-ADDRESS=L’Oratoire Saint-Joseph du Mont-Royal 3800 chemin Queen-Mary Montréal Québec H3V 1H6 Canada;X-APPLE-RADIUS=500;X-TITLE=3800\, chemin Queen-Mary:geo:-73.616944,45.4921716
END:VEVENT
END:VCALENDAR