BEGIN:VCALENDAR
VERSION:2.0
PRODID:-//Ludwig Van Montreal - ECPv5.9.1//NONSGML v1.0//EN
CALSCALE:GREGORIAN
METHOD:PUBLISH
X-WR-CALNAME:Ludwig Van Montreal
X-ORIGINAL-URL:https://www.ludwig-van.com/montreal
X-WR-CALDESC:évènements pour Ludwig Van Montreal
BEGIN:VTIMEZONE
TZID:America/Toronto
BEGIN:DAYLIGHT
TZOFFSETFROM:-0500
TZOFFSETTO:-0400
TZNAME:EDT
DTSTART:20180311T070000
END:DAYLIGHT
BEGIN:STANDARD
TZOFFSETFROM:-0400
TZOFFSETTO:-0500
TZNAME:EST
DTSTART:20181104T060000
END:STANDARD
END:VTIMEZONE
BEGIN:VEVENT
DTSTART;TZID=America/Toronto:20180909T153000
DTEND;TZID=America/Toronto:20180909T170000
DTSTAMP:20260421T175821
CREATED:20180626T213827Z
LAST-MODIFIED:20180626T213827Z
UID:55058-1536507000-1536512400@www.ludwig-van.com
SUMMARY:Oratoire Saint-Joseph | Les concerts d'été : Jacquelin Rochette
DESCRIPTION:9 septembre : Jacquelin Rochette (Canada) \nSÉRIE LES CONCERTS D’ÉTÉ\nDu 15 juillet au 23 septembre 2018\nBasilique de l’Oratoire Saint-Joseph\nTous les dimanches à 15:30. Contribution à discrétion et projection sur écran géant.
URL:https://www.ludwig-van.com/montreal/event/oratoire-saint-joseph-concerts-dete-jacquelin-rochette/
LOCATION:L’Oratoire Saint-Joseph du Mont-Royal\, 3800\, chemin Queen-Mary\, Montréal\, Québec\, H3V 1H6\, Canada
CATEGORIES:Organ
ATTACH;FMTTYPE=image/jpeg:https://www.ludwig-van.com/montreal/wp-content/uploads/sites/3/2018/06/affiche-concerts-dete-2018.jpg
ORGANIZER;CN="L%27Oratoire%20Saint-Joseph%20du%20Mont-Royal":MAILTO:info@osj.qc.ca
GEO:45.4921716;-73.616944
X-APPLE-STRUCTURED-LOCATION;VALUE=URI;X-ADDRESS=L’Oratoire Saint-Joseph du Mont-Royal 3800 chemin Queen-Mary Montréal Québec H3V 1H6 Canada;X-APPLE-RADIUS=500;X-TITLE=3800\, chemin Queen-Mary:geo:-73.616944,45.4921716
END:VEVENT
END:VCALENDAR