BEGIN:VCALENDAR
VERSION:2.0
PRODID:-//Ludwig Van Montreal - ECPv5.9.1//NONSGML v1.0//EN
CALSCALE:GREGORIAN
METHOD:PUBLISH
X-WR-CALNAME:Ludwig Van Montreal
X-ORIGINAL-URL:https://www.ludwig-van.com/montreal
X-WR-CALDESC:évènements pour Ludwig Van Montreal
BEGIN:VTIMEZONE
TZID:America/Toronto
BEGIN:DAYLIGHT
TZOFFSETFROM:-0500
TZOFFSETTO:-0400
TZNAME:EDT
DTSTART:20180311T070000
END:DAYLIGHT
BEGIN:STANDARD
TZOFFSETFROM:-0400
TZOFFSETTO:-0500
TZNAME:EST
DTSTART:20181104T060000
END:STANDARD
END:VTIMEZONE
BEGIN:VEVENT
DTSTART;TZID=America/Toronto:20180824T200000
DTEND;TZID=America/Toronto:20180824T220000
DTSTAMP:20260421T200845
CREATED:20180716T021342Z
LAST-MODIFIED:20180716T021342Z
UID:55400-1535140800-1535148000@www.ludwig-van.com
SUMMARY:Ahuntsic en fugue | Dialogues de l'intime au grandiose
DESCRIPTION:Où nous serons tour à tour enveloppés par des émotions allant du majestueux à la délicatesse\, vivant des moments intenses et bouleversants. \nProgramme \nKiya TABASSIAN (1976- ) : Hymne à l’arrondissement «Mémoires d’Ahuntsic» (2017) \nClément JANEQUIN (1485-1558) : La guerre (1555) \nClaude DEBUSSY (1862-1918) : Clair de lune (1890)\nTrois chansons de Charles d’Orléans (1898):\n1. Dieu! qu’il la fait bon regarder!\n2. Quand j’ay ouy le tabourin\n3. Yver\, vous n’estes qu’un vilain \nJean CRAS (1879-1932) : Quintette pour flûte\, harpe et cordes (1928)\nI. Assez animé\nIV. Très animé \nGabriel FAURE (1845-1924) : Pavane (1887) \nAnton BRUCKNER (1824-1896) : Os Justi \nJohann Sebastian BACH (1685-1750) : Choral BWV 659: Viens\, Sauveur des païens (circa 1714) \nMaurice RAVEL (1875-1937) : Introduction et allegro pour flûte\, clarinette\, harpe et cordes \nMusiciens \nValérie MILOT\, harpe\nGeneviève DERASPE\, flûte\nHubert TANGUAY-LABROSSE\, clarinette\nMarc-André DORAN\, orgue\nQuatuor Ahuntsic\nAlexander READ\, violon\nJean-Sébastien ROY\, violon\nMarina THIBEAULT\, alto\nMariève BOCK\, violoncelle\nChoeur du Plateau\nDirection : Roseline Blain
URL:https://www.ludwig-van.com/montreal/event/ahuntsic-fugue-dialogues-de-lintime-grandiose/
LOCATION:Église de la Visitation\, 1847\, boul. Gouin Est\, Montréal\, Québec\, H2C 1C8\, Canada
CATEGORIES:Cello,Chamber music,Festival,Harp,Organ,viola,Violin,Vocal
ATTACH;FMTTYPE=image/jpeg:https://www.ludwig-van.com/montreal/wp-content/uploads/sites/3/2018/05/Image-4.jpg
ORGANIZER;CN="Concerts%20Ahuntsic%20en%20Fugue":MAILTO:concertsaenf@gmail.com
GEO:45.5706599;-73.661196
X-APPLE-STRUCTURED-LOCATION;VALUE=URI;X-ADDRESS=Église de la Visitation 1847 boul. Gouin Est Montréal Québec H2C 1C8 Canada;X-APPLE-RADIUS=500;X-TITLE=1847\, boul. Gouin Est:geo:-73.661196,45.5706599
END:VEVENT
END:VCALENDAR